BEGIN:VCALENDAR
VERSION:2.0
PRODID:-//Tech.Vegas - ECPv6.15.20//NONSGML v1.0//EN
CALSCALE:GREGORIAN
METHOD:PUBLISH
X-ORIGINAL-URL:https://tech.vegas
X-WR-CALDESC:Events for Tech.Vegas
REFRESH-INTERVAL;VALUE=DURATION:PT1H
X-Robots-Tag:noindex
X-PUBLISHED-TTL:PT1H
BEGIN:VTIMEZONE
TZID:America/Los_Angeles
BEGIN:DAYLIGHT
TZOFFSETFROM:-0800
TZOFFSETTO:-0700
TZNAME:PDT
DTSTART:20250309T100000
END:DAYLIGHT
BEGIN:STANDARD
TZOFFSETFROM:-0700
TZOFFSETTO:-0800
TZNAME:PST
DTSTART:20251102T090000
END:STANDARD
BEGIN:DAYLIGHT
TZOFFSETFROM:-0800
TZOFFSETTO:-0700
TZNAME:PDT
DTSTART:20260308T100000
END:DAYLIGHT
BEGIN:STANDARD
TZOFFSETFROM:-0700
TZOFFSETTO:-0800
TZNAME:PST
DTSTART:20261101T090000
END:STANDARD
BEGIN:DAYLIGHT
TZOFFSETFROM:-0800
TZOFFSETTO:-0700
TZNAME:PDT
DTSTART:20270314T100000
END:DAYLIGHT
BEGIN:STANDARD
TZOFFSETFROM:-0700
TZOFFSETTO:-0800
TZNAME:PST
DTSTART:20271107T090000
END:STANDARD
END:VTIMEZONE
BEGIN:VEVENT
DTSTART;TZID=America/Los_Angeles:20260206T190000
DTEND;TZID=America/Los_Angeles:20260206T220000
DTSTAMP:20260421T090035
CREATED:20260206T102849Z
LAST-MODIFIED:20260206T102849Z
UID:10006795-1770404400-1770415200@tech.vegas
SUMMARY:NOMA NEVADA SOCIAL: Let's Bowl!
DESCRIPTION:Get up-to-date information at: https://luma.com/dreek5ut\nAddress:\nWildfire Lanes (Bowling)\nHenderson\, Nevada\nUnited States\nKick off the year with strikes\, laughs\, and good vibes! Join us this February for our first social event of the year — a bowling night all about friendly competition and fun.\nWe’ll split into teams\, so whether you’re a seasoned bowler or just here for the food and laughs\, there’s a lane for you. Expect great company and good eats!\nCome roll with us and let’s show ‘em how we bowl!\nHosted by NOMA Nevada Events
URL:https://tech.vegas/event/noma-nevada-social-lets-bowl/
LOCATION:Wildfire Lanes (Bowling)\, 4451 E Sunset Rd\, Henderson\, NV\, United States
CATEGORIES:Technology
GEO:36.070976;-115.077394
X-APPLE-STRUCTURED-LOCATION;VALUE=URI;X-ADDRESS=Wildfire Lanes (Bowling) 4451 E Sunset Rd Henderson NV United States;X-APPLE-RADIUS=500;X-TITLE=4451 E Sunset Rd:geo:-115.077394,36.070976
END:VEVENT
END:VCALENDAR