BEGIN:VCALENDAR
VERSION:2.0
PRODID:-//Tech.Vegas - ECPv6.15.20//NONSGML v1.0//EN
CALSCALE:GREGORIAN
METHOD:PUBLISH
X-WR-CALNAME:Tech.Vegas
X-ORIGINAL-URL:https://tech.vegas
X-WR-CALDESC:Events for Tech.Vegas
REFRESH-INTERVAL;VALUE=DURATION:PT1H
X-Robots-Tag:noindex
X-PUBLISHED-TTL:PT1H
BEGIN:VTIMEZONE
TZID:America/Los_Angeles
BEGIN:DAYLIGHT
TZOFFSETFROM:-0800
TZOFFSETTO:-0700
TZNAME:PDT
DTSTART:20250309T100000
END:DAYLIGHT
BEGIN:STANDARD
TZOFFSETFROM:-0700
TZOFFSETTO:-0800
TZNAME:PST
DTSTART:20251102T090000
END:STANDARD
BEGIN:DAYLIGHT
TZOFFSETFROM:-0800
TZOFFSETTO:-0700
TZNAME:PDT
DTSTART:20260308T100000
END:DAYLIGHT
BEGIN:STANDARD
TZOFFSETFROM:-0700
TZOFFSETTO:-0800
TZNAME:PST
DTSTART:20261101T090000
END:STANDARD
BEGIN:DAYLIGHT
TZOFFSETFROM:-0800
TZOFFSETTO:-0700
TZNAME:PDT
DTSTART:20270314T100000
END:DAYLIGHT
BEGIN:STANDARD
TZOFFSETFROM:-0700
TZOFFSETTO:-0800
TZNAME:PST
DTSTART:20271107T090000
END:STANDARD
END:VTIMEZONE
BEGIN:VEVENT
DTSTART;TZID=America/Los_Angeles:20260227T160000
DTEND;TZID=America/Los_Angeles:20260227T180000
DTSTAMP:20260422T140423
CREATED:20260211T230436Z
LAST-MODIFIED:20260211T230436Z
UID:10006812-1772208000-1772215200@tech.vegas
SUMMARY:LaunchClub: Turbocharge Your Future with StartupNetworking! - Las Vegas
DESCRIPTION:Don’t miss launchclub turbocharge networking in Las Vegas on 27 Feb 2026\, 4 PM PDT. Connect with professionals!\n\n\nFeeling lost in your career path? Thinking there’s more than just job applications? Join the LaunchClub community for an engaging startup networking event online designed to spark new ideas\, foster collaboration\, and unlock exciting opportunities. This isn’t your typical virtual pitch event for startups; it’s a chance to connect with a diverse online community for entrepreneurs\, professionals\, and service providers. Explore where you fit\, discover hidden talents\, and build lasting relationships within the LaunchClub experience. \nWatch this explainer video: https://www.youtube.com/watch?v=XZYH3vPO2lE to see what awaits you! \nWhat awaits you / What to expect: \n\nGeneral: The go-to space for intros\, announcements\, and casual community-wide conversation. Great for getting oriented and finding others with shared interests.\nNetworking: A self-led showcase zone where grads can post about their projects\, portfolios\, startups\, or job aspirations. Members can also drop links to quick video intros or demo sessions.\nIntros: A space for members to introduce themselves\, share their backgrounds\, and connect with others. This can include personal stories\, career journeys\, or fun facts.\nHelp Wanted: A place for members to post about their skills and offer help to others. This can include anything from coding and design to marketing and writing.\nIndustry Room Tech: A space for members to discuss the latest trends\, tools\, and technologies in the tech industry. This can include anything from programming languages to software development methodologies.\n\nWho is it for? \n\nEntrepreneurs seeking peer support and shared resources in our online community for entrepreneurs.\nProfessionals looking to expand their network and explore new career avenues.\nEarly-stage founders and builders eager to connect and collaborate.\nIndividuals interested in a founder accountability group.\nThose seeking collaborators\, technical cofounders\, or startup team members in our startup cofounder matching event\n\nWhat will happen? \n\nEngage in lively discussions in themed group chat channels.\nShowcase your projects and skills in dedicated networking spaces.\nConnect with others via direct messaging and 1-on-1 video chat.\nDiscover potential collaborators\, mentors\, and friends within the LaunchClub community.\n\nWhen: \n\nHappens every month on the fourth Friday for the next 3 years\n4:00 PM – 6:00 PM (Your Local Time)\nOpen to ALL global cities\n\nWhere: \n\nHosted on a Slack-like virtual platform\nJoin the event: https://events.tao.ai/pod/launchclub.net/cont-itdiaw70iz05/city–LAS—source–eb\n\nWhy should you attend? \n\nUnlock long-term career growth by expanding your network and discovering new opportunities.\nGain clarity on your professional direction by connecting with individuals from diverse backgrounds.\nBecome part of a supportive community of like-minded professionals who value collaboration and growth.\nBeyond job hunting\, find meaningful connections that can shape your career trajectory within the LaunchClub community.\n\nHow can you engage? \n\nParticipate in group chat discussions on topics that interest you.\nShare your skills and expertise in the “Help Wanted” channel.\nSchedule 1-on-1 video chats with other attendees to build deeper connections.\nExplore the “Networking” channel to showcase your projects and find collaborators.\nIntroduce yourself and share your story in the “Intros” channel to help the LaunchClub community get to know you!\n\nEvent support: https://support.tao.ai#VirtualEvent #JobNetworking #StartupConnect #StartupCo #NoWorkerLeftBehind \n###29f79e3c
URL:https://tech.vegas/event/launchclub-turbocharge-your-future-with-startupnetworking-las-vegas/
LOCATION:Virtual / Online Event Only\, Las Vegas\, NV\, 89191\, Virtual / Online Event Only\,\, Las Vegas\, NV\, 89191\, United States
ATTACH;FMTTYPE=image/jpeg:https://tech.vegas/wp-content/uploads/2026/02/26e9ae265b8dece98fde21f6630b9684.jpg
END:VEVENT
BEGIN:VEVENT
DTSTART;TZID=America/Los_Angeles:20260220T160000
DTEND;TZID=America/Los_Angeles:20260220T180000
DTSTAMP:20260422T140423
CREATED:20260211T225051Z
LAST-MODIFIED:20260211T225051Z
UID:10006810-1771603200-1771610400@tech.vegas
SUMMARY:SmallVentures: Ignite Your Career! SmallBizFriday Networking & Growth - Las Vegas
DESCRIPTION:Experience smallventures ignite networking in Las Vegas on 20 Feb 2026\, 4 PM PDT. Connect with professionals!\n\n\nFeeling lost in your career path? Think networking is just about finding a job? Think again! SmallVentures presents a dynamic virtual event designed to spark career exploration\, fuel your professional growth\, and build lasting connections. This isn’t just another online event; it’s a vibrant\, self-managed networking experience where you can explore new possibilities and connect with like-minded individuals from across the globe. SmallVentures is about connecting you with the resources and the people to support the next level of your professional journey. \nWant to see what SmallVentures is all about? Check out this explainer video: https://www.youtube.com/watch?v=5QMzP_KUe-g \nWhat awaits you / What to expect: \n\nGeneral: The go-to space for intros\, announcements\, and casual community-wide conversation. Great for getting oriented and finding others with shared interests.\nNetworking: A self-led showcase zone where grads can post about their projects\, portfolios\, startups\, or job aspirations. Members can also drop links to quick video intros or demo sessions.\nIntros: A space for members to introduce themselves\, share their backgrounds\, and connect with others. This can include personal stories\, career journeys\, or fun facts.\nHelp Wanted: A place for members to post about their skills and offer help to others. This can include anything from coding and design to marketing and writing.\nIndustry Room Tech: A space for members to discuss the latest trends\, tools\, and technologies in the tech industry. This can include anything from programming languages to software development methodologies.\n\nWho is it for? \n\nProfessionals seeking career growth and clarity\nEntrepreneurs and small business owners\nFreelancers and gig workers looking for collaborations\nAnyone open to exploring new career paths and connecting with others\n\nWhat will happen? \n\nEngage in themed group chat channels\nParticipate in 1-1 video and text chats\nDiscover new career possibilities\nShare your expertise and learn from others\nExpand your professional network with the SmallVentures community\n\nWhen: \n\nHappens every month on the third Friday for the next 3 years\n4:00 PM – 6:00 PM (Your Local Time)\nOpen to ALL global cities\n\nWhere: \n\nHosted on a Slack-like virtual platform\nJoin the event: https://events.tao.ai/pod/smallventures.org/cont-g7c9uoodyc9h/city–LAS—source–eb\n\nWhy should you attend? \n\nGain clarity on your career goals\nBuild meaningful connections that can lead to growth opportunities\nDiscover resources and support for your professional journey\nExpand your network beyond job hunting to include collaboration and mentorship\nJoin a vibrant SmallVentures community dedicated to mutual success\n\nHow can you engage? \n\nParticipate in group chats\nSend direct messages to other attendees\nInitiate 1-1 video chats for deeper conversations\nShare your projects\, skills\, and aspirations in the dedicated channels\nOffer your expertise and help others in the SmallVentures network\n\nEvent support: https://support.tao.ai#VirtualEvent #NetworkingEvent #CareerGrowth #SmallBizFriday #SmallBiz #SmallVentures #NoWorkerLeftBehind \n###b7264591
URL:https://tech.vegas/event/smallventures-ignite-your-career-smallbizfriday-networking-growth-las-vegas/
LOCATION:Virtual / Online Event Only\, Las Vegas\, NV\, 89191\, Virtual / Online Event Only\,\, Las Vegas\, NV\, 89191\, United States
ATTACH;FMTTYPE=image/jpeg:https://tech.vegas/wp-content/uploads/2026/02/87602972e5f93afd2403b55ad4c0382a.jpg
END:VEVENT
END:VCALENDAR