BEGIN:VCALENDAR
VERSION:2.0
PRODID:-//Tech.Vegas - ECPv6.15.20//NONSGML v1.0//EN
CALSCALE:GREGORIAN
METHOD:PUBLISH
X-ORIGINAL-URL:https://tech.vegas
X-WR-CALDESC:Events for Tech.Vegas
REFRESH-INTERVAL;VALUE=DURATION:PT1H
X-Robots-Tag:noindex
X-PUBLISHED-TTL:PT1H
BEGIN:VTIMEZONE
TZID:America/Los_Angeles
BEGIN:DAYLIGHT
TZOFFSETFROM:-0800
TZOFFSETTO:-0700
TZNAME:PDT
DTSTART:20240310T100000
END:DAYLIGHT
BEGIN:STANDARD
TZOFFSETFROM:-0700
TZOFFSETTO:-0800
TZNAME:PST
DTSTART:20241103T090000
END:STANDARD
BEGIN:DAYLIGHT
TZOFFSETFROM:-0800
TZOFFSETTO:-0700
TZNAME:PDT
DTSTART:20250309T100000
END:DAYLIGHT
BEGIN:STANDARD
TZOFFSETFROM:-0700
TZOFFSETTO:-0800
TZNAME:PST
DTSTART:20251102T090000
END:STANDARD
BEGIN:DAYLIGHT
TZOFFSETFROM:-0800
TZOFFSETTO:-0700
TZNAME:PDT
DTSTART:20260308T100000
END:DAYLIGHT
BEGIN:STANDARD
TZOFFSETFROM:-0700
TZOFFSETTO:-0800
TZNAME:PST
DTSTART:20261101T090000
END:STANDARD
BEGIN:DAYLIGHT
TZOFFSETFROM:-0800
TZOFFSETTO:-0700
TZNAME:PDT
DTSTART:20270314T100000
END:DAYLIGHT
BEGIN:STANDARD
TZOFFSETFROM:-0700
TZOFFSETTO:-0800
TZNAME:PST
DTSTART:20271107T090000
END:STANDARD
END:VTIMEZONE
BEGIN:VEVENT
DTSTART;TZID=America/Los_Angeles:20260306T090000
DTEND;TZID=America/Los_Angeles:20260306T150000
DTSTAMP:20260423T102522
CREATED:20260221T173037Z
LAST-MODIFIED:20260221T173355Z
UID:10006831-1772787600-1772809200@tech.vegas
SUMMARY:Cyberjutsu Unplugged Mini Con
DESCRIPTION:Kick off the weekend with the 2nd annual Cyberjutsu Unplugged Vegas mini conference\, a vibrant celebration of the cyber realm. Immerse yourself in a day packed with hands-on training\, insightful talks\, extensive networking opportunities\, and a CTF where the winner can receive some dope prizes!\n\n \n\nWhat You Can Expect\n\n 	Hands-On Technical Training: Dive deep into the latest cybersecurity techniques and tools.\n 	Expert Talks: Gain insights from leading voices in cybersecurity.\n 	Capture the Flag (CTF): Test your skills in our exciting and competitive CTF event.\n 	Networking Opportunities: Connect with like-minded professionals and expand your network.\n 	Prizes and Awards: Celebrate achievements and maybe even win something yourself!\n 	And Much More…
URL:https://tech.vegas/event/cyberjutsu-unplugged-mini-con/
LOCATION:Topgolf Las Vegas\, 4627 Koval Ln\, Las Vegas\, NV\, United States
CATEGORIES:Diversity, Equity & Inclusion,Education,Featured,Networking,Southern Nevada,Technology
ATTACH;FMTTYPE=image/png:https://tech.vegas/wp-content/uploads/2026/02/Cyberjutsu-Unplugged.png
GEO:36.105724;-115.163967
X-APPLE-STRUCTURED-LOCATION;VALUE=URI;X-ADDRESS=Topgolf Las Vegas 4627 Koval Ln Las Vegas NV United States;X-APPLE-RADIUS=500;X-TITLE=4627 Koval Ln:geo:-115.163967,36.105724
END:VEVENT
BEGIN:VEVENT
DTSTART;TZID=America/Los_Angeles:20251202T190000
DTEND;TZID=America/Los_Angeles:20251202T220000
DTSTAMP:20260423T102522
CREATED:20251108T102845Z
LAST-MODIFIED:20251128T084730Z
UID:10006369-1764702000-1764712800@tech.vegas
SUMMARY:Topgolf Las Vegas Happy Hour at re:Invent hosted by Cloudelligent\, Archera\, Honeycomb\, and Corios
DESCRIPTION:Get up-to-date information at: https://luma.com/ev6ff6q8Address:Topgolf Las VegasLas Vegas\, NevadaUnited StatesJoin Cloudelligent\, Archera\, Honeycomb\, and Corios after re:Invent for a fun social mixer at Topgolf Las Vegas! Enjoy complimentary golf\, drinks\, and a taco bar as you network with other re:Invent attendees. Come ready with your best swing and make the most of this event to connect and let loose. We have limited space – so be sure to reserve your spot now!Please inform staff that you are here for the Cloudelligent event and they will direct you to our designated golf bays. For any questions\, please reach out to laila.etemadi@cloudelligent.com.Hosted by Laila Etemadi\, Jeanie Davis & Sonya Hussainy
URL:https://tech.vegas/event/topgolf-las-vegas-happy-hour-at-reinvent-hosted-by-cloudelligent-archera-honeycomb-and-corios/
LOCATION:Topgolf Las Vegas\, 4627 Koval Ln\, Las Vegas\, NV\, United States
CATEGORIES:Technology
GEO:36.105724;-115.163967
X-APPLE-STRUCTURED-LOCATION;VALUE=URI;X-ADDRESS=Topgolf Las Vegas 4627 Koval Ln Las Vegas NV United States;X-APPLE-RADIUS=500;X-TITLE=4627 Koval Ln:geo:-115.163967,36.105724
END:VEVENT
END:VCALENDAR