BEGIN:VCALENDAR
VERSION:2.0
PRODID:-//Tech.Vegas - ECPv6.15.20//NONSGML v1.0//EN
CALSCALE:GREGORIAN
METHOD:PUBLISH
X-ORIGINAL-URL:https://tech.vegas
X-WR-CALDESC:Events for Tech.Vegas
REFRESH-INTERVAL;VALUE=DURATION:PT1H
X-Robots-Tag:noindex
X-PUBLISHED-TTL:PT1H
BEGIN:VTIMEZONE
TZID:America/Los_Angeles
BEGIN:DAYLIGHT
TZOFFSETFROM:-0800
TZOFFSETTO:-0700
TZNAME:PDT
DTSTART:20240310T100000
END:DAYLIGHT
BEGIN:STANDARD
TZOFFSETFROM:-0700
TZOFFSETTO:-0800
TZNAME:PST
DTSTART:20241103T090000
END:STANDARD
BEGIN:DAYLIGHT
TZOFFSETFROM:-0800
TZOFFSETTO:-0700
TZNAME:PDT
DTSTART:20250309T100000
END:DAYLIGHT
BEGIN:STANDARD
TZOFFSETFROM:-0700
TZOFFSETTO:-0800
TZNAME:PST
DTSTART:20251102T090000
END:STANDARD
BEGIN:DAYLIGHT
TZOFFSETFROM:-0800
TZOFFSETTO:-0700
TZNAME:PDT
DTSTART:20260308T100000
END:DAYLIGHT
BEGIN:STANDARD
TZOFFSETFROM:-0700
TZOFFSETTO:-0800
TZNAME:PST
DTSTART:20261101T090000
END:STANDARD
END:VTIMEZONE
BEGIN:VEVENT
DTSTART;TZID=America/Los_Angeles:20251208T090000
DTEND;TZID=America/Los_Angeles:20251208T160000
DTSTAMP:20260422T034515
CREATED:20251203T190354Z
LAST-MODIFIED:20251203T190356Z
UID:10006476-1765184400-1765209600@tech.vegas
SUMMARY:Building Resilience: Adaptations for a Changing Climate in Nevada
DESCRIPTION:Building Resilience: Adaptations for a Changing Climate in Nevada \n\n\n\nThe importance of resilience in our built environment cannot be overstated. 2024 and 2023 saw the highest number of billion-dollar disasters on record in U.S. history (NOAA). The increase in the frequency and severity of extreme weather events\, such as hurricanes\, wildfires\, floods and heat waves can disrupt critical infrastructure\, endanger lives and damage property. Our built environment must be designed\, constructed and operated to mitigate risk and sustain our communities.  \n\n\n\n USGBC works to transform the way buildings and communities are designed\, built\, and operated — resilience is a clear extension of this work. We know that more sustainable buildings are the cornerstone to enhancing community resilience.  \n\n\n\n USGBC’s Building Transformation Forums convene industry leaders\, practitioners\, and sustainability professionals to learn and engage around specific\, locally relevant topics. Built around growing connections and green building education\, forum models adapt to meet audience needs and inspire action. Check out our calendar on usgbc.org to see our upcoming forums nationwide. \n\n\n\nThis forum also includes a deep-dive interactive workshop with USGBC staff specializing in the TRUE rating system. Participants will be given the tools to transform their waste management plan into a commodity resource\, zero-waste-based plan to create a circular economy locally and globally. Focus will be on the key components of the TRUE Rating System and on hands-on opportunities to collaborate and apply strategies directly to their own projects. \n\n\n\nJoin USGBC Nevada to discuss leading edge examples\, best practices and USGBC tools and resources to support your resilience goals.  \n\n\n\nUSGBC’s Building Transformation Forums convene industry leaders\, practitioners\, and sustainability professionals to learn and engage around specific\, locally relevant topics. Built around growing connections and green building education\, forum models adapt to meet audience needs and inspire action. Check out our calendar on usgbc.org/events to see our upcoming forums nationwide.
URL:https://tech.vegas/event/building-resilience-adaptations-for-a-changing-climate-in-nevada/
LOCATION:The Springs Preserve\, Desert Living Center Conf room A-D 333 S. Valley View Blvd. Las Vegas\, NV 89107
CATEGORIES:Community,Featured,Networking,Southern Nevada
ATTACH;FMTTYPE=image/png:https://tech.vegas/wp-content/uploads/2025/12/image-1.png
END:VEVENT
END:VCALENDAR