BEGIN:VCALENDAR
VERSION:2.0
PRODID:-//Tech.Vegas - ECPv6.15.20//NONSGML v1.0//EN
CALSCALE:GREGORIAN
METHOD:PUBLISH
X-WR-CALNAME:Tech.Vegas
X-ORIGINAL-URL:https://tech.vegas
X-WR-CALDESC:Events for Tech.Vegas
REFRESH-INTERVAL;VALUE=DURATION:PT1H
X-Robots-Tag:noindex
X-PUBLISHED-TTL:PT1H
BEGIN:VTIMEZONE
TZID:America/Los_Angeles
BEGIN:DAYLIGHT
TZOFFSETFROM:-0800
TZOFFSETTO:-0700
TZNAME:PDT
DTSTART:20240310T100000
END:DAYLIGHT
BEGIN:STANDARD
TZOFFSETFROM:-0700
TZOFFSETTO:-0800
TZNAME:PST
DTSTART:20241103T090000
END:STANDARD
BEGIN:DAYLIGHT
TZOFFSETFROM:-0800
TZOFFSETTO:-0700
TZNAME:PDT
DTSTART:20250309T100000
END:DAYLIGHT
BEGIN:STANDARD
TZOFFSETFROM:-0700
TZOFFSETTO:-0800
TZNAME:PST
DTSTART:20251102T090000
END:STANDARD
BEGIN:DAYLIGHT
TZOFFSETFROM:-0800
TZOFFSETTO:-0700
TZNAME:PDT
DTSTART:20260308T100000
END:DAYLIGHT
BEGIN:STANDARD
TZOFFSETFROM:-0700
TZOFFSETTO:-0800
TZNAME:PST
DTSTART:20261101T090000
END:STANDARD
END:VTIMEZONE
BEGIN:VEVENT
DTSTART;TZID=America/Los_Angeles:20251118T150000
DTEND;TZID=America/Los_Angeles:20251118T190000
DTSTAMP:20260421T000612
CREATED:20251117T190749Z
LAST-MODIFIED:20251117T190749Z
UID:10006390-1763478000-1763492400@tech.vegas
SUMMARY:Entrepreneur Exchange: National Entrepreneur Day
DESCRIPTION:@ 			\n			\n							 \n\nEntrepreneur Exchange: National Entrepreneur Day \nDate:Tuesday\, November 18thTime:No Bad Ideas Coworking Exchange: 3-5 PMSocial Happy Hour Networking Mixer: 5-7 PM \nLocation:Starbase Hybrid Event Space | 3905 W Diablo Dr\, Las Vegas\, NV 89118 \n\nEvent Description:In celebration of National Entrepreneur Day\, we’re teaming up with Global Entrepreneurship Network for GEW to bring brands\, businesses\, and the changemakers that make it all possible\, so together we can strengthen the future of Las Vegas entrepreneurs throughout our community.  \nWhat to expect: \nNo Bad Ideas is a collaborative co-working session and community meetup where founders\, creatives\, veterans\, students\, and leaders come together to shape what’s next for Nevada’s entrepreneurial landscape. \nExpect open networking\, fast-paced collaboration\, and hands-on creativity\, including rounds of No Bad Ideas: Innovation Cards and Snake Oil\, a sales game designed to spark new thinking and bold connections. \nBecause here\, there are no bad ideas… only ideas we haven’t built yet. If you care about shaping the future of entrepreneurship in Nevada\, you belong in this room. \nAs the sun sets\, the conversations continue. \nJoin us for Entrepreneur Exchange: Together We Build. A signature GEW Nevada networking mixer and happy hour bringing together innovators\, founders\, and community leaders who believe collaboration is the new competition. \nThis evening event is your opportunity to connect with fellow builders\, share your story\, and spark partnerships that move ideas forward. All happening within the vibrant\, creative atmosphere of StarBase. \n\n		\n\n\nSocial Exchange\n \n3307148349 \nView Organizer Website \ntaylor@socialexchangegroup.com \n \n\n\n\n\n\n \n\n\n\n\n\n						\n	\n	\n\n						\n							Add to calendar						\n						\n	\n\n					\n\n\n\n									\n										Google Calendar									\n								\n\n									\n										iCalendar									\n								\n\n									\n										Outlook 365									\n								\n\n									\n										Outlook Live
URL:https://tech.vegas/event/entrepreneur-exchange-national-entrepreneur-day/
LOCATION:StarBase\, 3905 W Diablo Dr\, Las Vegas\, NV\, 89101\, United States
CATEGORIES:Networking,Southern Nevada
ATTACH;FMTTYPE=image/png:https://tech.vegas/wp-content/uploads/2025/11/Screenshot-2025-11-07-151902-WVATXG.png
END:VEVENT
END:VCALENDAR