BEGIN:VCALENDAR
VERSION:2.0
PRODID:-//Tech.Vegas - ECPv6.15.20//NONSGML v1.0//EN
CALSCALE:GREGORIAN
METHOD:PUBLISH
X-ORIGINAL-URL:https://tech.vegas
X-WR-CALDESC:Events for Tech.Vegas
REFRESH-INTERVAL;VALUE=DURATION:PT1H
X-Robots-Tag:noindex
X-PUBLISHED-TTL:PT1H
BEGIN:VTIMEZONE
TZID:America/Los_Angeles
BEGIN:DAYLIGHT
TZOFFSETFROM:-0800
TZOFFSETTO:-0700
TZNAME:PDT
DTSTART:20240310T100000
END:DAYLIGHT
BEGIN:STANDARD
TZOFFSETFROM:-0700
TZOFFSETTO:-0800
TZNAME:PST
DTSTART:20241103T090000
END:STANDARD
BEGIN:DAYLIGHT
TZOFFSETFROM:-0800
TZOFFSETTO:-0700
TZNAME:PDT
DTSTART:20250309T100000
END:DAYLIGHT
BEGIN:STANDARD
TZOFFSETFROM:-0700
TZOFFSETTO:-0800
TZNAME:PST
DTSTART:20251102T090000
END:STANDARD
BEGIN:DAYLIGHT
TZOFFSETFROM:-0800
TZOFFSETTO:-0700
TZNAME:PDT
DTSTART:20260308T100000
END:DAYLIGHT
BEGIN:STANDARD
TZOFFSETFROM:-0700
TZOFFSETTO:-0800
TZNAME:PST
DTSTART:20261101T090000
END:STANDARD
END:VTIMEZONE
BEGIN:VEVENT
DTSTART;TZID=America/Los_Angeles:20251202T183000
DTEND;TZID=America/Los_Angeles:20251202T210000
DTSTAMP:20260422T003904
CREATED:20251114T090455Z
LAST-MODIFIED:20251114T090457Z
UID:10006388-1764700200-1764709200@tech.vegas
SUMMARY:re:Invent Happy Hour w/ WorkOS\, Tailscale\, and Graphite
DESCRIPTION:Unwind after a full day of sessions with drinks\, heavy appetizers\, and networking at Spritz\, the poolside venue within the Venetian. Hosted by WorkOS\, Tailscale\, and Graphite\, this gathering is the perfect way to kickoff the week while staying right in the heart of the re:Invent hub.
URL:https://tech.vegas/event/reinvent-happy-hour-w-workos-tailscale-and-graphite-2/
LOCATION:Spritz Restaurant & Bar\, Las Vegas\, NV\, United States
CATEGORIES:Networking,Technology
ATTACH;FMTTYPE=image/png:https://tech.vegas/wp-content/uploads/2025/11/image-7.png
GEO:36.131662;-115.168382
END:VEVENT
END:VCALENDAR