BEGIN:VCALENDAR
VERSION:2.0
PRODID:-//Tech.Vegas - ECPv6.15.20//NONSGML v1.0//EN
CALSCALE:GREGORIAN
METHOD:PUBLISH
X-WR-CALNAME:Tech.Vegas
X-ORIGINAL-URL:https://tech.vegas
X-WR-CALDESC:Events for Tech.Vegas
REFRESH-INTERVAL;VALUE=DURATION:PT1H
X-Robots-Tag:noindex
X-PUBLISHED-TTL:PT1H
BEGIN:VTIMEZONE
TZID:America/Los_Angeles
BEGIN:DAYLIGHT
TZOFFSETFROM:-0800
TZOFFSETTO:-0700
TZNAME:PDT
DTSTART:20250309T100000
END:DAYLIGHT
BEGIN:STANDARD
TZOFFSETFROM:-0700
TZOFFSETTO:-0800
TZNAME:PST
DTSTART:20251102T090000
END:STANDARD
BEGIN:DAYLIGHT
TZOFFSETFROM:-0800
TZOFFSETTO:-0700
TZNAME:PDT
DTSTART:20260308T100000
END:DAYLIGHT
BEGIN:STANDARD
TZOFFSETFROM:-0700
TZOFFSETTO:-0800
TZNAME:PST
DTSTART:20261101T090000
END:STANDARD
BEGIN:DAYLIGHT
TZOFFSETFROM:-0800
TZOFFSETTO:-0700
TZNAME:PDT
DTSTART:20270314T100000
END:DAYLIGHT
BEGIN:STANDARD
TZOFFSETFROM:-0700
TZOFFSETTO:-0800
TZNAME:PST
DTSTART:20271107T090000
END:STANDARD
END:VTIMEZONE
BEGIN:VEVENT
DTSTART;TZID=America/Los_Angeles:20260211T190000
DTEND;TZID=America/Los_Angeles:20260211T220000
DTSTAMP:20260421T071845
CREATED:20260206T102850Z
LAST-MODIFIED:20260206T102850Z
UID:10006803-1770836400-1770847200@tech.vegas
SUMMARY:AI in Logistics: The Manifest Wrap-Up 🥩
DESCRIPTION:Get up-to-date information at: https://luma.com/prox\nAddress:\nSmith & Wollensky – Las Vegas\nLas Vegas\, Nevada\nUnited States\nWednesday night\, end of Manifest.. you’ve earned a good steak.\nJoin us for an end-of-conference dinner at one of the best steakhouses in Vegas.\nBrought to you by prox.inc\nShipBob processes millions of shipments and keeps scaling without the back-office chaos. Prox AI agents work to make that possible. If you’ve ever wondered how the best 3PLs operate at scale without drowning in manual work\, this is the room to be in.\n📅 Wednesday\, February 11\n🕖 7:00 – 10:00 PM\n📍 Smith & Wollensky\, The Venetian\n🍷 Dinner & open bar included\nFor 3PL operators and brand leaders only.\nFollow us on LinkedIn:…\nHosted by Gregory Makodzeba\, Dima Yanovsky & prox.inc
URL:https://tech.vegas/event/ai-in-logistics-the-manifest-wrap-up-%f0%9f%a5%a9/
LOCATION:Smith & Wollensky – Las Vegas\, 3201 S Las Vegas Blvd\, Las Vegas\, NV\, United States
CATEGORIES:Technology
GEO:36.125472;-115.16929
X-APPLE-STRUCTURED-LOCATION;VALUE=URI;X-ADDRESS=Smith & Wollensky – Las Vegas 3201 S Las Vegas Blvd Las Vegas NV United States;X-APPLE-RADIUS=500;X-TITLE=3201 S Las Vegas Blvd:geo:-115.16929,36.125472
END:VEVENT
END:VCALENDAR