BEGIN:VCALENDAR
VERSION:2.0
PRODID:-//Tech.Vegas - ECPv6.15.20//NONSGML v1.0//EN
CALSCALE:GREGORIAN
METHOD:PUBLISH
X-ORIGINAL-URL:https://tech.vegas
X-WR-CALDESC:Events for Tech.Vegas
REFRESH-INTERVAL;VALUE=DURATION:PT1H
X-Robots-Tag:noindex
X-PUBLISHED-TTL:PT1H
BEGIN:VTIMEZONE
TZID:America/Los_Angeles
BEGIN:DAYLIGHT
TZOFFSETFROM:-0800
TZOFFSETTO:-0700
TZNAME:PDT
DTSTART:20250309T100000
END:DAYLIGHT
BEGIN:STANDARD
TZOFFSETFROM:-0700
TZOFFSETTO:-0800
TZNAME:PST
DTSTART:20251102T090000
END:STANDARD
BEGIN:DAYLIGHT
TZOFFSETFROM:-0800
TZOFFSETTO:-0700
TZNAME:PDT
DTSTART:20260308T100000
END:DAYLIGHT
BEGIN:STANDARD
TZOFFSETFROM:-0700
TZOFFSETTO:-0800
TZNAME:PST
DTSTART:20261101T090000
END:STANDARD
BEGIN:DAYLIGHT
TZOFFSETFROM:-0800
TZOFFSETTO:-0700
TZNAME:PDT
DTSTART:20270314T100000
END:DAYLIGHT
BEGIN:STANDARD
TZOFFSETFROM:-0700
TZOFFSETTO:-0800
TZNAME:PST
DTSTART:20271107T090000
END:STANDARD
END:VTIMEZONE
BEGIN:VEVENT
DTSTART;TZID=America/Los_Angeles:20260418T100000
DTEND;TZID=America/Los_Angeles:20260418T150000
DTSTAMP:20260424T091528
CREATED:20260105T205159Z
LAST-MODIFIED:20260105T205159Z
UID:10006557-1776506400-1776524400@tech.vegas
SUMMARY:Las Vegas 26th Annual Health and Wellness Expo
DESCRIPTION:Get ready for the ultimate health and wellness extravaganza at the Las Vegas 26th Annual Health and Wellness Expo\n\n\nWelcome to the Las Vegas 26th Annual Health and Wellness Expo! Join us for a day of fun and education at the Santa Fe Station Hotel & Casino. This event is all about promoting a healthy lifestyle and discovering new ways to take care of yourself. Whether you’re interested in fitness\, nutrition\, or mental well-being\, we’ve got you covered. Explore our diverse range of exhibitors and participate in interactive activities. Don’t miss out on this exciting opportunity to learn\, connect\, and improve your overall well-being. See you there! \nExhibitor Line: 602-625-3000 info@HealthAndWellnessExpo.Com
URL:https://tech.vegas/event/las-vegas-26th-annual-health-and-wellness-expo/
LOCATION:Santa Fe Station Hotel & Casino\, 4949 North Rancho Drive\, Las Vegas\, NV\, 89130\, United States
CATEGORIES:Health & Wellness
ATTACH;FMTTYPE=image/jpeg:https://tech.vegas/wp-content/uploads/2026/01/4a9f6382f0c71e6fbfea2dfce8304449.jpg
END:VEVENT
END:VCALENDAR