BEGIN:VCALENDAR
VERSION:2.0
PRODID:-//Tech.Vegas - ECPv6.15.20//NONSGML v1.0//EN
CALSCALE:GREGORIAN
METHOD:PUBLISH
X-WR-CALNAME:Tech.Vegas
X-ORIGINAL-URL:https://tech.vegas
X-WR-CALDESC:Events for Tech.Vegas
REFRESH-INTERVAL;VALUE=DURATION:PT1H
X-Robots-Tag:noindex
X-PUBLISHED-TTL:PT1H
BEGIN:VTIMEZONE
TZID:America/Los_Angeles
BEGIN:DAYLIGHT
TZOFFSETFROM:-0800
TZOFFSETTO:-0700
TZNAME:PDT
DTSTART:20250309T100000
END:DAYLIGHT
BEGIN:STANDARD
TZOFFSETFROM:-0700
TZOFFSETTO:-0800
TZNAME:PST
DTSTART:20251102T090000
END:STANDARD
BEGIN:DAYLIGHT
TZOFFSETFROM:-0800
TZOFFSETTO:-0700
TZNAME:PDT
DTSTART:20260308T100000
END:DAYLIGHT
BEGIN:STANDARD
TZOFFSETFROM:-0700
TZOFFSETTO:-0800
TZNAME:PST
DTSTART:20261101T090000
END:STANDARD
BEGIN:DAYLIGHT
TZOFFSETFROM:-0800
TZOFFSETTO:-0700
TZNAME:PDT
DTSTART:20270314T100000
END:DAYLIGHT
BEGIN:STANDARD
TZOFFSETFROM:-0700
TZOFFSETTO:-0800
TZNAME:PST
DTSTART:20271107T090000
END:STANDARD
END:VTIMEZONE
BEGIN:VEVENT
DTSTART;TZID=America/Los_Angeles:20260429T080000
DTEND;TZID=America/Los_Angeles:20260430T170000
DTSTAMP:20260422T111122
CREATED:20260414T200332Z
LAST-MODIFIED:20260414T200905Z
UID:10007028-1777449600-1777568400@tech.vegas
SUMMARY:Dominion 2026
DESCRIPTION:The Ultimate Liquidity Event for Domain Investors \n\n\n\n​Where Domains Go Liquid.Watch. Trade. Earn. \n\n\n\nApril 29–30\, 2026Resorts World @ Las Vegas \n\n\n\n​Dominion 2026 isn’t just another domain conference – it’s where real domains meet real liquidity. \n\n\n\n​Over two days in Las Vegas\, you won’t just hear about monetization – you’ll experience it. \n\n\n\n​You’ll see a premium domain launch live\, meet owners who’ve unlocked six-figures of liquidity without selling\, and learn how to do it yourself. \n\n\n\n​No theory. No panels about “the future.” \n\n\n\n​Just real domains\, real markets\, real execution. \n\n\n\n\n\n\n\nFeatured Speakers\n\n\n\n\n\n\n\n\n​Vibhu Norby (Chief Product Officer\, Solana)\n\n\n\n​John Nahas (Chief Business Officer\, Avalanche)\n\n\n\n​Charlie Noyes (Investor & Board Observer\, Kalshi – Former General Partner\, Paradigm)\n\n\n\n​Fred Hsu (Co-Founder & CEO\, D3)\n\n\n\n​Larry Fischer (Director\, GetYourDomain.com)\n\n\n\n​John Mauriello (Managing Partner/Domain Broker\, Domainassets.com)\n\n\n\n​Inder Singh (VP Product & Technology\, D3)\n\n\n\n​Braden Pollock (Founder Legal Brand Marketing)\n\n\n\n​Richard Lau (Domain Investor\, Entrepreneur\, Founder Titan Research)\n\n\n\n​James McA’Nulty (Founder/Owner Brag.com)\n\n\n\n​Ish Milly (Founder DomainerEXPO)\n\n\n\n​Todd Ryan (CEO\, American Business Capital)\n\n\n\n​Monte Cahn (Managing Director RightOfTheDot\, LLC/Internet Equity Limitada/Dot Hip Hop\, LLC)\n\n\n\n​Michael Ho (Co-Founder\, D3)\n\n\n\n​Ammar Kubba (Founder afterTHOUGHT)\n\n\n\n\n\n\n\n\nWATCH\n\n\n\n​See liquidity happen live. \n\n\n\n\n​Watch a premium domain token launch from tokenization to first trade to owner cash-out\n\n\n\n​See real domain owners share how they generated 5- and 6-figure liquidity without selling their names\n\n\n\n​Experience live trading of 100s of tokenized domains with real transaction volume\n\n\n\n​Hear ecosystem leaders from Solana\, Base\, Avalanche and beyond validate DomainFi’s expansion\n\n\n\n​Witness how tokenization compares to traditional sales\, parking\, and leasing — in real time\n\n\n\n\nTRADE\n\n\n\n​More trading. Less trade show. \n\n\n\n\n​Free white-glove wallet setup – no crypto experience required\n\n\n\n​Receive a funded wallet with USDC to execute your first trade (gas fees covered)\n\n\n\n​Participate in a live domain launch and trade alongside the market\n\n\n\n​Access the live trading floor and execute swaps in real time\n\n\n\n​Join a trading competition – test strategies and compete for prizes\n\n\n\n​Get step-by-step support from Doma experts at every stage\n\n\n\n\nEARN\n\n\n\n​Go from parked to profitable. \n\n\n\n\n​Schedule a 1:1 portfolio liquidity assessment with Doma experts\n\n\n\n​Learn the playbook for tokenizing and fractionalizing premium domains\n\n\n\n​Watch live liquidity pool demos generating real-time yield\n\n\n\n​Explore fractional ownership and new monetization models\n\n\n\n​Get priority post-event access to launch on Doma (qualified attendees)\n\n\n\n​Leave with a defined liquidity strategy and clear next steps\n\n\n\n\n​Real domains. Real liquidity. Real fun. \n\n\n\n​→ RSVP to secure early accessEarly bird pricing ends soon \n\n\n\n\n\n\n\n​About Dominion\n\n\n\n​Dominion 2026 takes place across world-class convention and entertainment venues at Resorts World Las Vegas. \n\n\n\n​Dominion is hosted and organized by D3 and Doma\, building the infrastructure that bridges traditional DNS domains and onchain liquidity markets. \n\n\n\n\n\n\n\n​About Doma Protocol\n\n\n\n​Doma Protocol is the first DNS-compliant blockchain for DomainFi\, tokenizing 364M+ domains as real-world assets (RWAs) to transform the $360B domain industry. Doma enables interoperability between existing Web2 domains (.com\, .xyz\, .ai) and emerging Web3 extensions\, powering a global economy for fractional ownership\, lending\, and DeFi utility. \n\n\n\n​Learn more: https://www.doma.xyz \n\n\n\n\n\n\n\n​About D3\n\n\n\n​D3 is building the world’s first DomainFi network to tokenize 390M+ existing and future domains as real-world assets. D3 unlocks the financial potential of domains by building on Doma Protocol\, a decentralized blockchain infrastructure bridging traditional Internet domains (.com\, .ai\, .xyz\, .org) with emerging Web3 domain extensions (.sol\, .avax\, .ape). \n\n\n\n​​Backed by Paradigm\, the D3 team includes industry veterans with 30+ years of collective experience\, known for leading domain name monetization\, internet protocols\, and TLD operations such as .xyz\, .inc\, .tv\, and .link. \n\n\n\n​​🔗 Learn more at d3.com and doma.xyz
URL:https://tech.vegas/event/dominion-2026-3/
LOCATION:Resorts World Las Vegas\, 3000 South Las Vegas Boulevard\, Las Vegas\, NV\, 89109\, United States
CATEGORIES:Convention & Expo,Economic Development,Featured,Technology
ATTACH;FMTTYPE=image/png:https://tech.vegas/wp-content/uploads/2026/04/image-9.png
END:VEVENT
BEGIN:VEVENT
DTSTART;TZID=America/Los_Angeles:20260429T100000
DTEND;TZID=America/Los_Angeles:20260430T160000
DTSTAMP:20260422T111122
CREATED:20260411T160420Z
LAST-MODIFIED:20260411T160422Z
UID:10007015-1777456800-1777564800@tech.vegas
SUMMARY:Dominion 2026
DESCRIPTION:The Ultimate Liquidity Event for Domain Investors \n\n\n\n​Where Domains Go Liquid.Watch. Trade. Earn. \n\n\n\n​📍 April 29–30\, 2026🎰 Resorts World @ Las Vegas \n\n\n\n​Dominion 2026 isn’t just another domain conference – it’s where real domains meet real liquidity. \n\n\n\n​Over two days in Las Vegas\, you won’t just hear about monetization – you’ll experience it. \n\n\n\n​You’ll see a premium domain launch live\, meet owners who’ve unlocked six-figures of liquidity without selling\, and learn how to do it yourself. \n\n\n\n​No theory. No panels about “the future.” \n\n\n\n​Just real domains\, real markets\, real execution. \n\n\n\n\n\n\n\n​🎤 Featured Speakers\n\n\n\n\n\n\n\n\n​Vibhu Norby (Chief Product Officer\, Solana)\n\n\n\n​John Nahas (Chief Business Officer\, Avalanche)\n\n\n\n​Charlie Noyes (Investor & Board Observer\, Kalshi – Former General Partner\, Paradigm)\n\n\n\n​Fred Hsu (Co-Founder & CEO\, D3)\n\n\n\n​Larry Fischer (Director\, GetYourDomain.com)\n\n\n\n​John Mauriello (Managing Partner/Domain Broker\, Domainassets.com)\n\n\n\n​Inder Singh (VP Product & Technology\, D3)\n\n\n\n​Braden Pollock (Founder Legal Brand Marketing)\n\n\n\n​Richard Lau (Domain Investor\, Entrepreneur\, Founder Titan Research)\n\n\n\n​James McA’Nulty (Founder/Owner Brag.com)\n\n\n\n​Ish Milly (Founder DomainerEXPO)\n\n\n\n​Todd Ryan (CEO\, American Business Capital)\n\n\n\n​Monte Cahn (Managing Director RightOfTheDot\, LLC/Internet Equity Limitada/Dot Hip Hop\, LLC)\n\n\n\n​Michael Ho (Co-Founder\, D3)\n\n\n\n​Ammar Kubba (Founder afterTHOUGHT)\n\n\n\n\n\n\n\n\n​👀 WATCH\n\n\n\n​See liquidity happen live. \n\n\n\n\n​Watch a premium domain token launch from tokenization to first trade to owner cash-out\n\n\n\n​See real domain owners share how they generated 5- and 6-figure liquidity without selling their names\n\n\n\n​Experience live trading of 100s of tokenized domains with real transaction volume\n\n\n\n​Hear ecosystem leaders from Solana\, Base\, Avalanche and beyond validate DomainFi’s expansion\n\n\n\n​Witness how tokenization compares to traditional sales\, parking\, and leasing — in real time\n\n\n\n\n​🔄 TRADE\n\n\n\n​More trading. Less trade show. \n\n\n\n\n​Free white-glove wallet setup – no crypto experience required\n\n\n\n​Receive a funded wallet with USDC to execute your first trade (gas fees covered)\n\n\n\n​Participate in a live domain launch and trade alongside the market\n\n\n\n​Access the live trading floor and execute swaps in real time\n\n\n\n​Join a trading competition – test strategies and compete for prizes\n\n\n\n​Get step-by-step support from Doma experts at every stage\n\n\n\n\n​💰 EARN\n\n\n\n​Go from parked to profitable. \n\n\n\n\n​Schedule a 1:1 portfolio liquidity assessment with Doma experts\n\n\n\n​Learn the playbook for tokenizing and fractionalizing premium domains\n\n\n\n​Watch live liquidity pool demos generating real-time yield\n\n\n\n​Explore fractional ownership and new monetization models\n\n\n\n​Get priority post-event access to launch on Doma (qualified attendees)\n\n\n\n​Leave with a defined liquidity strategy and clear next steps\n\n\n\n\n​Real domains. Real liquidity. Real fun. \n\n\n\n​→ RSVP to secure early accessEarly bird pricing ends soon \n\n\n\n\n\n\n\n​About Dominion\n\n\n\n​Dominion 2026 takes place across world-class convention and entertainment venues at Resorts World Las Vegas. \n\n\n\n​Dominion is hosted and organized by D3 and Doma\, building the infrastructure that bridges traditional DNS domains and onchain liquidity markets. \n\n\n\n\n\n\n\n​About Doma Protocol\n\n\n\n​Doma Protocol is the first DNS-compliant blockchain for DomainFi\, tokenizing 364M+ domains as real-world assets (RWAs) to transform the $360B domain industry. Doma enables interoperability between existing Web2 domains (.com\, .xyz\, .ai) and emerging Web3 extensions\, powering a global economy for fractional ownership\, lending\, and DeFi utility. \n\n\n\n​Learn more: https://www.doma.xyz \n\n\n\n\n\n\n\n​About D3\n\n\n\n​D3 is building the world’s first DomainFi network to tokenize 390M+ existing and future domains as real-world assets. D3 unlocks the financial potential of domains by building on Doma Protocol\, a decentralized blockchain infrastructure bridging traditional Internet domains (.com\, .ai\, .xyz\, .org) with emerging Web3 domain extensions (.sol\, .avax\, .ape). \n\n\n\n​​Backed by Paradigm\, the D3 team includes industry veterans with 30+ years of collective experience\, known for leading domain name monetization\, internet protocols\, and TLD operations such as .xyz\, .inc\, .tv\, and .link.
URL:https://tech.vegas/event/dominion-2026-2/
LOCATION:Resorts World Las Vegas\, 3000 South Las Vegas Boulevard\, Las Vegas\, NV\, 89109\, United States
CATEGORIES:Networking,Technology
ATTACH;FMTTYPE=image/png:https://tech.vegas/wp-content/uploads/2026/04/image-3.png
END:VEVENT
BEGIN:VEVENT
DTSTART;TZID=America/Los_Angeles:20260429T100000
DTEND;TZID=America/Los_Angeles:20260430T160000
DTSTAMP:20260422T111122
CREATED:20260404T004135Z
LAST-MODIFIED:20260404T004135Z
UID:10006980-1777456800-1777564800@tech.vegas
SUMMARY:Dominion 2026
DESCRIPTION:Get up-to-date information at: https://luma.com/dominion2026\nAddress:\nResorts World Las Vegas\nLas Vegas\, Nevada\nUnited States\nThe Ultimate Liquidity Event for Domain Investors\nWhere Domains Go Liquid.\nWatch. Trade. Earn.\n📍 April 29–30\, 2026\n 🎰 Resorts World @ Las Vegas\nDominion 2026 isn’t just another domain conference – it’s where real domains meet real liquidity.\nOver two days in Las Vegas\, you won’t just hear about monetization – you’ll experience it.\nYou’ll see a premium domain launch live\, meet owners who’ve unlocked six-figures of liquidity without selling\, and learn how to do it yourself.\nNo theory. No panels about “the future.”\nJust real domains\, real markets\, real execution.\n🎤 Featured Speakers\nVibhu…\nHosted by Doma
URL:https://tech.vegas/event/dominion-2026/
LOCATION:Resorts World Las Vegas\, 3000 South Las Vegas Boulevard\, Las Vegas\, NV\, 89109\, United States
CATEGORIES:Technology
END:VEVENT
BEGIN:VEVENT
DTSTART;TZID=America/Los_Angeles:20260707T080000
DTEND;TZID=America/Los_Angeles:20260709T130000
DTSTAMP:20260422T111122
CREATED:20260323T184003Z
LAST-MODIFIED:20260323T184003Z
UID:10006958-1783411200-1783602000@tech.vegas
SUMMARY:TPT Forward 2026 –Las Vegas\, NV (July 7-9)
DESCRIPTION:Don’t miss your chance to learn the latest insider tips and must-have strategies to succeed on TPT!\n\n\nAbout this event \nJoin us for TPT’s annual Seller conference and biggest event of the year\, TPT Forward! TPT Forward is an unparalleled opportunity to invest in the success of your TPT business — and it only happens once a year. Don’t miss your chance to learn the latest insider tips and must-have strategies to reach your goals on TPT. \nCome together with Teacher-Authors like you for an unforgettable\, multi-day experience filled with inspirational keynotes\, expert-led sessions\, networking opportunities\, and more. \nThis year’s conference is July 7–9 in Las Vegas — so get ready to turn bright ideas into big wins for your business in the City of Lights! \nRegister today! \nWe’re offering a limited-time\, early-bird price of $225 until December 15\,2025. Reserve your spot today to get the lowest price for your ticket! \nDecember 16 – April 30 ticket price is $275 \nMay 1- July 8 ticket price is $325 \n \nWhy attend TPT Forward? \n\nUnlock the latest strategies powering Seller success: Get actionable tips and instruction on how to grow your store from expert Teacher-Authors.\nGo in-depth on topics that align with your goals: Dive deep into curriculum design\, marketing strategies\, productivity\, using data to drive sales\, and more.\nFind guidance in the wisdom of experienced Sellers: Hear powerful stories from leaders in the Teacher-Author community about their journeys to success.\nConnect and collaborate with like-minded Sellers: Meet other incredible educators in the Teacher-Author community to expand your network and learn from each other.\n\n \nTravel & hotel information: \nTPT Forward 2026 will take place at the Las Vegas Hilton at Resorts World. Conference attendees can access a discounted room rate here. While staying at Resorts World is the most convenient option\, there are also many nearby hotels. \n \nWho is this event for? \nIf you’re looking to grow your TPT store’s impact — reaching more educators and increasing your sales — this event is for you! No matter your goals or level of experience\, you’ll find sessions at TPT Forward that’ll help your TPT store thrive. Take this opportunity to invest in the success of your business. \nThe purpose of this event is to learn the most up-to-date best practices and insider tips for running a TPT business\, and to connect with our community of Teacher-Authors. This event should not be used to market your own business to the TPT Seller community. We reserve the right to deny entry to anyone at our sole discretion. If you have questions about what is and is not permitted at TPT Forward\, please reach out to us at conference@teacherspayteachers.com. \nLearn more \nGet additional details about TPT Forward here. Have additional questions? Email us at conference@teacherspayteachers.com.
URL:https://tech.vegas/event/tpt-forward-2026-las-vegas-nv-july-7-9/
LOCATION:Resorts World Las Vegas\, 3000 South Las Vegas Boulevard\, Las Vegas\, NV\, 89109\, United States
CATEGORIES:Conventions
ATTACH;FMTTYPE=image/jpeg:https://tech.vegas/wp-content/uploads/2026/03/4fe6904487854f6879567014bd788504.jpg
END:VEVENT
END:VCALENDAR