BEGIN:VCALENDAR
VERSION:2.0
PRODID:-//Tech.Vegas - ECPv6.15.20//NONSGML v1.0//EN
CALSCALE:GREGORIAN
METHOD:PUBLISH
X-WR-CALNAME:Tech.Vegas
X-ORIGINAL-URL:https://tech.vegas
X-WR-CALDESC:Events for Tech.Vegas
REFRESH-INTERVAL;VALUE=DURATION:PT1H
X-Robots-Tag:noindex
X-PUBLISHED-TTL:PT1H
BEGIN:VTIMEZONE
TZID:America/Los_Angeles
BEGIN:DAYLIGHT
TZOFFSETFROM:-0800
TZOFFSETTO:-0700
TZNAME:PDT
DTSTART:20240310T100000
END:DAYLIGHT
BEGIN:STANDARD
TZOFFSETFROM:-0700
TZOFFSETTO:-0800
TZNAME:PST
DTSTART:20241103T090000
END:STANDARD
BEGIN:DAYLIGHT
TZOFFSETFROM:-0800
TZOFFSETTO:-0700
TZNAME:PDT
DTSTART:20250309T100000
END:DAYLIGHT
BEGIN:STANDARD
TZOFFSETFROM:-0700
TZOFFSETTO:-0800
TZNAME:PST
DTSTART:20251102T090000
END:STANDARD
BEGIN:DAYLIGHT
TZOFFSETFROM:-0800
TZOFFSETTO:-0700
TZNAME:PDT
DTSTART:20260308T100000
END:DAYLIGHT
BEGIN:STANDARD
TZOFFSETFROM:-0700
TZOFFSETTO:-0800
TZNAME:PST
DTSTART:20261101T090000
END:STANDARD
END:VTIMEZONE
BEGIN:VEVENT
DTSTART;TZID=America/Los_Angeles:20251125T130000
DTEND;TZID=America/Los_Angeles:20251125T170000
DTSTAMP:20260420T224929
CREATED:20250710T190648Z
LAST-MODIFIED:20250710T190648Z
UID:10005888-1764075600-1764090000@tech.vegas
SUMMARY:Launch Your Own Successful AI App | AI Startup | Workshop 2025
DESCRIPTION:Launch Your Own Successful AI App | AI Startup | Workshop 2025
URL:https://tech.vegas/event/launch-your-own-successful-ai-app-ai-startup-workshop-2025-20/
LOCATION:Regus Office\, Las Vegas\, Regus Office\, Las Vegas\, NV\, United States
CATEGORIES:Technology
ATTACH;FMTTYPE=image/jpeg:https://tech.vegas/wp-content/uploads/2025/07/5a8ea7729dc237ec517c66fd7d9404df.jpg
END:VEVENT
BEGIN:VEVENT
DTSTART;TZID=America/Los_Angeles:20251118T130000
DTEND;TZID=America/Los_Angeles:20251118T170000
DTSTAMP:20260420T224929
CREATED:20250710T190648Z
LAST-MODIFIED:20250710T190648Z
UID:10005887-1763470800-1763485200@tech.vegas
SUMMARY:Launch Your Own Successful AI App | AI Startup | Workshop 2025
DESCRIPTION:Launch Your Own Successful AI App | AI Startup | Workshop 2025
URL:https://tech.vegas/event/launch-your-own-successful-ai-app-ai-startup-workshop-2025-19/
LOCATION:Regus Office\, Las Vegas\, Regus Office\, Las Vegas\, NV\, United States
CATEGORIES:Technology
ATTACH;FMTTYPE=image/jpeg:https://tech.vegas/wp-content/uploads/2025/07/5a8ea7729dc237ec517c66fd7d9404df.jpg
END:VEVENT
BEGIN:VEVENT
DTSTART;TZID=America/Los_Angeles:20251111T130000
DTEND;TZID=America/Los_Angeles:20251111T170000
DTSTAMP:20260420T224929
CREATED:20250710T190648Z
LAST-MODIFIED:20250710T190648Z
UID:10005886-1762866000-1762880400@tech.vegas
SUMMARY:Launch Your Own Successful AI App | AI Startup | Workshop 2025
DESCRIPTION:Launch Your Own Successful AI App | AI Startup | Workshop 2025
URL:https://tech.vegas/event/launch-your-own-successful-ai-app-ai-startup-workshop-2025-18/
LOCATION:Regus Office\, Las Vegas\, Regus Office\, Las Vegas\, NV\, United States
CATEGORIES:Technology
ATTACH;FMTTYPE=image/jpeg:https://tech.vegas/wp-content/uploads/2025/07/5a8ea7729dc237ec517c66fd7d9404df.jpg
END:VEVENT
BEGIN:VEVENT
DTSTART;TZID=America/Los_Angeles:20251104T130000
DTEND;TZID=America/Los_Angeles:20251104T170000
DTSTAMP:20260420T224929
CREATED:20250710T190648Z
LAST-MODIFIED:20250710T190648Z
UID:10005885-1762261200-1762275600@tech.vegas
SUMMARY:Launch Your Own Successful AI App | AI Startup | Workshop 2025
DESCRIPTION:Launch Your Own Successful AI App | AI Startup | Workshop 2025
URL:https://tech.vegas/event/launch-your-own-successful-ai-app-ai-startup-workshop-2025-17/
LOCATION:Regus Office\, Las Vegas\, Regus Office\, Las Vegas\, NV\, United States
CATEGORIES:Technology
ATTACH;FMTTYPE=image/jpeg:https://tech.vegas/wp-content/uploads/2025/07/5a8ea7729dc237ec517c66fd7d9404df.jpg
END:VEVENT
BEGIN:VEVENT
DTSTART;TZID=America/Los_Angeles:20251028T130000
DTEND;TZID=America/Los_Angeles:20251028T170000
DTSTAMP:20260420T224929
CREATED:20250710T190648Z
LAST-MODIFIED:20250710T190648Z
UID:10005884-1761656400-1761670800@tech.vegas
SUMMARY:Launch Your Own Successful AI App | AI Startup | Workshop 2025
DESCRIPTION:Launch Your Own Successful AI App | AI Startup | Workshop 2025
URL:https://tech.vegas/event/launch-your-own-successful-ai-app-ai-startup-workshop-2025-16/
LOCATION:Regus Office\, Las Vegas\, Regus Office\, Las Vegas\, NV\, United States
CATEGORIES:Technology
ATTACH;FMTTYPE=image/jpeg:https://tech.vegas/wp-content/uploads/2025/07/5a8ea7729dc237ec517c66fd7d9404df.jpg
END:VEVENT
BEGIN:VEVENT
DTSTART;TZID=America/Los_Angeles:20251021T130000
DTEND;TZID=America/Los_Angeles:20251021T170000
DTSTAMP:20260420T224929
CREATED:20250710T190648Z
LAST-MODIFIED:20250710T190648Z
UID:10005883-1761051600-1761066000@tech.vegas
SUMMARY:Launch Your Own Successful AI App | AI Startup | Workshop 2025
DESCRIPTION:Launch Your Own Successful AI App | AI Startup | Workshop 2025
URL:https://tech.vegas/event/launch-your-own-successful-ai-app-ai-startup-workshop-2025-15/
LOCATION:Regus Office\, Las Vegas\, Regus Office\, Las Vegas\, NV\, United States
CATEGORIES:Technology
ATTACH;FMTTYPE=image/jpeg:https://tech.vegas/wp-content/uploads/2025/07/5a8ea7729dc237ec517c66fd7d9404df.jpg
END:VEVENT
END:VCALENDAR