BEGIN:VCALENDAR
VERSION:2.0
PRODID:-//Tech.Vegas - ECPv6.15.20//NONSGML v1.0//EN
CALSCALE:GREGORIAN
METHOD:PUBLISH
X-WR-CALNAME:Tech.Vegas
X-ORIGINAL-URL:https://tech.vegas
X-WR-CALDESC:Events for Tech.Vegas
REFRESH-INTERVAL;VALUE=DURATION:PT1H
X-Robots-Tag:noindex
X-PUBLISHED-TTL:PT1H
BEGIN:VTIMEZONE
TZID:America/Los_Angeles
BEGIN:DAYLIGHT
TZOFFSETFROM:-0800
TZOFFSETTO:-0700
TZNAME:PDT
DTSTART:20250309T100000
END:DAYLIGHT
BEGIN:STANDARD
TZOFFSETFROM:-0700
TZOFFSETTO:-0800
TZNAME:PST
DTSTART:20251102T090000
END:STANDARD
BEGIN:DAYLIGHT
TZOFFSETFROM:-0800
TZOFFSETTO:-0700
TZNAME:PDT
DTSTART:20260308T100000
END:DAYLIGHT
BEGIN:STANDARD
TZOFFSETFROM:-0700
TZOFFSETTO:-0800
TZNAME:PST
DTSTART:20261101T090000
END:STANDARD
BEGIN:DAYLIGHT
TZOFFSETFROM:-0800
TZOFFSETTO:-0700
TZNAME:PDT
DTSTART:20270314T100000
END:DAYLIGHT
BEGIN:STANDARD
TZOFFSETFROM:-0700
TZOFFSETTO:-0800
TZNAME:PST
DTSTART:20271107T090000
END:STANDARD
END:VTIMEZONE
BEGIN:VEVENT
DTSTART;TZID=America/Los_Angeles:20260325T073000
DTEND;TZID=America/Los_Angeles:20260325T143000
DTSTAMP:20260420T164543
CREATED:20260308T102814Z
LAST-MODIFIED:20260320T135355Z
UID:10006910-1774423800-1774449000@tech.vegas
SUMMARY:The Sanctuary with Smile\, Stord\, Arcady Media and Rep AI
DESCRIPTION:Get up-to-date information at: https://luma.com/z3scsb9pAddress:PRESS– From the convention floor\, walk to Mandalay Bay’s front desk.– At the end of the front desk\, follow the sign pointing to the Four Seasons hallway.– Take the hallway down to the Grand Staircase. Go downstairs.– Once downstairs\, there’s a door to the left that leads out to PRESS Patio South.Las Vegas\, NevadaUnited StatesLet’s be honest – Shoptalk can be a lot. Between packed agendas\, back-to-back meetings\, and nonstop events\, it’s easy to run on empty.The Sanctuary is your reset.Open throughout the day\, this calm\, retreat-style space is designed for merchants in town for Shoptalk to step away from the show floor\, recharge\, and connect in a relaxed\, pitch-free environment.The Sanctuary is open all day for drop-in. Hosted on the PRESS Patio at the Four Seasons\, connected to Mandalay Bay and just a short walk from the conference floor– it’s an easy and convenient escape whenever you need a break.Amenities…Hosted by Fiona Evans & Robert Domagala
URL:https://tech.vegas/event/the-sanctuary-with-smile-stord-arcady-media-and-rep-ai/
LOCATION:PRESS\, 3950 S Las Vegas Blvd\, Las Vegas\, NV\, United States
CATEGORIES:Technology
GEO:36.0929;-115.172804
X-APPLE-STRUCTURED-LOCATION;VALUE=URI;X-ADDRESS=PRESS 3950 S Las Vegas Blvd Las Vegas NV United States;X-APPLE-RADIUS=500;X-TITLE=3950 S Las Vegas Blvd:geo:-115.172804,36.0929
END:VEVENT
END:VCALENDAR