BEGIN:VCALENDAR
VERSION:2.0
PRODID:-//Tech.Vegas - ECPv6.15.20//NONSGML v1.0//EN
CALSCALE:GREGORIAN
METHOD:PUBLISH
X-ORIGINAL-URL:https://tech.vegas
X-WR-CALDESC:Events for Tech.Vegas
REFRESH-INTERVAL;VALUE=DURATION:PT1H
X-Robots-Tag:noindex
X-PUBLISHED-TTL:PT1H
BEGIN:VTIMEZONE
TZID:America/Los_Angeles
BEGIN:DAYLIGHT
TZOFFSETFROM:-0800
TZOFFSETTO:-0700
TZNAME:PDT
DTSTART:20240310T100000
END:DAYLIGHT
BEGIN:STANDARD
TZOFFSETFROM:-0700
TZOFFSETTO:-0800
TZNAME:PST
DTSTART:20241103T090000
END:STANDARD
BEGIN:DAYLIGHT
TZOFFSETFROM:-0800
TZOFFSETTO:-0700
TZNAME:PDT
DTSTART:20250309T100000
END:DAYLIGHT
BEGIN:STANDARD
TZOFFSETFROM:-0700
TZOFFSETTO:-0800
TZNAME:PST
DTSTART:20251102T090000
END:STANDARD
BEGIN:DAYLIGHT
TZOFFSETFROM:-0800
TZOFFSETTO:-0700
TZNAME:PDT
DTSTART:20260308T100000
END:DAYLIGHT
BEGIN:STANDARD
TZOFFSETFROM:-0700
TZOFFSETTO:-0800
TZNAME:PST
DTSTART:20261101T090000
END:STANDARD
END:VTIMEZONE
BEGIN:VEVENT
DTSTART;TZID=America/Los_Angeles:20251226T113000
DTEND;TZID=America/Los_Angeles:20251226T130000
DTSTAMP:20260423T044510
CREATED:20250802T165902Z
LAST-MODIFIED:20250802T165902Z
UID:10006034-1766748600-1766754000@tech.vegas
SUMMARY:Round the table lunch networking event
DESCRIPTION:This event focuses on interaction of each member. \n11:30-12:00: Open networking\n12:00-1:00: Around the table networking\n– Who you are & What you do\n– How all of us can help you \nDo you own a multi-unit property or about to buy your first one? Is your goal to own 30 or 1\,000 units in the next 10 years? How do you evaluate the deal and how do you get started? \nWelcome to the # 1 multifamily in-person meet-up event in the Las Vegas area! \nWe are investors with experience generating passive cash flow by acquiring and operating multifamily communities. If you want to learn more about investing passively or acquiring properties\, this meet-up is for you. Meet both experienced investors and those just starting out in this field\, both part-time and full-time. \n*We aren’t promoting any programs and there is NO SELLING ALLOWED \n## Your Network = Your Net Worth
URL:https://tech.vegas/event/round-the-table-lunch-networking-event-6/
LOCATION:PKWY Tavern Decatur\, 4930 W Flamingo Rd\, Las Vegas\, NV\, 89103\, United States
CATEGORIES:Startups
ATTACH;FMTTYPE=image/jpeg:https://tech.vegas/wp-content/uploads/2025/06/1024x576-fffbzG.jpg
GEO:36.115826;-115.20846
X-APPLE-STRUCTURED-LOCATION;VALUE=URI;X-ADDRESS=PKWY Tavern Decatur 4930 W Flamingo Rd Las Vegas NV 89103 United States;X-APPLE-RADIUS=500;X-TITLE=4930 W Flamingo Rd:geo:-115.20846,36.115826
END:VEVENT
BEGIN:VEVENT
DTSTART;TZID=America/Los_Angeles:20251128T113000
DTEND;TZID=America/Los_Angeles:20251128T130000
DTSTAMP:20260423T044510
CREATED:20250802T165901Z
LAST-MODIFIED:20250802T165901Z
UID:10006033-1764329400-1764334800@tech.vegas
SUMMARY:Round the table lunch networking event
DESCRIPTION:This event focuses on interaction of each member. \n11:30-12:00: Open networking\n12:00-1:00: Around the table networking\n– Who you are & What you do\n– How all of us can help you \nDo you own a multi-unit property or about to buy your first one? Is your goal to own 30 or 1\,000 units in the next 10 years? How do you evaluate the deal and how do you get started? \nWelcome to the # 1 multifamily in-person meet-up event in the Las Vegas area! \nWe are investors with experience generating passive cash flow by acquiring and operating multifamily communities. If you want to learn more about investing passively or acquiring properties\, this meet-up is for you. Meet both experienced investors and those just starting out in this field\, both part-time and full-time. \n*We aren’t promoting any programs and there is NO SELLING ALLOWED \n## Your Network = Your Net Worth
URL:https://tech.vegas/event/round-the-table-lunch-networking-event-5/
LOCATION:PKWY Tavern Decatur\, 4930 W Flamingo Rd\, Las Vegas\, NV\, 89103\, United States
CATEGORIES:Startups
ATTACH;FMTTYPE=image/jpeg:https://tech.vegas/wp-content/uploads/2025/06/1024x576-fffbzG.jpg
GEO:36.115826;-115.20846
X-APPLE-STRUCTURED-LOCATION;VALUE=URI;X-ADDRESS=PKWY Tavern Decatur 4930 W Flamingo Rd Las Vegas NV 89103 United States;X-APPLE-RADIUS=500;X-TITLE=4930 W Flamingo Rd:geo:-115.20846,36.115826
END:VEVENT
BEGIN:VEVENT
DTSTART;TZID=America/Los_Angeles:20251024T113000
DTEND;TZID=America/Los_Angeles:20251024T130000
DTSTAMP:20260423T044510
CREATED:20250802T165901Z
LAST-MODIFIED:20250802T165901Z
UID:10006032-1761305400-1761310800@tech.vegas
SUMMARY:Round the table lunch networking event
DESCRIPTION:This event focuses on interaction of each member. \n11:30-12:00: Open networking\n12:00-1:00: Around the table networking\n– Who you are & What you do\n– How all of us can help you \nDo you own a multi-unit property or about to buy your first one? Is your goal to own 30 or 1\,000 units in the next 10 years? How do you evaluate the deal and how do you get started? \nWelcome to the # 1 multifamily in-person meet-up event in the Las Vegas area! \nWe are investors with experience generating passive cash flow by acquiring and operating multifamily communities. If you want to learn more about investing passively or acquiring properties\, this meet-up is for you. Meet both experienced investors and those just starting out in this field\, both part-time and full-time. \n*We aren’t promoting any programs and there is NO SELLING ALLOWED \n## Your Network = Your Net Worth
URL:https://tech.vegas/event/round-the-table-lunch-networking-event-4/
LOCATION:PKWY Tavern Decatur\, 4930 W Flamingo Rd\, Las Vegas\, NV\, 89103\, United States
CATEGORIES:Startups
ATTACH;FMTTYPE=image/jpeg:https://tech.vegas/wp-content/uploads/2025/06/1024x576-fffbzG.jpg
GEO:36.115826;-115.20846
X-APPLE-STRUCTURED-LOCATION;VALUE=URI;X-ADDRESS=PKWY Tavern Decatur 4930 W Flamingo Rd Las Vegas NV 89103 United States;X-APPLE-RADIUS=500;X-TITLE=4930 W Flamingo Rd:geo:-115.20846,36.115826
END:VEVENT
END:VCALENDAR