BEGIN:VCALENDAR
VERSION:2.0
PRODID:-//Tech.Vegas - ECPv6.15.20//NONSGML v1.0//EN
CALSCALE:GREGORIAN
METHOD:PUBLISH
X-ORIGINAL-URL:https://tech.vegas
X-WR-CALDESC:Events for Tech.Vegas
REFRESH-INTERVAL;VALUE=DURATION:PT1H
X-Robots-Tag:noindex
X-PUBLISHED-TTL:PT1H
BEGIN:VTIMEZONE
TZID:America/Los_Angeles
BEGIN:DAYLIGHT
TZOFFSETFROM:-0800
TZOFFSETTO:-0700
TZNAME:PDT
DTSTART:20240310T100000
END:DAYLIGHT
BEGIN:STANDARD
TZOFFSETFROM:-0700
TZOFFSETTO:-0800
TZNAME:PST
DTSTART:20241103T090000
END:STANDARD
BEGIN:DAYLIGHT
TZOFFSETFROM:-0800
TZOFFSETTO:-0700
TZNAME:PDT
DTSTART:20250309T100000
END:DAYLIGHT
BEGIN:STANDARD
TZOFFSETFROM:-0700
TZOFFSETTO:-0800
TZNAME:PST
DTSTART:20251102T090000
END:STANDARD
BEGIN:DAYLIGHT
TZOFFSETFROM:-0800
TZOFFSETTO:-0700
TZNAME:PDT
DTSTART:20260308T100000
END:DAYLIGHT
BEGIN:STANDARD
TZOFFSETFROM:-0700
TZOFFSETTO:-0800
TZNAME:PST
DTSTART:20261101T090000
END:STANDARD
END:VTIMEZONE
BEGIN:VEVENT
DTSTART;TZID=America/Los_Angeles:20251203T183000
DTEND;TZID=America/Los_Angeles:20251203T213000
DTSTAMP:20260422T031223
CREATED:20251114T090656Z
LAST-MODIFIED:20251114T090658Z
UID:10006389-1764786600-1764797400@tech.vegas
SUMMARY:AI After Dark: The AI Happy Hour at AWS re:Invent with Vercel\, Supabase\, Slack & Baseten
DESCRIPTION:Join us for AI After Dark\, the premier AI Happy Hour at AWS re:Invent. Enjoy an evening of great food\, craft cocktails\, and conversation with the builders shaping how AI comes to life in production. \n\n\n\n​Unwind in our vibe coding lounge\, connect with peers\, and hear from leaders across Vercel\, Supabase\, Slack\, and Baseten as they discuss “Perspectives of agentic anatomy: From build to deploy.” \n\n\n\n​Panel begins at 7:30pm\, followed by audience Q&A at 8:00pm. \n\n\n\n​Panelists: \n\n\n\n\n​Aparna Sinha — SVP of Product\, Vercel\n\n\n\n​Tuhin Srivastava — CEO\, Baseten\n\n\n\n​Gregg Rybicki — Sr. Director of Partner Engineering\, Slack\n\n\n\n​Tyler Shukert — DevRel Engineer\, Supabase\n\n\n\n\n​Come for the drinks\, stay for the ideas\, and see what’s next for AI on the web.About VercelVercel’s AI Cloud provides the tools and infrastructure to build\, scale\, and secure intelligent applications. As the most popular DX platform for frontend development and the team behind v0\, Next.js\, and AI SDK\, we help customers like OpenAI\, PayPal\, Ramp and Supreme build for the AI-native web.About SupabaseSupabase is the open-source Postgres development platform that’s built to scale to millions. It is an all-in-one suite with Database\, Auth\, Storage\, Edge Functions\, Real-Time\, and Vector search. Use one or all.About SlackSlack is the platform agents and AI call home. The Slack platform brings your entire tech stack together. It’s scalable\, secure\, and purpose-built for bringing agents and AI to every business.About BasetenBaseten is the leader in fast\, scalable\, and secure AI inference solutions. With powerful autoscaling\, blazing-fast performance\, and a seamless developer experience\, companies of all sizes can deliver at scale effortlessly.
URL:https://tech.vegas/event/ai-after-dark-the-ai-happy-hour-at-aws-reinvent-with-vercel-supabase-slack-baseten/
LOCATION:LAVO Italian Restaurant\, 3325 S Las Vegas Blvd\, Las Vegas\, NV 89109\, USA
CATEGORIES:Networking,Technology
ATTACH;FMTTYPE=image/png:https://tech.vegas/wp-content/uploads/2025/11/image-8.png
END:VEVENT
END:VCALENDAR