BEGIN:VCALENDAR
VERSION:2.0
PRODID:-//Tech.Vegas - ECPv6.15.20//NONSGML v1.0//EN
CALSCALE:GREGORIAN
METHOD:PUBLISH
X-ORIGINAL-URL:https://tech.vegas
X-WR-CALDESC:Events for Tech.Vegas
REFRESH-INTERVAL;VALUE=DURATION:PT1H
X-Robots-Tag:noindex
X-PUBLISHED-TTL:PT1H
BEGIN:VTIMEZONE
TZID:America/Los_Angeles
BEGIN:DAYLIGHT
TZOFFSETFROM:-0800
TZOFFSETTO:-0700
TZNAME:PDT
DTSTART:20240310T100000
END:DAYLIGHT
BEGIN:STANDARD
TZOFFSETFROM:-0700
TZOFFSETTO:-0800
TZNAME:PST
DTSTART:20241103T090000
END:STANDARD
BEGIN:DAYLIGHT
TZOFFSETFROM:-0800
TZOFFSETTO:-0700
TZNAME:PDT
DTSTART:20250309T100000
END:DAYLIGHT
BEGIN:STANDARD
TZOFFSETFROM:-0700
TZOFFSETTO:-0800
TZNAME:PST
DTSTART:20251102T090000
END:STANDARD
BEGIN:DAYLIGHT
TZOFFSETFROM:-0800
TZOFFSETTO:-0700
TZNAME:PDT
DTSTART:20260308T100000
END:DAYLIGHT
BEGIN:STANDARD
TZOFFSETFROM:-0700
TZOFFSETTO:-0800
TZNAME:PST
DTSTART:20261101T090000
END:STANDARD
END:VTIMEZONE
BEGIN:VEVENT
DTSTART;TZID=America/Los_Angeles:20251120T180000
DTEND;TZID=America/Los_Angeles:20251120T233000
DTSTAMP:20260422T022851
CREATED:20250424T000028Z
LAST-MODIFIED:20250424T000028Z
UID:10005497-1763661600-1763681400@tech.vegas
SUMMARY:Las Vegas Race Week Digital Social Networking Mixer
DESCRIPTION:This meetup is hosted by Sean Mike Kelly\, Host of The Digital Social Hour Podcast.\n\n\nMiami Race Week Event: https://www.eventbrite.com/e/miami-race-week-digital-social-event-17-tickets-1094427555279?aff=oddtdtcreator \nMiami Art Basel Event: https://www.eventbrite.com/e/miami-art-basel-digital-social-networking-event-20-tickets-1144876609759?aff=oddtdtcreator \nIgnite your race week plans with access to the ultimate watch party in the heart of the Las Vegas Strip at The Boulevard Experience. Enjoy a fun atmosphere as you view the races on massive screens. Indulge in live entertainment and get ready to feel the rush of race week as it surges across the city! \nApply to Be on Digital Social Hour Podcast: https://www.digitalsocialhour.com/application \nInterested in sponsoring the event? Email : Jenna@DigitalSocialHour.com \nPrevious Attendees \n \n\nDaymond John – Founder\, FUBU & Investor\nJim Kwik – Brain & memory coach to Hollywood’s elite A-list\nAdam Barlan – CEO\, Chain Games\nJohn Gafford – Owner\, Simply Vegas\nBrett Malinowski – Founder\, WGMI Media\, YouTuber\nIvan Linn – Music director for Assassins Creed and did production for Final Fantasy & Kingdom Hearts.\nChad Dime – Founder\, DIFF Eyewear\nPatrick Adair – Founder\, Patrick Adair Rings\, Youtuber\nSebastian Ghiorghiu – Finance YouTuber\nMichael Terpin – Godfather of Crypto\nSpencer Cornelia – YouTuber\nDJ Bonics – Wiz Khalifa DJ\nShawn Meaike – 9 Figure Entrepreneur\nJonathan P. Poyser – Head of Google Pay\nNate O Brien – YouTuber\nFrankie Quirroz – Founder\, TunedinTokyo\nCharlie Rocket – Founder\, Dream Machine\n\n\nZay Jones – NFL Wide Receiver\nDan Cates – Pro Poker Player\nMikki Mase- Pro Poker/Baccarat Player\n\n\nLee Richter – Runs 9 companies and invests in 36 successful businesses generating $100M+\nJason Stone – Founder\, Millionaire Mentor\nDavid Meltzer – Co-founder of Sports 1 Marketing and former CEO of Leigh Steinberg Sports & Entertainment agency\, which was the inspiration for the movie Jerry Maguire.\nAndrew Cartwright – World Famous Real Estate Agent Investor\nMo Hurst- NFL Player for San Francisco 49ers\nDavid Silverman – Director\, Simpsons\nNatasha Graziano – Celebrity Coach\nArtlanta – Famous Artist\nWalter O’ Brien – Third highest IQ in World\nDane Robert DiLiegro – Actor\, Guardians of the Galaxy + Prey\nPace Morby – Real Estate Expert\nBill Glaser – Founder\, Outstanding Foods\nMarquis Trill – Celebrity\nGeorge J. Chanos – Former Attorney General of Nevada\, Chairman of Capriotti’s and Wing Zone\, Founder of Uvolution.\nDan Fleyshman – Founder\, 100 Million Dollar Mastermind\nJessie Vargas – Pro Boxer\nMike Barron – 9 Figure Entrepreneur
URL:https://tech.vegas/event/las-vegas-race-week-digital-social-networking-mixer/
LOCATION:Las Vegas\, Las Vegas\, Nevada
CATEGORIES:Networking
ATTACH;FMTTYPE=image/jpeg:https://tech.vegas/wp-content/uploads/2025/04/1c767240dbe4ea613164ab490a6fd827.jpg
END:VEVENT
BEGIN:VEVENT
DTSTART;TZID=America/Los_Angeles:20251027T123000
DTEND;TZID=America/Los_Angeles:20251027T173000
DTSTAMP:20260422T022851
CREATED:20251027T193008Z
LAST-MODIFIED:20251027T193008Z
UID:10006345-1761568200-1761586200@tech.vegas
SUMMARY:Roadshow to Stablecon: Stablecoin Day
DESCRIPTION:Join us on a wild ride to Stablecon: Stablecoin Day packed with crypto insights and networking opportunities!\n\n\n​Calling stablecoin founders\, banks\, investors\, operators\, and the curious! \n​Join Stablecon & Borderless.xyz for a “can’t miss” invite only side event bringing together the leaders shaping the future of stablecoins. \n​Expect a curated afternoon of panels\, fireside chats\, and open networking with the people building real infrastructure in stablecoins from compliance to liquidity\, payments\, and beyond. We’ll explore: \n\n​Cross-border payments & embedded finance\n​The full stablecoin infrastructure stack\n​How stablecoins + AI enable autonomous economies\n​Global adoption trends\n​Why VCs are betting big on this space\n\n​We’re proud to be supported by leading sponsors helping make this event possible: \n​Borderless.xyz | Bridge (a Stripe company) \n​Persona | Fordefi | WalletConnect | Monad | OpenPayd |Turnkey \n​Oscilar |Aleo | B2C2 \n​Light bites\, drinks\, and great conversation throughout. \n​​Spots are limited. RSVP now to be part of the conversation shaping the future of payments. \n​​​​Don’t forget you can join the community on Telegram – https://t.me/+akTlCGa7bENlYTIx
URL:https://tech.vegas/event/roadshow-to-stablecon-stablecoin-day/
LOCATION:Las Vegas\, Las Vegas\, Nevada
CATEGORIES:Technology
ATTACH;FMTTYPE=image/jpeg:https://tech.vegas/wp-content/uploads/2025/10/0aeef8ffa3bc4cef557e5c969057ff6f.jpg
END:VEVENT
END:VCALENDAR