BEGIN:VCALENDAR
VERSION:2.0
PRODID:-//Tech.Vegas - ECPv6.15.20//NONSGML v1.0//EN
CALSCALE:GREGORIAN
METHOD:PUBLISH
X-WR-CALNAME:Tech.Vegas
X-ORIGINAL-URL:https://tech.vegas
X-WR-CALDESC:Events for Tech.Vegas
REFRESH-INTERVAL;VALUE=DURATION:PT1H
X-Robots-Tag:noindex
X-PUBLISHED-TTL:PT1H
BEGIN:VTIMEZONE
TZID:America/Los_Angeles
BEGIN:DAYLIGHT
TZOFFSETFROM:-0800
TZOFFSETTO:-0700
TZNAME:PDT
DTSTART:20240310T100000
END:DAYLIGHT
BEGIN:STANDARD
TZOFFSETFROM:-0700
TZOFFSETTO:-0800
TZNAME:PST
DTSTART:20241103T090000
END:STANDARD
BEGIN:DAYLIGHT
TZOFFSETFROM:-0800
TZOFFSETTO:-0700
TZNAME:PDT
DTSTART:20250309T100000
END:DAYLIGHT
BEGIN:STANDARD
TZOFFSETFROM:-0700
TZOFFSETTO:-0800
TZNAME:PST
DTSTART:20251102T090000
END:STANDARD
BEGIN:DAYLIGHT
TZOFFSETFROM:-0800
TZOFFSETTO:-0700
TZNAME:PDT
DTSTART:20260308T100000
END:DAYLIGHT
BEGIN:STANDARD
TZOFFSETFROM:-0700
TZOFFSETTO:-0800
TZNAME:PST
DTSTART:20261101T090000
END:STANDARD
END:VTIMEZONE
BEGIN:VEVENT
DTSTART;TZID=America/Los_Angeles:20251213T103000
DTEND;TZID=America/Los_Angeles:20251213T123000
DTSTAMP:20260421T215457
CREATED:20251211T090710Z
LAST-MODIFIED:20251211T090710Z
UID:10006482-1765621800-1765629000@tech.vegas
SUMMARY:Support Elevate Diversity at Kendra Scott!
DESCRIPTION:Looking for the perfect Christmas gift for that jewelry lover? Shop Kendra Scott and give back to Elevate Diversity!\n\n\nWe’re partnering with Kendra Scott at Downtown Summerlin for an in-store giveback event you won’t want to miss! Come shop your favorite pieces\, treat yourself or a friend\, and support our mission at the same time.📍 Kendra Scott – Downtown Summerlin📅 Saturday\, December 13th⏰ Shop anytime between 10:30 AM and 12:30 PM!Just mention Elevate Diversity at checkout and 20% of your purchase will go directly toward supporting our community efforts. 💛 \nCan’t make it in person? You can still support from home!🛍️ Online Giveback: December 13–14Use code GIVEBACK-JLAFM at checkout to have 20% donated back to us.Come shop\, mingle\, and kick off the holiday season with some sparkle! ✨💛
URL:https://tech.vegas/event/support-elevate-diversity-at-kendra-scott/
LOCATION:Kendra Scott\, 1980 Festival Plaza Drive\, #Suite 135\, Las Vegas\, NV\, 89135\, United States
CATEGORIES:Networking
ATTACH;FMTTYPE=image/jpeg:https://tech.vegas/wp-content/uploads/2025/12/f403ae28778013e6ddab259f5123fef9.jpg
END:VEVENT
END:VCALENDAR