BEGIN:VCALENDAR
VERSION:2.0
PRODID:-//Tech.Vegas - ECPv6.15.20//NONSGML v1.0//EN
CALSCALE:GREGORIAN
METHOD:PUBLISH
X-ORIGINAL-URL:https://tech.vegas
X-WR-CALDESC:Events for Tech.Vegas
REFRESH-INTERVAL;VALUE=DURATION:PT1H
X-Robots-Tag:noindex
X-PUBLISHED-TTL:PT1H
BEGIN:VTIMEZONE
TZID:America/Los_Angeles
BEGIN:DAYLIGHT
TZOFFSETFROM:-0800
TZOFFSETTO:-0700
TZNAME:PDT
DTSTART:20250309T100000
END:DAYLIGHT
BEGIN:STANDARD
TZOFFSETFROM:-0700
TZOFFSETTO:-0800
TZNAME:PST
DTSTART:20251102T090000
END:STANDARD
BEGIN:DAYLIGHT
TZOFFSETFROM:-0800
TZOFFSETTO:-0700
TZNAME:PDT
DTSTART:20260308T100000
END:DAYLIGHT
BEGIN:STANDARD
TZOFFSETFROM:-0700
TZOFFSETTO:-0800
TZNAME:PST
DTSTART:20261101T090000
END:STANDARD
BEGIN:DAYLIGHT
TZOFFSETFROM:-0800
TZOFFSETTO:-0700
TZNAME:PDT
DTSTART:20270314T100000
END:DAYLIGHT
BEGIN:STANDARD
TZOFFSETFROM:-0700
TZOFFSETTO:-0800
TZNAME:PST
DTSTART:20271107T090000
END:STANDARD
END:VTIMEZONE
BEGIN:VEVENT
DTSTART;TZID=America/Los_Angeles:20260108T180000
DTEND;TZID=America/Los_Angeles:20260108T200000
DTSTAMP:20260421T165114
CREATED:20260107T102830Z
LAST-MODIFIED:20260107T102830Z
UID:10006564-1767895200-1767902400@tech.vegas
SUMMARY:BairesDev Topgolf Mixer @CES 2026
DESCRIPTION:Get up-to-date information at: https://luma.com/1vnvr004\nAddress:\nCheck event page for more details.\n**Swing into CES week with BairesDev at Topgolf Las Vegas!**\nTake a break from the convention center chaos and join us for an evening of competitive fun\, great food\, and even better conversations. Whether you’re a golf pro or you’ve never held a club in your life\, Topgolf is the perfect excuse to unwind\, connect with folks working on cool tech projects\, and maybe talk some friendly trash while aiming for those targets.\nWe’ll have the bays reserved\, drinks flowing\, and plenty of opportunities to meet people actually doing interesting work in tech. Come solo\, bring colleagues\, or challenge…\nHosted by BairesDev & 4 others
URL:https://tech.vegas/event/bairesdev-topgolf-mixer-ces-2026/
LOCATION:https://luma.com/event/evt-fYr1QTwnweprLdn
CATEGORIES:Technology
END:VEVENT
END:VCALENDAR