BEGIN:VCALENDAR
VERSION:2.0
PRODID:-//Tech.Vegas - ECPv6.15.20//NONSGML v1.0//EN
CALSCALE:GREGORIAN
METHOD:PUBLISH
X-WR-CALNAME:Tech.Vegas
X-ORIGINAL-URL:https://tech.vegas
X-WR-CALDESC:Events for Tech.Vegas
REFRESH-INTERVAL;VALUE=DURATION:PT1H
X-Robots-Tag:noindex
X-PUBLISHED-TTL:PT1H
BEGIN:VTIMEZONE
TZID:America/Los_Angeles
BEGIN:DAYLIGHT
TZOFFSETFROM:-0800
TZOFFSETTO:-0700
TZNAME:PDT
DTSTART:20250309T100000
END:DAYLIGHT
BEGIN:STANDARD
TZOFFSETFROM:-0700
TZOFFSETTO:-0800
TZNAME:PST
DTSTART:20251102T090000
END:STANDARD
BEGIN:DAYLIGHT
TZOFFSETFROM:-0800
TZOFFSETTO:-0700
TZNAME:PDT
DTSTART:20260308T100000
END:DAYLIGHT
BEGIN:STANDARD
TZOFFSETFROM:-0700
TZOFFSETTO:-0800
TZNAME:PST
DTSTART:20261101T090000
END:STANDARD
BEGIN:DAYLIGHT
TZOFFSETFROM:-0800
TZOFFSETTO:-0700
TZNAME:PDT
DTSTART:20270314T100000
END:DAYLIGHT
BEGIN:STANDARD
TZOFFSETFROM:-0700
TZOFFSETTO:-0800
TZNAME:PST
DTSTART:20271107T090000
END:STANDARD
END:VTIMEZONE
BEGIN:VEVENT
DTSTART;TZID=America/Los_Angeles:20260107T080000
DTEND;TZID=America/Los_Angeles:20260107T100000
DTSTAMP:20260420T144029
CREATED:20260102T153153Z
LAST-MODIFIED:20260102T153155Z
UID:10006551-1767772800-1767780000@tech.vegas
SUMMARY:Women In Innovation CES Breakfast
DESCRIPTION:Acorn Product Development and EverCurrent invite you to the Women in Innovation Breakfast at CES 2026 — a morning dedicated to connecting women across technology\, business\, and innovation.​ \n\n\n\n​Join peers and partners for a networking breakfast designed to foster meaningful connections\, exchange insights\, and strengthen relationships across our shared ecosystem. \n\n\n\n​​Please Note:This is a complimentary event for CES attendees. To ensure engaging and relevant discussions\, spots are limited and require approval. Please register to express your interest\, and we’ll send a confirmation at least one week before CES. \n\n\n\n​About The Hosts: \n\n\n\n​​Acorn Product DevelopmentFor over 30 years\, Acorn has been a trusted product development partner providing comprehensive engineering\, user-centered design\, and program management services. We specialize in innovative and manufacturable product development\, focusing on design for manufacturability (DFM/DFA)\, subassembly development\, engineering analysis\, material and cost optimization\, manufacturing support\, UX/UI design\, and research strategy—serving leading companies around the world. \n\n\n\n​Acorn’s customized approach brings together our multidisciplinary team of engineers and designers to solve complex engineering challenges and develop production-ready products that align with our clients’ vision and market needs. Learn more here: acornpd.com \n\n\n\n​EverCurrentEvery hardware product is a small miracle\, and EverCurrent is where that miracle becomes repeatable. EverCurrent is an AI-native platform that unifies design\, communication\, and decision-making across the entire product lifecycle by integrating data from schedule\, CAD\, MES\, Slack\, Email\, Drive\, and task management into a single\, continuously updated source of truth. \n\n\n\n​EverCurrent supports hardware teams by: \n\n\n\n\n​Providing full\, automatic traceability across design\, requirements\, engineering\, communication\, and manufacturing from day one.\n\n\n\n​Revealing the impact of changes early through automatic deep research and gap analysis\, highlighting required actions\, risks\, and blind spots before they become issues.\n\n\n\n​Helping teams balance quality\, cost\, and schedule\, maintaining high standards while accelerating execution.\n\n\n\n\n​We help teams unlock tribal knowledge\, identify blind spots early\, and unlock engineering capacity for innovation. Your data is protected with SOC 2 and ITAR compliance. Learn more here: evercurrent.ai
URL:https://tech.vegas/event/women-in-innovation-ces-breakfast/
LOCATION:Donutique\, 3327 Las Vegas Blvd S #1530\, Las Vegas\, NV 89109\, USA
CATEGORIES:Networking
ATTACH;FMTTYPE=image/png:https://tech.vegas/wp-content/uploads/2026/01/image-7.png
END:VEVENT
BEGIN:VEVENT
DTSTART;TZID=America/Los_Angeles:20260107T080000
DTEND;TZID=America/Los_Angeles:20260107T100000
DTSTAMP:20260420T144029
CREATED:20260107T102830Z
LAST-MODIFIED:20260107T102830Z
UID:10006559-1767772800-1767780000@tech.vegas
SUMMARY:Women In Innovation CES Breakfast
DESCRIPTION:Get up-to-date information at: https://luma.com/9j7jye6m\nAddress:\nDonutique\nLas Vegas\, Nevada\nUnited States\nAcorn Product Development and EverCurrent invite you to the Women in Innovation Breakfast at CES 2026 — a morning dedicated to connecting women across technology\, business\, and innovation.\nJoin peers and partners for a networking breakfast designed to foster meaningful connections\, exchange insights\, and strengthen relationships across our shared ecosystem.\nPlease Note:\nThis is a complimentary event for CES attendees. To ensure engaging and relevant discussions\, spots are limited and require approval. Please register to express your interest\, and we’ll send a confirmation at least one week…\nHosted by Acorn Product Development & 4 others
URL:https://tech.vegas/event/women-in-innovation-ces-breakfast-2/
LOCATION:Donutique\, 3327 Las Vegas Blvd S #1530\, Las Vegas\, NV 89109\, USA
CATEGORIES:Technology
END:VEVENT
END:VCALENDAR