BEGIN:VCALENDAR
VERSION:2.0
PRODID:-//Tech.Vegas - ECPv6.15.20//NONSGML v1.0//EN
CALSCALE:GREGORIAN
METHOD:PUBLISH
X-WR-CALNAME:Tech.Vegas
X-ORIGINAL-URL:https://tech.vegas
X-WR-CALDESC:Events for Tech.Vegas
REFRESH-INTERVAL;VALUE=DURATION:PT1H
X-Robots-Tag:noindex
X-PUBLISHED-TTL:PT1H
BEGIN:VTIMEZONE
TZID:America/Los_Angeles
BEGIN:DAYLIGHT
TZOFFSETFROM:-0800
TZOFFSETTO:-0700
TZNAME:PDT
DTSTART:20250309T100000
END:DAYLIGHT
BEGIN:STANDARD
TZOFFSETFROM:-0700
TZOFFSETTO:-0800
TZNAME:PST
DTSTART:20251102T090000
END:STANDARD
BEGIN:DAYLIGHT
TZOFFSETFROM:-0800
TZOFFSETTO:-0700
TZNAME:PDT
DTSTART:20260308T100000
END:DAYLIGHT
BEGIN:STANDARD
TZOFFSETFROM:-0700
TZOFFSETTO:-0800
TZNAME:PST
DTSTART:20261101T090000
END:STANDARD
BEGIN:DAYLIGHT
TZOFFSETFROM:-0800
TZOFFSETTO:-0700
TZNAME:PDT
DTSTART:20270314T100000
END:DAYLIGHT
BEGIN:STANDARD
TZOFFSETFROM:-0700
TZOFFSETTO:-0800
TZNAME:PST
DTSTART:20271107T090000
END:STANDARD
END:VTIMEZONE
BEGIN:VEVENT
DTSTART;TZID=America/Los_Angeles:20260325T170000
DTEND;TZID=America/Los_Angeles:20260325T200000
DTSTAMP:20260420T162918
CREATED:20260308T102814Z
LAST-MODIFIED:20260320T135647Z
UID:10006913-1774458000-1774468800@tech.vegas
SUMMARY:After Hours with Aviator Nation
DESCRIPTION:Get up-to-date information at: https://luma.com/q2f0v5vvAddress:Aviator Nation Las VegasLas Vegas\, NevadaUnited StatesWe’re taking over the Aviator Nation store during Shoptalk Las Vegas and inviting brand leaders to grab a drink and party.Oh\, did we mention? Each guest gets a $100 voucher to snag some Aviator Nation pieces during the happy hour.Pop in for the chance to…Win Aviator Nation bundles valued up to $500Connect with fellow fashion leaders at Shoptalk and grow your brand communityLearn from Aviator Nation and e-commerce experts on building a legendary tech stackEnjoy an open bar and small bites while you shop the storeSponsored by:Treet\, the leading branded resale solution for modern…Hosted by Treet Co.
URL:https://tech.vegas/event/after-hours-with-aviator-nation/
LOCATION:Aviator Nation Las Vegas\, 3131 Las Vegas Blvd S\, Las Vegas\, NV\, United States
CATEGORIES:Technology
GEO:36.129469;-115.166541
X-APPLE-STRUCTURED-LOCATION;VALUE=URI;X-ADDRESS=Aviator Nation Las Vegas 3131 Las Vegas Blvd S Las Vegas NV United States;X-APPLE-RADIUS=500;X-TITLE=3131 Las Vegas Blvd S:geo:-115.166541,36.129469
END:VEVENT
END:VCALENDAR