BEGIN:VCALENDAR
VERSION:2.0
PRODID:-//Tech.Vegas - ECPv6.15.20//NONSGML v1.0//EN
CALSCALE:GREGORIAN
METHOD:PUBLISH
X-WR-CALNAME:Tech.Vegas
X-ORIGINAL-URL:https://tech.vegas
X-WR-CALDESC:Events for Tech.Vegas
REFRESH-INTERVAL;VALUE=DURATION:PT1H
X-Robots-Tag:noindex
X-PUBLISHED-TTL:PT1H
BEGIN:VTIMEZONE
TZID:America/Los_Angeles
BEGIN:DAYLIGHT
TZOFFSETFROM:-0800
TZOFFSETTO:-0700
TZNAME:PDT
DTSTART:20250309T100000
END:DAYLIGHT
BEGIN:STANDARD
TZOFFSETFROM:-0700
TZOFFSETTO:-0800
TZNAME:PST
DTSTART:20251102T090000
END:STANDARD
BEGIN:DAYLIGHT
TZOFFSETFROM:-0800
TZOFFSETTO:-0700
TZNAME:PDT
DTSTART:20260308T100000
END:DAYLIGHT
BEGIN:STANDARD
TZOFFSETFROM:-0700
TZOFFSETTO:-0800
TZNAME:PST
DTSTART:20261101T090000
END:STANDARD
BEGIN:DAYLIGHT
TZOFFSETFROM:-0800
TZOFFSETTO:-0700
TZNAME:PDT
DTSTART:20270314T100000
END:DAYLIGHT
BEGIN:STANDARD
TZOFFSETFROM:-0700
TZOFFSETTO:-0800
TZNAME:PST
DTSTART:20271107T090000
END:STANDARD
END:VTIMEZONE
BEGIN:VEVENT
DTSTART;TZID=America/Los_Angeles:20260207T190000
DTEND;TZID=America/Los_Angeles:20260207T223000
DTSTAMP:20260421T090010
CREATED:20260118T202120Z
LAST-MODIFIED:20260118T202120Z
UID:10006762-1770490800-1770503400@tech.vegas
SUMMARY:Origin Studios Networking Event & Open House
DESCRIPTION:Swing by Origin Studios for a fun networking night and open house—meet new friends and see the space!\n\n\nOrigin Studios Networking Event & Open House\n \nFor two years\, Origin Studios has been the place where messages turn into momentum. Not just recorded\, but amplified. Not just launched\, but grown. \nThis anniversary open house is your opportunity to step inside the room where top podcasters\, influencers\, and creators connect\, collaborate\, and get heard. Meet the hosts. Meet the team. Meet the people shaping what comes next in Vegas podcasting and beyond. \nExpect live energy\, fresh food\, drinks\, entertainment\, and the First Annual Origin Awards. Plus surprise appearances you won’t see announced beforehand. \nCome for the celebration.Stay for the connections.Leave with momentum heading into 2026. \nIf you miss this night\, you’ll hear about it later.
URL:https://tech.vegas/event/origin-studios-networking-event-open-house/
LOCATION:6565 Spencer St\, 6565 Spencer Street\, Suite 100\, Las Vegas\, NV\, 89119\, United States
CATEGORIES:Networking
ATTACH;FMTTYPE=image/jpeg:https://tech.vegas/wp-content/uploads/2026/01/6b689af44058f8938d083bd4b1cd01f4.jpg
END:VEVENT
END:VCALENDAR