BEGIN:VCALENDAR
VERSION:2.0
PRODID:-//Tech.Vegas - ECPv6.15.20//NONSGML v1.0//EN
CALSCALE:GREGORIAN
METHOD:PUBLISH
X-ORIGINAL-URL:https://tech.vegas
X-WR-CALDESC:Events for Tech.Vegas
REFRESH-INTERVAL;VALUE=DURATION:PT1H
X-Robots-Tag:noindex
X-PUBLISHED-TTL:PT1H
BEGIN:VTIMEZONE
TZID:America/Los_Angeles
BEGIN:DAYLIGHT
TZOFFSETFROM:-0800
TZOFFSETTO:-0700
TZNAME:PDT
DTSTART:20250309T100000
END:DAYLIGHT
BEGIN:STANDARD
TZOFFSETFROM:-0700
TZOFFSETTO:-0800
TZNAME:PST
DTSTART:20251102T090000
END:STANDARD
BEGIN:DAYLIGHT
TZOFFSETFROM:-0800
TZOFFSETTO:-0700
TZNAME:PDT
DTSTART:20260308T100000
END:DAYLIGHT
BEGIN:STANDARD
TZOFFSETFROM:-0700
TZOFFSETTO:-0800
TZNAME:PST
DTSTART:20261101T090000
END:STANDARD
BEGIN:DAYLIGHT
TZOFFSETFROM:-0800
TZOFFSETTO:-0700
TZNAME:PDT
DTSTART:20270314T100000
END:DAYLIGHT
BEGIN:STANDARD
TZOFFSETFROM:-0700
TZOFFSETTO:-0800
TZNAME:PST
DTSTART:20271107T090000
END:STANDARD
END:VTIMEZONE
BEGIN:VEVENT
DTSTART;TZID=America/Los_Angeles:20260325T183000
DTEND;TZID=America/Los_Angeles:20260325T203000
DTSTAMP:20260420T161814
CREATED:20260323T175626Z
LAST-MODIFIED:20260323T175626Z
UID:10006953-1774463400-1774470600@tech.vegas
SUMMARY:Exclusive Peptide Education & Networking Event
DESCRIPTION:Join us in person for exclusive peptide insights\, fun networking\, and cool industry tips!\n\n\nJoin Us for the Exclusive Peptide Education & Networking Event!\nGet ready to dive deep into the world of peptides with fellow enthusiasts and experts. This in-person event is your chance to learn\, share\, and connect in a relaxed\, friendly atmosphere. Whether you’re a newbie or a pro\, there’s something here for everyone! Don’t miss out on making new connections and boosting your peptide knowledge. See you there!
URL:https://tech.vegas/event/exclusive-peptide-education-networking-event/
LOCATION:2835 S Jones Blvd suite 3\, 2835 South Jones Boulevard\, #suite 3\, Las Vegas\, NV\, 89146\, United States
CATEGORIES:Health & Wellness
ATTACH;FMTTYPE=image/jpeg:https://tech.vegas/wp-content/uploads/2026/03/8a1d4cc44f10fadb438d8e11406894b7.jpg
END:VEVENT
END:VCALENDAR