BEGIN:VCALENDAR
VERSION:2.0
PRODID:-//Tech.Vegas - ECPv6.15.20//NONSGML v1.0//EN
CALSCALE:GREGORIAN
METHOD:PUBLISH
X-WR-CALNAME:Tech.Vegas
X-ORIGINAL-URL:https://tech.vegas
X-WR-CALDESC:Events for Tech.Vegas
REFRESH-INTERVAL;VALUE=DURATION:PT1H
X-Robots-Tag:noindex
X-PUBLISHED-TTL:PT1H
BEGIN:VTIMEZONE
TZID:America/Los_Angeles
BEGIN:DAYLIGHT
TZOFFSETFROM:-0800
TZOFFSETTO:-0700
TZNAME:PDT
DTSTART:20250309T100000
END:DAYLIGHT
BEGIN:STANDARD
TZOFFSETFROM:-0700
TZOFFSETTO:-0800
TZNAME:PST
DTSTART:20251102T090000
END:STANDARD
BEGIN:DAYLIGHT
TZOFFSETFROM:-0800
TZOFFSETTO:-0700
TZNAME:PDT
DTSTART:20260308T100000
END:DAYLIGHT
BEGIN:STANDARD
TZOFFSETFROM:-0700
TZOFFSETTO:-0800
TZNAME:PST
DTSTART:20261101T090000
END:STANDARD
BEGIN:DAYLIGHT
TZOFFSETFROM:-0800
TZOFFSETTO:-0700
TZNAME:PDT
DTSTART:20270314T100000
END:DAYLIGHT
BEGIN:STANDARD
TZOFFSETFROM:-0700
TZOFFSETTO:-0800
TZNAME:PST
DTSTART:20271107T090000
END:STANDARD
END:VTIMEZONE
BEGIN:VEVENT
DTSTART;TZID=America/Los_Angeles:20260106T090000
DTEND;TZID=America/Los_Angeles:20260109T180000
DTSTAMP:20260421T182114
CREATED:20251211T093910Z
LAST-MODIFIED:20251211T093910Z
UID:10006488-1767690000-1767981600@tech.vegas
SUMMARY:Meet Webkorps at CES 2026
DESCRIPTION:Join Webkorps at CES 2026 to explore cutting-edge tech innovations and solutions that will shape the future. Innovation starts here!\n\n\nWelcome to Meet Webkorps at CES 2026 \nJoin us for an electrifying event where industry leaders\, tech enthusiasts\, and pioneering innovators gather to shape the future of technology. This in-person experience at the iconic Las Vegas Convention Center takes place on 6th to 9th January 2026. \nGet ready to explore groundbreaking innovations\, discuss the latest trends\, and dive into transformative solutions that are redefining the digital landscape. This is your chance to connect directly with Webkorps experts\, discover new technologies\, and unlock opportunities that can elevate your business in a rapidly evolving tech world. \nWhether you’re looking to network\, learn\, or be inspired\, Webkorps at CES 2026 is the place to be. \nWe can’t wait to meet you – see you in Las Vegas! \n \n👉January 6-9\, 2026 \n👉Las Vegas Convention Center \n \nSchedule your meeting in advance with Webkorps. Schedule Now!
URL:https://tech.vegas/event/meet-webkorps-at-ces-2026/
LOCATION:Las Vegas Convention Center\, 3150 Paradise Rd\, Las Vegas\, NV 89109\, United States
ATTACH;FMTTYPE=image/jpeg:https://tech.vegas/wp-content/uploads/2025/12/c4fec00f5b3592e26691759a6640fb2a.jpg
END:VEVENT
END:VCALENDAR