BEGIN:VCALENDAR
VERSION:2.0
PRODID:-//Tech.Vegas - ECPv6.15.20//NONSGML v1.0//EN
CALSCALE:GREGORIAN
METHOD:PUBLISH
X-WR-CALNAME:Tech.Vegas
X-ORIGINAL-URL:https://tech.vegas
X-WR-CALDESC:Events for Tech.Vegas
REFRESH-INTERVAL;VALUE=DURATION:PT1H
X-Robots-Tag:noindex
X-PUBLISHED-TTL:PT1H
BEGIN:VTIMEZONE
TZID:America/Los_Angeles
BEGIN:DAYLIGHT
TZOFFSETFROM:-0800
TZOFFSETTO:-0700
TZNAME:PDT
DTSTART:20250309T100000
END:DAYLIGHT
BEGIN:STANDARD
TZOFFSETFROM:-0700
TZOFFSETTO:-0800
TZNAME:PST
DTSTART:20251102T090000
END:STANDARD
BEGIN:DAYLIGHT
TZOFFSETFROM:-0800
TZOFFSETTO:-0700
TZNAME:PDT
DTSTART:20260308T100000
END:DAYLIGHT
BEGIN:STANDARD
TZOFFSETFROM:-0700
TZOFFSETTO:-0800
TZNAME:PST
DTSTART:20261101T090000
END:STANDARD
BEGIN:DAYLIGHT
TZOFFSETFROM:-0800
TZOFFSETTO:-0700
TZNAME:PDT
DTSTART:20270314T100000
END:DAYLIGHT
BEGIN:STANDARD
TZOFFSETFROM:-0700
TZOFFSETTO:-0800
TZNAME:PST
DTSTART:20271107T090000
END:STANDARD
END:VTIMEZONE
BEGIN:VEVENT
DTSTART;TZID=America/Los_Angeles:20260105T080000
DTEND;TZID=America/Los_Angeles:20260110T210000
DTSTAMP:20260421T202912
CREATED:20260102T151047Z
LAST-MODIFIED:20260102T151049Z
UID:10006547-1767600000-1768078800@tech.vegas
SUMMARY:CES 2026 Social Frontier: Agents Meet First!
DESCRIPTION:Walnut AI is bringing a16z Tech Week-proven AI networking to CES! Stop wasting time on “card-shuffling” and let your AI Twin do the heavy lifting. \n\n\n\n​Before you even touch down in Las Vegas\, your AI Agent will have performed thousands of “Agent Handshakes”—filtering through the noise to lock in your most valuable investors\, co-founders\, and strategic partners. \n\n\n\n​This is an experimental event where we recommend people worth meeting and help you schedule on-site sessions at the LVCC. \n\n\n\n\n\n\n\n​🤖 How It Works: \n\n\n\n​Premium Pass: Unlock 10 Deep-Level Professional Matches from Hundreds of Swipes. \n\n\n\n​Build Digital Twin: Once you sign up\, you will have an exclusive digital twin based on your professional experience\, insights and network. \n\n\n\n​AI Pre-screening: Your digital twin represents your professional goals 24/7. \n\n\n\n​Precision Matching: Skip the small talk; your agent finds the “signal” in the CES crowd. \n\n\n\n​Two Access Tiers: \n\n\n\n​Free Pass: Get your Top 1 “Perfect Match.” from 5 Recommendations
URL:https://tech.vegas/event/ces-2026-social-frontier-agents-meet-first/
LOCATION:Las Vegas Convention Center\, 3150 Paradise Rd\, Las Vegas\, NV 89109\, United States
CATEGORIES:Networking
ATTACH;FMTTYPE=image/png:https://tech.vegas/wp-content/uploads/2026/01/image-2.png
END:VEVENT
END:VCALENDAR