BEGIN:VCALENDAR
VERSION:2.0
PRODID:-//Tech.Vegas - ECPv6.15.20//NONSGML v1.0//EN
CALSCALE:GREGORIAN
METHOD:PUBLISH
X-WR-CALNAME:Tech.Vegas
X-ORIGINAL-URL:https://tech.vegas
X-WR-CALDESC:Events for Tech.Vegas
REFRESH-INTERVAL;VALUE=DURATION:PT1H
X-Robots-Tag:noindex
X-PUBLISHED-TTL:PT1H
BEGIN:VTIMEZONE
TZID:America/Los_Angeles
BEGIN:DAYLIGHT
TZOFFSETFROM:-0800
TZOFFSETTO:-0700
TZNAME:PDT
DTSTART:20250309T100000
END:DAYLIGHT
BEGIN:STANDARD
TZOFFSETFROM:-0700
TZOFFSETTO:-0800
TZNAME:PST
DTSTART:20251102T090000
END:STANDARD
BEGIN:DAYLIGHT
TZOFFSETFROM:-0800
TZOFFSETTO:-0700
TZNAME:PDT
DTSTART:20260308T100000
END:DAYLIGHT
BEGIN:STANDARD
TZOFFSETFROM:-0700
TZOFFSETTO:-0800
TZNAME:PST
DTSTART:20261101T090000
END:STANDARD
BEGIN:DAYLIGHT
TZOFFSETFROM:-0800
TZOFFSETTO:-0700
TZNAME:PDT
DTSTART:20270314T100000
END:DAYLIGHT
BEGIN:STANDARD
TZOFFSETFROM:-0700
TZOFFSETTO:-0800
TZNAME:PST
DTSTART:20271107T090000
END:STANDARD
END:VTIMEZONE
BEGIN:VEVENT
DTSTART;TZID=America/Los_Angeles:20260123T170000
DTEND;TZID=America/Los_Angeles:20260123T210000
DTSTAMP:20260423T130149
CREATED:20260111T213212Z
LAST-MODIFIED:20260111T213212Z
UID:10006572-1769187600-1769202000@tech.vegas
SUMMARY:✨ Vegas Is Prosperity 2026 ✨
DESCRIPTION:A high-energy Las Vegas event for entrepreneurs and creators ready to elevate mindset\, income\, and connections.
URL:https://tech.vegas/event/%e2%9c%a8-vegas-is-prosperity-2026-%e2%9c%a8/
LOCATION:4300 W Tropicana Ave\, 4300 West Tropicana Avenue\, Las Vegas\, NV\, 89103\, United States
CATEGORIES:Networking
ATTACH;FMTTYPE=image/jpeg:https://tech.vegas/wp-content/uploads/2026/01/7cd61522a13c233a00befab8fddb81c4.jpg
END:VEVENT
END:VCALENDAR