BEGIN:VCALENDAR
VERSION:2.0
PRODID:-//Tech.Vegas - ECPv6.15.20//NONSGML v1.0//EN
CALSCALE:GREGORIAN
METHOD:PUBLISH
X-WR-CALNAME:Tech.Vegas
X-ORIGINAL-URL:https://tech.vegas
X-WR-CALDESC:Events for Tech.Vegas
REFRESH-INTERVAL;VALUE=DURATION:PT1H
X-Robots-Tag:noindex
X-PUBLISHED-TTL:PT1H
BEGIN:VTIMEZONE
TZID:America/Los_Angeles
BEGIN:DAYLIGHT
TZOFFSETFROM:-0800
TZOFFSETTO:-0700
TZNAME:PDT
DTSTART:20250309T100000
END:DAYLIGHT
BEGIN:STANDARD
TZOFFSETFROM:-0700
TZOFFSETTO:-0800
TZNAME:PST
DTSTART:20251102T090000
END:STANDARD
BEGIN:DAYLIGHT
TZOFFSETFROM:-0800
TZOFFSETTO:-0700
TZNAME:PDT
DTSTART:20260308T100000
END:DAYLIGHT
BEGIN:STANDARD
TZOFFSETFROM:-0700
TZOFFSETTO:-0800
TZNAME:PST
DTSTART:20261101T090000
END:STANDARD
BEGIN:DAYLIGHT
TZOFFSETFROM:-0800
TZOFFSETTO:-0700
TZNAME:PDT
DTSTART:20270314T100000
END:DAYLIGHT
BEGIN:STANDARD
TZOFFSETFROM:-0700
TZOFFSETTO:-0800
TZNAME:PST
DTSTART:20271107T090000
END:STANDARD
END:VTIMEZONE
BEGIN:VEVENT
DTSTART;TZID=America/Los_Angeles:20260221T131500
DTEND;TZID=America/Los_Angeles:20260221T151500
DTSTAMP:20260420T184408
CREATED:20260221T075315Z
LAST-MODIFIED:20260221T075315Z
UID:10006835-1771679700-1771686900@tech.vegas
SUMMARY:Why Your Story matters
DESCRIPTION:Why your story matters more than ever. \nIn a world full of content\, brands don’t stand out by being louder or posting more often. They stand out by being unique and authentic. \nJoin us at this month’s UX Meetup at Tech Alley for a hands-on workshop with Walbert Castillo\, storyteller at Amazon Web Services (AWS) Web Services and founder of Istorya. \nWalbert will break down how brand video marketing helps you:\nClarify your message\nBuild trust with internal stakeholders faster\nCreate emotional connection \nThis session is for founders\, marketers\, creatives\, and technologists who want to learn how to tell their stories and craft meaningful brands. \n\nDetails: \nSaturday February 21st | 1:15pm\n814 S 3rd St\, Las Vegas\, NV 89101
URL:https://tech.vegas/event/why-your-story-matters/
LOCATION:Third Street\, 814 S 3rd St\, Las Vegas\, 89101\, Las Vegas\, NV\, 89101\, US
CATEGORIES:Technology
ATTACH;FMTTYPE=image/jpeg:https://tech.vegas/wp-content/uploads/2026/02/28793_image_highres_532680609.jpeg
ORGANIZER;CN="UX Meetup Las Vegas":MAILTO:meetup-group-rslupdpc-announce@messages.meetup.com
END:VEVENT
BEGIN:VEVENT
DTSTART;TZID=America/Los_Angeles:20260117T131500
DTEND;TZID=America/Los_Angeles:20260117T151500
DTSTAMP:20260420T184408
CREATED:20260116T175457Z
LAST-MODIFIED:20260116T175457Z
UID:10006603-1768655700-1768662900@tech.vegas
SUMMARY:Tech Alley January: How I UX'ed Our Business
DESCRIPTION:This month’s Tech Alley is the same lineup you’re used to — but we’ll be gathering at the Eclipse Theatre on 3rd Street. \nThis time around I’ll be speaking on “How We UX’ed Our Business.” I’ll share how we applied UX thinking\, research\, and iteration not just to products\, but to building and running our own company. If you’ve ever wondered how UX principles translate into real-world entrepreneurship\, this one’s for you. \nSee you there!\nAbegail \nSaturday\, January 17\nUX Meetup starts at 1:15 PM\nEclipse Theatre\n814 S 3rd Street\, Las Vegas\, NV
URL:https://tech.vegas/event/tech-alley-january-how-i-uxed-our-business/
LOCATION:Eclipse Theater\, 814 S. Third Street\, Las Vegas\, NV\, 89101\, US
CATEGORIES:Technology
ATTACH;FMTTYPE=image/jpeg:https://tech.vegas/wp-content/uploads/2026/01/27935_image_highres_532227271.jpeg
ORGANIZER;CN="UX Meetup Las Vegas":MAILTO:meetup-group-rslupdpc-announce@messages.meetup.com
END:VEVENT
END:VCALENDAR