BEGIN:VCALENDAR
VERSION:2.0
PRODID:-//Tech.Vegas - ECPv6.15.20//NONSGML v1.0//EN
CALSCALE:GREGORIAN
METHOD:PUBLISH
X-ORIGINAL-URL:https://tech.vegas
X-WR-CALDESC:Events for Tech.Vegas
REFRESH-INTERVAL;VALUE=DURATION:PT1H
X-Robots-Tag:noindex
X-PUBLISHED-TTL:PT1H
BEGIN:VTIMEZONE
TZID:America/Los_Angeles
BEGIN:DAYLIGHT
TZOFFSETFROM:-0800
TZOFFSETTO:-0700
TZNAME:PDT
DTSTART:20250309T100000
END:DAYLIGHT
BEGIN:STANDARD
TZOFFSETFROM:-0700
TZOFFSETTO:-0800
TZNAME:PST
DTSTART:20251102T090000
END:STANDARD
BEGIN:DAYLIGHT
TZOFFSETFROM:-0800
TZOFFSETTO:-0700
TZNAME:PDT
DTSTART:20260308T100000
END:DAYLIGHT
BEGIN:STANDARD
TZOFFSETFROM:-0700
TZOFFSETTO:-0800
TZNAME:PST
DTSTART:20261101T090000
END:STANDARD
BEGIN:DAYLIGHT
TZOFFSETFROM:-0800
TZOFFSETTO:-0700
TZNAME:PDT
DTSTART:20270314T100000
END:DAYLIGHT
BEGIN:STANDARD
TZOFFSETFROM:-0700
TZOFFSETTO:-0800
TZNAME:PST
DTSTART:20271107T090000
END:STANDARD
END:VTIMEZONE
BEGIN:VEVENT
DTSTART;TZID=America/Los_Angeles:20260423T080000
DTEND;TZID=America/Los_Angeles:20260423T170000
DTSTAMP:20260420T100123
CREATED:20260416T173145Z
LAST-MODIFIED:20260416T173147Z
UID:10007031-1776931200-1776963600@tech.vegas
SUMMARY:SBIC Pitch Competition -
DESCRIPTION:Las Vegas Golf Tournament + Town Hall Meeting\n\n\n\n\n\n \n\n\n\n\n\n\n\nLas Vegas\, come spend the day with us. \n\n\n\nJoin the Small Business Input Committee (SBIC)\, formerly known as the MBEIC\, for a full day of golf\, great conversation\, and real business connections. Due to a generous contribution from the WRMSDC\, you can tee off in the morning with SBIC and WRMSDC leadership\, board members\, staff\, plus local government\, and corporate procurement professionals — then pull up a seat for an afternoon Town Hall that will change the way you think about doing business. One day. Two experiences. All business.
URL:https://tech.vegas/event/sbic-pitch-competition/
LOCATION:Angel Park Golf Course\, 100 South Rampart Blvd Las Vegas\, NV 89145
CATEGORIES:Startups
ATTACH;FMTTYPE=image/png:https://tech.vegas/wp-content/uploads/2026/04/image-11.png
END:VEVENT
END:VCALENDAR