BEGIN:VCALENDAR
VERSION:2.0
PRODID:-//Tech.Vegas - ECPv6.15.20//NONSGML v1.0//EN
CALSCALE:GREGORIAN
METHOD:PUBLISH
X-WR-CALNAME:Tech.Vegas
X-ORIGINAL-URL:https://tech.vegas
X-WR-CALDESC:Events for Tech.Vegas
REFRESH-INTERVAL;VALUE=DURATION:PT1H
X-Robots-Tag:noindex
X-PUBLISHED-TTL:PT1H
BEGIN:VTIMEZONE
TZID:America/Los_Angeles
BEGIN:DAYLIGHT
TZOFFSETFROM:-0800
TZOFFSETTO:-0700
TZNAME:PDT
DTSTART:20250309T100000
END:DAYLIGHT
BEGIN:STANDARD
TZOFFSETFROM:-0700
TZOFFSETTO:-0800
TZNAME:PST
DTSTART:20251102T090000
END:STANDARD
BEGIN:DAYLIGHT
TZOFFSETFROM:-0800
TZOFFSETTO:-0700
TZNAME:PDT
DTSTART:20260308T100000
END:DAYLIGHT
BEGIN:STANDARD
TZOFFSETFROM:-0700
TZOFFSETTO:-0800
TZNAME:PST
DTSTART:20261101T090000
END:STANDARD
BEGIN:DAYLIGHT
TZOFFSETFROM:-0800
TZOFFSETTO:-0700
TZNAME:PDT
DTSTART:20270314T100000
END:DAYLIGHT
BEGIN:STANDARD
TZOFFSETFROM:-0700
TZOFFSETTO:-0800
TZNAME:PST
DTSTART:20271107T090000
END:STANDARD
END:VTIMEZONE
BEGIN:VEVENT
DTSTART;TZID=America/Los_Angeles:20260420T160000
DTEND;TZID=America/Los_Angeles:20260420T180000
DTSTAMP:20260425T091855
CREATED:20251213T225407Z
LAST-MODIFIED:20251213T225407Z
UID:10006500-1776700800-1776708000@tech.vegas
SUMMARY:The AI Edge: Supercharge Your Startup Vision
DESCRIPTION:Get ready to level up your startup game with cutting-edge AI technology at The AI Edge event – it’s time to supercharge your vision!\n\n\nWelcome to The AI Edge: Supercharge Your Startup Vision event! \nThe AI Edge: Supercharge Your Startup Vision \nLearn how to use AI to streamline\, scale\, and supercharge your startup from concept to market-ready — no coding required. \nArtificial Intelligence is no longer the future — it’s the competitive edge startups need right now. In this dynamic SCORE Northern Nevada workshop\, we’ll break down practical\, affordable ways to integrate AI into every stage of your startup journey — from ideation and planning to marketing\, operations\, and customer service. Whether you’re bootstrapping from your garage or preparing for your first pitch deck\, this hands-on session will introduce tools and strategies that give your business a smarter\, faster\, and more scalable foundation. \nYou’ll discover: \n\nNo-code AI tools to automate tasks and save hours weekly\nHow to validate your business idea using AI research tools\nWays to create marketing content\, websites\, and customer personas with AI\nReal-world case studies of startups using AI to grow\nFree and low-cost AI tools tailored for startup budgets\n\nWhy Startups Should Attend this Online and In Person Workshop:If you’re a founder\, solopreneur\, or small team looking to get ahead without burning out or breaking the bank\, this workshop will give you the edge. You’ll leave with an actionable toolkit to help your startup move faster\, act smarter\, and compete confidently in today’s AI-driven economy. \nSign up for this workshop from the AI Startup Developers in Reno\, Nevada.
URL:https://tech.vegas/event/the-ai-edge-supercharge-your-startup-vision/
CATEGORIES:Technology
ATTACH;FMTTYPE=image/jpeg:https://tech.vegas/wp-content/uploads/2025/12/67f379ba6ff8b88ee8808589e1f85a35.jpg
END:VEVENT
END:VCALENDAR