BEGIN:VCALENDAR
VERSION:2.0
PRODID:-//Tech.Vegas - ECPv6.15.20//NONSGML v1.0//EN
CALSCALE:GREGORIAN
METHOD:PUBLISH
X-WR-CALNAME:Tech.Vegas
X-ORIGINAL-URL:https://tech.vegas
X-WR-CALDESC:Events for Tech.Vegas
REFRESH-INTERVAL;VALUE=DURATION:PT1H
X-Robots-Tag:noindex
X-PUBLISHED-TTL:PT1H
BEGIN:VTIMEZONE
TZID:America/Los_Angeles
BEGIN:DAYLIGHT
TZOFFSETFROM:-0800
TZOFFSETTO:-0700
TZNAME:PDT
DTSTART:20250309T100000
END:DAYLIGHT
BEGIN:STANDARD
TZOFFSETFROM:-0700
TZOFFSETTO:-0800
TZNAME:PST
DTSTART:20251102T090000
END:STANDARD
BEGIN:DAYLIGHT
TZOFFSETFROM:-0800
TZOFFSETTO:-0700
TZNAME:PDT
DTSTART:20260308T100000
END:DAYLIGHT
BEGIN:STANDARD
TZOFFSETFROM:-0700
TZOFFSETTO:-0800
TZNAME:PST
DTSTART:20261101T090000
END:STANDARD
BEGIN:DAYLIGHT
TZOFFSETFROM:-0800
TZOFFSETTO:-0700
TZNAME:PDT
DTSTART:20270314T100000
END:DAYLIGHT
BEGIN:STANDARD
TZOFFSETFROM:-0700
TZOFFSETTO:-0800
TZNAME:PST
DTSTART:20271107T090000
END:STANDARD
END:VTIMEZONE
BEGIN:VEVENT
DTSTART;TZID=America/Los_Angeles:20260107T163000
DTEND;TZID=America/Los_Angeles:20260107T180000
DTSTAMP:20260420T115159
CREATED:20260102T153709Z
LAST-MODIFIED:20260102T153711Z
UID:10006552-1767803400-1767808800@tech.vegas
SUMMARY:Spatial XR Mixer at CES 2026
DESCRIPTION:​Meet and connect with other XR professionals and enthusiasts at CES 2026.Open to all industry attendees\, this is the perfect opportunity to relax\, mingle\, and make some new friends during the show! \n\n\n\n​Bring a headset and demo your spatial computing company or project.​
URL:https://tech.vegas/event/spatial-xr-mixer-at-ces-2026/
LOCATION:Vdara Hotel & Spa\, https://www.google.com/maps/search/?api=1&query=VdaraHotelSpa&query_place_id=ChIJmxHXmTXEyIAREUVb-tQpbC0
CATEGORIES:Networking
ATTACH;FMTTYPE=image/png:https://tech.vegas/wp-content/uploads/2026/01/image-8.png
END:VEVENT
END:VCALENDAR