BEGIN:VCALENDAR
VERSION:2.0
PRODID:-//Tech.Vegas - ECPv6.15.20//NONSGML v1.0//EN
CALSCALE:GREGORIAN
METHOD:PUBLISH
X-ORIGINAL-URL:https://tech.vegas
X-WR-CALDESC:Events for Tech.Vegas
REFRESH-INTERVAL;VALUE=DURATION:PT1H
X-Robots-Tag:noindex
X-PUBLISHED-TTL:PT1H
BEGIN:VTIMEZONE
TZID:America/Los_Angeles
BEGIN:DAYLIGHT
TZOFFSETFROM:-0800
TZOFFSETTO:-0700
TZNAME:PDT
DTSTART:20240310T100000
END:DAYLIGHT
BEGIN:STANDARD
TZOFFSETFROM:-0700
TZOFFSETTO:-0800
TZNAME:PST
DTSTART:20241103T090000
END:STANDARD
BEGIN:DAYLIGHT
TZOFFSETFROM:-0800
TZOFFSETTO:-0700
TZNAME:PDT
DTSTART:20250309T100000
END:DAYLIGHT
BEGIN:STANDARD
TZOFFSETFROM:-0700
TZOFFSETTO:-0800
TZNAME:PST
DTSTART:20251102T090000
END:STANDARD
BEGIN:DAYLIGHT
TZOFFSETFROM:-0800
TZOFFSETTO:-0700
TZNAME:PDT
DTSTART:20260308T100000
END:DAYLIGHT
BEGIN:STANDARD
TZOFFSETFROM:-0700
TZOFFSETTO:-0800
TZNAME:PST
DTSTART:20261101T090000
END:STANDARD
END:VTIMEZONE
BEGIN:VEVENT
DTSTART;TZID=America/Los_Angeles:20251201T130000
DTEND;TZID=America/Los_Angeles:20251201T160000
DTSTAMP:20260422T003756
CREATED:20251105T233007Z
LAST-MODIFIED:20251105T233009Z
UID:10006365-1764594000-1764604800@tech.vegas
SUMMARY:Engineering Lunch Mixer at Sushisamba in the Venetian
DESCRIPTION:Just a 5-minute walk to the Expo Hall\, join engineering leaders and builders for a relaxed afternoon of AI-native conversation before the Expo Hall opens on Monday afternoon.\n\nEngineering teams from companies like Capital One\, Confluent\, FiveTran\, Okta\, Rubrik\, Stripe\, and Zscaler will be there. Come join the crew!
URL:https://tech.vegas/event/engineering-lunch-mixer-at-sushisamba-in-the-venetian/
LOCATION:Sushisamba\, 3327 S Las Vegas Blvd\, Las Vegas\, 89109
CATEGORIES:Mixer,Networking,Technology
ATTACH;FMTTYPE=image/png:https://tech.vegas/wp-content/uploads/2025/11/reinvent-sushisamba-luma.png
ORGANIZER;CN="Resolve AI":MAILTO:rebecca@resolve.ai
END:VEVENT
END:VCALENDAR