BEGIN:VCALENDAR
VERSION:2.0
PRODID:-//Tech.Vegas - ECPv6.15.20//NONSGML v1.0//EN
CALSCALE:GREGORIAN
METHOD:PUBLISH
X-ORIGINAL-URL:https://tech.vegas
X-WR-CALDESC:Events for Tech.Vegas
REFRESH-INTERVAL;VALUE=DURATION:PT1H
X-Robots-Tag:noindex
X-PUBLISHED-TTL:PT1H
BEGIN:VTIMEZONE
TZID:America/Los_Angeles
BEGIN:DAYLIGHT
TZOFFSETFROM:-0800
TZOFFSETTO:-0700
TZNAME:PDT
DTSTART:20240310T100000
END:DAYLIGHT
BEGIN:STANDARD
TZOFFSETFROM:-0700
TZOFFSETTO:-0800
TZNAME:PST
DTSTART:20241103T090000
END:STANDARD
BEGIN:DAYLIGHT
TZOFFSETFROM:-0800
TZOFFSETTO:-0700
TZNAME:PDT
DTSTART:20250309T100000
END:DAYLIGHT
BEGIN:STANDARD
TZOFFSETFROM:-0700
TZOFFSETTO:-0800
TZNAME:PST
DTSTART:20251102T090000
END:STANDARD
BEGIN:DAYLIGHT
TZOFFSETFROM:-0800
TZOFFSETTO:-0700
TZNAME:PDT
DTSTART:20260308T100000
END:DAYLIGHT
BEGIN:STANDARD
TZOFFSETFROM:-0700
TZOFFSETTO:-0800
TZNAME:PST
DTSTART:20261101T090000
END:STANDARD
BEGIN:DAYLIGHT
TZOFFSETFROM:-0800
TZOFFSETTO:-0700
TZNAME:PDT
DTSTART:20270314T100000
END:DAYLIGHT
BEGIN:STANDARD
TZOFFSETFROM:-0700
TZOFFSETTO:-0800
TZNAME:PST
DTSTART:20271107T090000
END:STANDARD
END:VTIMEZONE
BEGIN:VEVENT
DTSTART;TZID=America/Los_Angeles:20260214T103000
DTEND;TZID=America/Los_Angeles:20260214T120000
DTSTAMP:20260424T180400
CREATED:20251202T010659Z
LAST-MODIFIED:20251202T010659Z
UID:10006405-1771065000-1771070400@tech.vegas
SUMMARY:Nevada EV Association meeting
DESCRIPTION:Join us for professional networking and socializing with fellow EV enthusiasts at our monthly meeting hosted by the Nevada Electric Vehicle Association. \nWe also discuss the latest trends in green vehicles\, share tips\, and plan public events and activities to inspire even greater EV adoption. \nTake this chance to connect with like-minded individuals who are passionate about sustainable transportation and reducing their carbon footprint\, and maybe help us spread the word. Let’s drive towards a greener future together!
URL:https://tech.vegas/event/nevada-ev-association-meeting-3/
LOCATION:Jason’s Deli\, 7305 Arroyo Crossing Pkwy\, Las Vegas\, NV\, US
CATEGORIES:Technology
ATTACH;FMTTYPE=image/jpeg:https://tech.vegas/wp-content/uploads/2025/12/26967_image_highres_524275831.jpeg
ORGANIZER;CN="Nevada Electric Vehicle Association":MAILTO:meetup-group-NVEVA-announce@messages.meetup.com
END:VEVENT
BEGIN:VEVENT
DTSTART;TZID=America/Los_Angeles:20260110T103000
DTEND;TZID=America/Los_Angeles:20260110T120000
DTSTAMP:20260424T180400
CREATED:20251202T010659Z
LAST-MODIFIED:20251202T010659Z
UID:10006404-1768041000-1768046400@tech.vegas
SUMMARY:Nevada EV Association meeting
DESCRIPTION:Join us for professional networking and socializing with fellow EV enthusiasts at our monthly meeting hosted by the Nevada Electric Vehicle Association. \nWe also discuss the latest trends in green vehicles\, share tips\, and plan public events and activities to inspire even greater EV adoption. \nTake this chance to connect with like-minded individuals who are passionate about sustainable transportation and reducing their carbon footprint\, and maybe help us spread the word. Let’s drive towards a greener future together!
URL:https://tech.vegas/event/nevada-ev-association-meeting-2/
LOCATION:Jason’s Deli\, 7305 Arroyo Crossing Pkwy\, Las Vegas\, NV\, US
CATEGORIES:Technology
ATTACH;FMTTYPE=image/jpeg:https://tech.vegas/wp-content/uploads/2025/12/26967_image_highres_524275831.jpeg
ORGANIZER;CN="Nevada Electric Vehicle Association":MAILTO:meetup-group-NVEVA-announce@messages.meetup.com
END:VEVENT
BEGIN:VEVENT
DTSTART;TZID=America/Los_Angeles:20251213T103000
DTEND;TZID=America/Los_Angeles:20251213T120000
DTSTAMP:20260424T180400
CREATED:20251202T001217Z
LAST-MODIFIED:20251202T001217Z
UID:10006402-1765621800-1765627200@tech.vegas
SUMMARY:Nevada EV Association meeting
DESCRIPTION:Join us for professional networking and socializing with fellow EV enthusiasts at our monthly meeting hosted by the Nevada Electric Vehicle Association. \nWe also discuss the latest trends in green vehicles\, share tips\, and plan public events and activities to inspire even greater EV adoption. \nTake this chance to connect with like-minded individuals who are passionate about sustainable transportation and reducing their carbon footprint\, and maybe help us spread the word. Let’s drive towards a greener future together!
URL:https://tech.vegas/event/nevada-ev-association-meeting/
LOCATION:Jason’s Deli\, 7305 Arroyo Crossing Pkwy\, Las Vegas\, NV\, US
ATTACH;FMTTYPE=image/jpeg:https://tech.vegas/wp-content/uploads/2025/12/26967_image_highres_524275831.jpeg
ORGANIZER;CN="Nevada Electric Vehicle Association":MAILTO:meetup-group-NVEVA-announce@messages.meetup.com
END:VEVENT
END:VCALENDAR