BEGIN:VCALENDAR
VERSION:2.0
PRODID:-//Tech.Vegas - ECPv6.15.20//NONSGML v1.0//EN
CALSCALE:GREGORIAN
METHOD:PUBLISH
X-WR-CALNAME:Tech.Vegas
X-ORIGINAL-URL:https://tech.vegas
X-WR-CALDESC:Events for Tech.Vegas
REFRESH-INTERVAL;VALUE=DURATION:PT1H
X-Robots-Tag:noindex
X-PUBLISHED-TTL:PT1H
BEGIN:VTIMEZONE
TZID:America/Los_Angeles
BEGIN:DAYLIGHT
TZOFFSETFROM:-0800
TZOFFSETTO:-0700
TZNAME:PDT
DTSTART:20250309T100000
END:DAYLIGHT
BEGIN:STANDARD
TZOFFSETFROM:-0700
TZOFFSETTO:-0800
TZNAME:PST
DTSTART:20251102T090000
END:STANDARD
BEGIN:DAYLIGHT
TZOFFSETFROM:-0800
TZOFFSETTO:-0700
TZNAME:PDT
DTSTART:20260308T100000
END:DAYLIGHT
BEGIN:STANDARD
TZOFFSETFROM:-0700
TZOFFSETTO:-0800
TZNAME:PST
DTSTART:20261101T090000
END:STANDARD
BEGIN:DAYLIGHT
TZOFFSETFROM:-0800
TZOFFSETTO:-0700
TZNAME:PDT
DTSTART:20270314T100000
END:DAYLIGHT
BEGIN:STANDARD
TZOFFSETFROM:-0700
TZOFFSETTO:-0800
TZNAME:PST
DTSTART:20271107T090000
END:STANDARD
END:VTIMEZONE
BEGIN:VEVENT
DTSTART;TZID=America/Los_Angeles:20260420T000000
DTEND;TZID=America/Los_Angeles:20260424T235959
DTSTAMP:20260420T082152
CREATED:20260228T112346Z
LAST-MODIFIED:20260228T112349Z
UID:10006882-1776643200-1777075199@tech.vegas
SUMMARY:Leads Con
DESCRIPTION:LeadsCon is the world’s largest conference and exposition dedicated to lead generation and performance marketing. Scheduled for April 22 to 24\, 2026\, at the MGM Grand in Las Vegas\, the event brings together thousands of Fortune 1000 marketers\, lead buyers\, agencies\, and technology providers. Attendees participate in executive level networking and expert led sessions focused on customer acquisition strategies\, conversion optimization\, and the latest marketing technologies. The summit serves as a central hub for professionals across various industries\, including mortgage\, insurance\, fintech\, and education\, to navigate the evolving landscape of digital marketing and data driven growth.
URL:https://tech.vegas/event/leads-con/
LOCATION:MGM Grand\, 3799 S Las Vegas Blvd\, Las Vegas\, NV 89109\, United States
CATEGORIES:Featured
ATTACH;FMTTYPE=image/png:https://tech.vegas/wp-content/uploads/2026/02/image-7.png
END:VEVENT
END:VCALENDAR