BEGIN:VCALENDAR
VERSION:2.0
PRODID:-//Tech.Vegas - ECPv6.15.20//NONSGML v1.0//EN
CALSCALE:GREGORIAN
METHOD:PUBLISH
X-WR-CALNAME:Tech.Vegas
X-ORIGINAL-URL:https://tech.vegas
X-WR-CALDESC:Events for Tech.Vegas
REFRESH-INTERVAL;VALUE=DURATION:PT1H
X-Robots-Tag:noindex
X-PUBLISHED-TTL:PT1H
BEGIN:VTIMEZONE
TZID:America/Los_Angeles
BEGIN:DAYLIGHT
TZOFFSETFROM:-0800
TZOFFSETTO:-0700
TZNAME:PDT
DTSTART:20240310T100000
END:DAYLIGHT
BEGIN:STANDARD
TZOFFSETFROM:-0700
TZOFFSETTO:-0800
TZNAME:PST
DTSTART:20241103T090000
END:STANDARD
BEGIN:DAYLIGHT
TZOFFSETFROM:-0800
TZOFFSETTO:-0700
TZNAME:PDT
DTSTART:20250309T100000
END:DAYLIGHT
BEGIN:STANDARD
TZOFFSETFROM:-0700
TZOFFSETTO:-0800
TZNAME:PST
DTSTART:20251102T090000
END:STANDARD
BEGIN:DAYLIGHT
TZOFFSETFROM:-0800
TZOFFSETTO:-0700
TZNAME:PDT
DTSTART:20260308T100000
END:DAYLIGHT
BEGIN:STANDARD
TZOFFSETFROM:-0700
TZOFFSETTO:-0800
TZNAME:PST
DTSTART:20261101T090000
END:STANDARD
END:VTIMEZONE
BEGIN:VEVENT
DTSTART;TZID=America/Los_Angeles:20251207T080000
DTEND;TZID=America/Los_Angeles:20251209T170000
DTSTAMP:20260422T021138
CREATED:20250819T214653Z
LAST-MODIFIED:20250819T214655Z
UID:10006157-1765094400-1765299600@tech.vegas
SUMMARY:Live Design International (LDI)
DESCRIPTION:Live Design International (LDI) is the preeminent conference and trade show for live entertainment\, design\, and technology professionals from around the globe. Held annually in Las Vegas\, LDI brings together hundreds of cutting-edge exhibitors and thousands of attendees to explore next-generation gear\, from lighting and video to rigging and automation. Attendees gain access to the industry’s most extensive professional training programs\, including the LDInstitute™ and LDInnovation™ Conference\, featuring abundant sessions\, hands-on workshops\, and credentialing opportunities. Beyond the expo floor\, LDI delivers vibrant networking experiences—like New Technology Breakfasts\, portfolio reviews\, and “LDI After Dark” events—and nurtures future industry talent through its Foster the Future initiative for young professionals.bluesealighting.com+15ldishow.com+15instagram.com+15
URL:https://tech.vegas/event/live-design-international-ldi/
LOCATION:Las Vegas Convention Center\, 3150 Paradise Rd\, Las Vegas\, NV 89109\, United States
CATEGORIES:Featured,Networking
ATTACH;FMTTYPE=image/png:https://tech.vegas/wp-content/uploads/2025/08/image-10.png
END:VEVENT
END:VCALENDAR