BEGIN:VCALENDAR
VERSION:2.0
PRODID:-//Tech.Vegas - ECPv6.15.20//NONSGML v1.0//EN
CALSCALE:GREGORIAN
METHOD:PUBLISH
X-ORIGINAL-URL:https://tech.vegas
X-WR-CALDESC:Events for Tech.Vegas
REFRESH-INTERVAL;VALUE=DURATION:PT1H
X-Robots-Tag:noindex
X-PUBLISHED-TTL:PT1H
BEGIN:VTIMEZONE
TZID:America/Los_Angeles
BEGIN:DAYLIGHT
TZOFFSETFROM:-0800
TZOFFSETTO:-0700
TZNAME:PDT
DTSTART:20250309T100000
END:DAYLIGHT
BEGIN:STANDARD
TZOFFSETFROM:-0700
TZOFFSETTO:-0800
TZNAME:PST
DTSTART:20251102T090000
END:STANDARD
BEGIN:DAYLIGHT
TZOFFSETFROM:-0800
TZOFFSETTO:-0700
TZNAME:PDT
DTSTART:20260308T100000
END:DAYLIGHT
BEGIN:STANDARD
TZOFFSETFROM:-0700
TZOFFSETTO:-0800
TZNAME:PST
DTSTART:20261101T090000
END:STANDARD
BEGIN:DAYLIGHT
TZOFFSETFROM:-0800
TZOFFSETTO:-0700
TZNAME:PDT
DTSTART:20270314T100000
END:DAYLIGHT
BEGIN:STANDARD
TZOFFSETFROM:-0700
TZOFFSETTO:-0800
TZNAME:PST
DTSTART:20271107T090000
END:STANDARD
END:VTIMEZONE
BEGIN:VEVENT
DTSTART;TZID=America/Los_Angeles:20260421T180000
DTEND;TZID=America/Los_Angeles:20260421T200000
DTSTAMP:20260421T085911
CREATED:20260320T070310Z
LAST-MODIFIED:20260320T070310Z
UID:10006950-1776794400-1776801600@tech.vegas
SUMMARY:What AI tools are you using?
DESCRIPTION:AI tools\, specifically those applicable to app development\, are moving fast with new models and capabilities popping up almost weekly. \nLet’s meet Grouchy John’s Coffee shop at “8520 S Maryland Pkwy” to have a show-n-tell of sorts to discuss what we are all using (or not using) in the realm of AI to help us with our app development. \nGot something you want to show off?\nGot some questions you want help answering? \nThen join us!\nI might even buy you a beverage if you arrive early. \n————————–\nJoin our online active on Discord chat: https://discord.gg/nBJZk8y\n————————– \nHere is a link to where I store presentations/materials for current and past presentations to the group. I usually upload the materials a day or two before the meetup date so people can review and follow along. Its organized by date:\nhttps://github.com/hotngui/LViOS-Developers\n***
URL:https://tech.vegas/event/what-ai-tools-are-you-using/
LOCATION:Grouchy John’s Coffee\, 8520 South Maryland Parkway\, Las Vegas\, NV\, 89123\, US
CATEGORIES:Technology
ATTACH;FMTTYPE=image/jpeg:https://tech.vegas/wp-content/uploads/2026/03/33050_image_highres_533277158.jpeg
ORGANIZER;CN="Las Vegas iOS Developers":MAILTO:las-vegas-ios-announce@messages.meetup.com
END:VEVENT
END:VCALENDAR