BEGIN:VCALENDAR
VERSION:2.0
PRODID:-//Tech.Vegas - ECPv6.15.20//NONSGML v1.0//EN
CALSCALE:GREGORIAN
METHOD:PUBLISH
X-WR-CALNAME:Tech.Vegas
X-ORIGINAL-URL:https://tech.vegas
X-WR-CALDESC:Events for Tech.Vegas
REFRESH-INTERVAL;VALUE=DURATION:PT1H
X-Robots-Tag:noindex
X-PUBLISHED-TTL:PT1H
BEGIN:VTIMEZONE
TZID:America/Los_Angeles
BEGIN:DAYLIGHT
TZOFFSETFROM:-0800
TZOFFSETTO:-0700
TZNAME:PDT
DTSTART:20250309T100000
END:DAYLIGHT
BEGIN:STANDARD
TZOFFSETFROM:-0700
TZOFFSETTO:-0800
TZNAME:PST
DTSTART:20251102T090000
END:STANDARD
BEGIN:DAYLIGHT
TZOFFSETFROM:-0800
TZOFFSETTO:-0700
TZNAME:PDT
DTSTART:20260308T100000
END:DAYLIGHT
BEGIN:STANDARD
TZOFFSETFROM:-0700
TZOFFSETTO:-0800
TZNAME:PST
DTSTART:20261101T090000
END:STANDARD
BEGIN:DAYLIGHT
TZOFFSETFROM:-0800
TZOFFSETTO:-0700
TZNAME:PDT
DTSTART:20270314T100000
END:DAYLIGHT
BEGIN:STANDARD
TZOFFSETFROM:-0700
TZOFFSETTO:-0800
TZNAME:PST
DTSTART:20271107T090000
END:STANDARD
END:VTIMEZONE
BEGIN:VEVENT
DTSTART;TZID=America/Los_Angeles:20260319T180000
DTEND;TZID=America/Los_Angeles:20260319T190000
DTSTAMP:20260420T201834
CREATED:20260320T024122Z
LAST-MODIFIED:20260320T024122Z
UID:10006948-1773943200-1773946800@tech.vegas
SUMMARY:LV Inventors - Licensing & TIHS26
DESCRIPTION:Join us for our next Las Vegas Inventors meeting on March 19\, 2026 at 7:00 PM. Tomorrow night\, we will feature a pre-recorded interview with Jim DeBetta\, a longtime industry expert who served as VP for one of the Sharks\, sold hundreds of millions of dollars’ worth of product into retail\, and has helped multiple inventors secure licensing deals.\nWe will also share updates from The Inspired Home Show in Chicago\, talk about the Inventors Corner and early successes already coming out of it\, and make time for networking and Q&A. Light snacks and beverages will be provided.\nIt’s also a great chance to mix and mingle\, meet new people\, and grow your network with other inventors\, makers\, and industry-connected members who can help you move faster and avoid costly mistakes. \nRSVP to confirm your spot. \nLet’s grow and build together. \nCan’t join us in person? Register Here for Zoom
URL:https://tech.vegas/event/lv-inventors-licensing-tihs26/
LOCATION:Las Vegas Inventors\, 150 North Durango Drive\, Las Vegas\, NV\, 89145\, US
CATEGORIES:Technology
ATTACH;FMTTYPE=image/jpeg:https://tech.vegas/wp-content/uploads/2026/03/33033_image_highres_533267416-scaled.jpeg
ORGANIZER;CN="Las Vegas Inventors":MAILTO:LasVegas-Inventors-announce@messages.meetup.com
END:VEVENT
BEGIN:VEVENT
DTSTART;TZID=America/Los_Angeles:20260212T190000
DTEND;TZID=America/Los_Angeles:20260212T200000
DTSTAMP:20260420T201834
CREATED:20260129T205455Z
LAST-MODIFIED:20260129T205455Z
UID:10006771-1770922800-1770926400@tech.vegas
SUMMARY:Las Vegas Inventors — Licensing vs Venturing
DESCRIPTION:Join us for our next Las Vegas Inventors meeting on February 12\, 2026 at 7:00 PM as we dig into one of the biggest decisions inventors face: licensing vs. venturing. We’ll break down the real pros and cons of each path\, what it takes to succeed with either one\, and how to choose the approach that best fits your product\, budget\, timeline\, and goals. It’s also a great chance to mix and mingle\, meet new people\, and grow your network with other inventors\, makers\, and industry-connected members who can help you move faster and avoid costly mistakes. \nRSVP to confirm your spot. \nLet’s grow and build together. \nCan’t join us in person? Register Here for Zoom
URL:https://tech.vegas/event/las-vegas-inventors-licensing-vs-venturing/
LOCATION:Las Vegas Inventors\, 150 North Durango Drive\, Las Vegas\, NV\, 89145\, US
CATEGORIES:Technology
ORGANIZER;CN="Las Vegas Inventors":MAILTO:LasVegas-Inventors-announce@messages.meetup.com
END:VEVENT
END:VCALENDAR