BEGIN:VCALENDAR
VERSION:2.0
PRODID:-//Tech.Vegas - ECPv6.15.20//NONSGML v1.0//EN
CALSCALE:GREGORIAN
METHOD:PUBLISH
X-WR-CALNAME:Tech.Vegas
X-ORIGINAL-URL:https://tech.vegas
X-WR-CALDESC:Events for Tech.Vegas
REFRESH-INTERVAL;VALUE=DURATION:PT1H
X-Robots-Tag:noindex
X-PUBLISHED-TTL:PT1H
BEGIN:VTIMEZONE
TZID:America/Los_Angeles
BEGIN:DAYLIGHT
TZOFFSETFROM:-0800
TZOFFSETTO:-0700
TZNAME:PDT
DTSTART:20250309T100000
END:DAYLIGHT
BEGIN:STANDARD
TZOFFSETFROM:-0700
TZOFFSETTO:-0800
TZNAME:PST
DTSTART:20251102T090000
END:STANDARD
BEGIN:DAYLIGHT
TZOFFSETFROM:-0800
TZOFFSETTO:-0700
TZNAME:PDT
DTSTART:20260308T100000
END:DAYLIGHT
BEGIN:STANDARD
TZOFFSETFROM:-0700
TZOFFSETTO:-0800
TZNAME:PST
DTSTART:20261101T090000
END:STANDARD
BEGIN:DAYLIGHT
TZOFFSETFROM:-0800
TZOFFSETTO:-0700
TZNAME:PDT
DTSTART:20270314T100000
END:DAYLIGHT
BEGIN:STANDARD
TZOFFSETFROM:-0700
TZOFFSETTO:-0800
TZNAME:PST
DTSTART:20271107T090000
END:STANDARD
END:VTIMEZONE
BEGIN:VEVENT
DTSTART;TZID=America/Los_Angeles:20260428T170000
DTEND;TZID=America/Los_Angeles:20260428T190000
DTSTAMP:20260424T124834
CREATED:20260424T025205Z
LAST-MODIFIED:20260424T025205Z
UID:10007044-1777395600-1777402800@tech.vegas
SUMMARY:Mastering Memory with AI
DESCRIPTION:This months presentation is by Scott Scoble \nAI forgets everything between sessions. You re-teach it every time. memory.md and agent.md? That’s 50 First Dates — VHS tapes and post-it notes\, hoping today it sticks. You deserve a system that remembers\, learns\, and improves on its own. Broad on components\, deep on implementation. \nJoin our Discord by clicking here – https://discord.gg/RGFGV8gKxB \nOur monthly Vegas Programmers users’ group meets at 6pm on the 3rd Tuesday of every month at Corporate Coworking. All levels of experience are welcome. We love to share knowledge and talk about the latest in programming\, AI\, web dev\, mobile app development\, and more. \nEvery month we have a technical talk presented by members of the group. If you have a talk you’d like to share\, email me Josh@RemoteDevForce.com \nRSVP now as seating is limited. \nWe upload talks to our YouTube channel a few days after the meetup. https://www.youtube.com/channel/UCVAynQyhWbBoc-pBhOuSTrg \nWe are looking for sponsors\, speakers\, freelance developers\, and businesses looking to hire talent. Contact me at Josh@RemoteDevForce.com for more information. \nThanks for joining our group!\n-Joshua Copeland\nCTO RemoteDevForce.com \n@OGProgrammer \n~~~SPONSORS~~~\nWe are always looking for sponsors such as recruiters\, SaSS products\, and anything programming adjacent. Please contact Josh@RemoteDevForce.com for details. \nCorporateCowork.com – a co-working community\nChoose from either of the free 1 time options below:\nDay pass: \n\nIncludes 9am-5pm access of our coworking office\nDesk with wide screen monitor\nCold brew tap and micro brew coffee\nPrivacy booths\nCreative common areas and more\n\nEvent Space: \n\nPick one of our 4 event spaces options from a training room to an event space with a bar or kitchen.\n\nContact Tony at tkerrnaja@corporatecowork.com for more information. \nJetBrains – They make the best IDEs in the business.\nWe give out a free 1 year JetBrains license at every meetup.
URL:https://tech.vegas/event/mastering-memory-with-ai/
LOCATION:Corporate Coworking Las Vegas\, 5725 S Valley View Blvd Suite 7\, Las Vegas\, NV\, 89118\, US
CATEGORIES:Technology
ATTACH;FMTTYPE=image/jpeg:https://tech.vegas/wp-content/uploads/2026/04/39741_image_highres_533817028.jpeg
ORGANIZER;CN="Las Vegas Developers":MAILTO:Las-Vegas-Developers-announce@messages.meetup.com
END:VEVENT
END:VCALENDAR