BEGIN:VCALENDAR
VERSION:2.0
PRODID:-//Tech.Vegas - ECPv6.15.20//NONSGML v1.0//EN
CALSCALE:GREGORIAN
METHOD:PUBLISH
X-ORIGINAL-URL:https://tech.vegas
X-WR-CALDESC:Events for Tech.Vegas
REFRESH-INTERVAL;VALUE=DURATION:PT1H
X-Robots-Tag:noindex
X-PUBLISHED-TTL:PT1H
BEGIN:VTIMEZONE
TZID:America/Los_Angeles
BEGIN:DAYLIGHT
TZOFFSETFROM:-0800
TZOFFSETTO:-0700
TZNAME:PDT
DTSTART:20250309T100000
END:DAYLIGHT
BEGIN:STANDARD
TZOFFSETFROM:-0700
TZOFFSETTO:-0800
TZNAME:PST
DTSTART:20251102T090000
END:STANDARD
BEGIN:DAYLIGHT
TZOFFSETFROM:-0800
TZOFFSETTO:-0700
TZNAME:PDT
DTSTART:20260308T100000
END:DAYLIGHT
BEGIN:STANDARD
TZOFFSETFROM:-0700
TZOFFSETTO:-0800
TZNAME:PST
DTSTART:20261101T090000
END:STANDARD
BEGIN:DAYLIGHT
TZOFFSETFROM:-0800
TZOFFSETTO:-0700
TZNAME:PDT
DTSTART:20270314T100000
END:DAYLIGHT
BEGIN:STANDARD
TZOFFSETFROM:-0700
TZOFFSETTO:-0800
TZNAME:PST
DTSTART:20271107T090000
END:STANDARD
END:VTIMEZONE
BEGIN:VEVENT
DTSTART;TZID=America/Los_Angeles:20260106T113000
DTEND;TZID=America/Los_Angeles:20260106T140000
DTSTAMP:20260421T183348
CREATED:20260102T152156Z
LAST-MODIFIED:20260102T152158Z
UID:10006549-1767699000-1767708000@tech.vegas
SUMMARY:Spritz&Pitch – Italia @ CES 2026
DESCRIPTION:​Fancy a Spritz at CES 2026? Join us at the Arena ITALIA—the land where legacy inspires innovation—for our Pavilion official opening and a “Spritz&Pitch” networking lunch \n\n\n\n​January 6\, 2025 – 11.30am \n\n\n\n​ITALIAN PAVILION – Venetian Expo\, Eureka Park\, Level 1\, Hall G\, Booth 61000 \n\n\n\n​CES 2026 \n\n\n\n​ \n\n\n\n​Inspired by legacy\, designed by vision \n\n\n\n​Join us for the official opening of the Italian Pavillon at the presence of Consumer Technology Association President Kinsey Fabrizio\, Consul general of Italy in Los Angeles Raffaella Valentini\, Italian Trade Agency (ITA) President Matteo Zoppas and ITA Trade Commissioner in Los Angeles Giosafat Riganò. \n\n\n\n​A networking business event will follow to explore opportunities with international investors and startup companies. \n\n\n\n​Built to address the biggest challenges ahead—from public health to the resilience of agricultural land—and to deliver technological solutions that can be deployed at scale in global markets: these are the Italian innovations that will be presented at CES. \n\n\n\n​“Inspired by legacy\, designed by vision” is the theme of Italy’s CES 2026 mission\, capturing the identity of a country that innovates by building on its roots. Italy turns curiosity\, ingenuity\, and design into technologies that improve everyday life\, strengthen business competitiveness\, and help cities become more resilient. \n\n\n\n​ \n\n\n\n​Meet 51 of our most forward-looking startups\, discussing partnership opportunities over authentic Italian Spritz and food. \n\n\n\n​Find out more about the Italian startups in the official catalogue.
URL:https://tech.vegas/event/spritzpitch-italia-ces-2026/
LOCATION:The Venetian Expo\, 201 Sands Ave\, Las Vegas\, NV 89169\, United States
ATTACH;FMTTYPE=image/png:https://tech.vegas/wp-content/uploads/2026/01/image-5.png
END:VEVENT
END:VCALENDAR