BEGIN:VCALENDAR
VERSION:2.0
PRODID:-//Tech.Vegas - ECPv6.15.20//NONSGML v1.0//EN
CALSCALE:GREGORIAN
METHOD:PUBLISH
X-ORIGINAL-URL:https://tech.vegas
X-WR-CALDESC:Events for Tech.Vegas
REFRESH-INTERVAL;VALUE=DURATION:PT1H
X-Robots-Tag:noindex
X-PUBLISHED-TTL:PT1H
BEGIN:VTIMEZONE
TZID:America/Los_Angeles
BEGIN:DAYLIGHT
TZOFFSETFROM:-0800
TZOFFSETTO:-0700
TZNAME:PDT
DTSTART:20240310T100000
END:DAYLIGHT
BEGIN:STANDARD
TZOFFSETFROM:-0700
TZOFFSETTO:-0800
TZNAME:PST
DTSTART:20241103T090000
END:STANDARD
BEGIN:DAYLIGHT
TZOFFSETFROM:-0800
TZOFFSETTO:-0700
TZNAME:PDT
DTSTART:20250309T100000
END:DAYLIGHT
BEGIN:STANDARD
TZOFFSETFROM:-0700
TZOFFSETTO:-0800
TZNAME:PST
DTSTART:20251102T090000
END:STANDARD
BEGIN:DAYLIGHT
TZOFFSETFROM:-0800
TZOFFSETTO:-0700
TZNAME:PDT
DTSTART:20260308T100000
END:DAYLIGHT
BEGIN:STANDARD
TZOFFSETFROM:-0700
TZOFFSETTO:-0800
TZNAME:PST
DTSTART:20261101T090000
END:STANDARD
BEGIN:DAYLIGHT
TZOFFSETFROM:-0800
TZOFFSETTO:-0700
TZNAME:PDT
DTSTART:20270314T100000
END:DAYLIGHT
BEGIN:STANDARD
TZOFFSETFROM:-0700
TZOFFSETTO:-0800
TZNAME:PST
DTSTART:20271107T090000
END:STANDARD
END:VTIMEZONE
BEGIN:VEVENT
DTSTART;TZID=America/Los_Angeles:20260408T113000
DTEND;TZID=America/Los_Angeles:20260408T130000
DTSTAMP:20260424T111721
CREATED:20260404T005009Z
LAST-MODIFIED:20260404T005009Z
UID:10006987-1775647800-1775653200@tech.vegas
SUMMARY:ISSA LV Q2/2026 Chapter Meeting @ Sierra Gold
DESCRIPTION:Please join us for our quarterly meeting with Siroui Mushegian on Wednesday\, April 8th\, at Sierra Gold from 11:30 to 1:00 p.m.\n\n\nPresentation by Siroui Mushegian:\nWhen a trusted vendor is compromised\, the impact rarely stops there. \nThe recent Salesloft security incident serves as a strong reminder of how quickly vulnerabilities can be leveraged by determined adversaries. \nIn this session\, Siroui Mushegian will walk through the Salesloft breach and we’ll take a practical look at how the issue was exploited\, detection gaps and missed signals\, the lessons we can apply to strengthen our own security posture\, and some recommend dialog you can have with your board or your executive leadership. \nThis is not just a breach recap. It is a practical discussion on how risk actually moves through today’s environments. \nWhat We Will Cover: \n\nA clear breakdown of the Salesloft breach\nHow third-party applications extend your attack surface\nThe role of platforms like Salesforce in amplifying risk\nWhere traditional vendor risk management falls short\nPractical ways to improve visibility and accountability across third and fourth parties\n\n\nAbout the Speaker:Siroui Mushegian is the Senior Vice President and Chief Information Officer (CIO) at Barracuda Networks\, where she plays a pivotal role in shaping the company’s information technology (IT) strategy. With a focus on aligning technology with business objectives\, Siroui oversees the management of hardware\, software\, data\, and infrastructure\, driving digital and AI transformation and ensuring the secure and efficient operation of IT systems across the organization. \nWith 30 years of experience as an IT executive\, Siroui is passionate about identifying and leveraging emerging technologies to enhance business processes\, improve customer experiences\, and drive growth. Her leadership has been instrumental in building strong operational environments that eliminate technology silos\, elevate the maturity and impact of technology within enterprises\, and deliver measurable and scalable business outcomes. \nThroughout her career\, Siroui has worked for top organizations\, including BlackLine\, PBS’s WNET New York Public Media\, the National Basketball Association (NBA)\, Ralph Lauren\, and Time\, Inc.\, where she further developed her skills. \nSiroui holds a master’s degree in business administration with a concentration in management and strategy from Fordham University and a bachelor’s degree in mathematics and finance from the University of Connecticut. \n \nEvent Details:📅 Date: Wednesday\, April 8th\, 2026🕒 Time: 11:30 AM – 1 PM📍 Location: Sierra Gold\, 215 & S. Jones\, Las Vegas\, NV \n \nWho Should Attend:Cybersecurity and IT professionals\, risk and compliance leaders\, students\, and anyone interested in real-world insights from an executive security leader.
URL:https://tech.vegas/event/issa-lv-q2-2026-chapter-meeting-sierra-gold/
LOCATION:Sierra Gold\, 6515 S Jones Blvd\, Las Vegas\, Las Vegas\, NV\, 89118\, United States
CATEGORIES:Technology
ATTACH;FMTTYPE=image/jpeg:https://tech.vegas/wp-content/uploads/2026/04/4d015f67a06865b48e83901ee4190ff5.jpg
END:VEVENT
BEGIN:VEVENT
DTSTART;TZID=America/Los_Angeles:20260328T090000
DTEND;TZID=America/Los_Angeles:20260328T160000
DTSTAMP:20260424T111721
CREATED:20260311T092842Z
LAST-MODIFIED:20260311T092842Z
UID:10006921-1774688400-1774713600@tech.vegas
SUMMARY:ISSA Las Vegas Chapter - ISC2 CISSP Review Course ($75)
DESCRIPTION:Get ready to skill up and enhance your cybersecurity expertise with our live\, local ISC2 CISSP Review Course\, hosted by the ISSA Las Vegas!\n\n\nElevate your expertise and prepare for the next step in your career. The ISSA Las Vegas Chapter is proud to announce our annual ISC2 CISSP Review Course. \nThis in-person\, mentor-led program is specifically designed to help you navigate all eight domains of the CISSP Common Body of Knowledge (CBK). Our mentors bring decades of collective real-world experience to the classroom\, offering insights that go beyond the textbook. \nCourse Schedule & Location\nWhen: Five consecutive Saturdays | 9:00 AM – 4:00 PM \n\nMarch 28\, 2026\nApril 4\, 2026\nApril 11\, 2026\nApril 18\, 2026\nApril 25\, 2026\n\nWhere: UIMC Delta Building 901 S Rancho Lane\, Las Vegas\, NV Room: Sapphire/Emerald Room (Final room assignment will be confirmed via email) \nWhat to Expect\n\nComprehensive Coverage: In-depth review of all 8 CISSP domains.\nProfessional Credits: Earn up to 40 CPEs upon completion.\nResources: Electronic handouts and curated study aids.\nNetworking: Direct access to local CISSP-certified mentors and peers.\nAmenities: Lunch and refreshments provided for each session.\n\nRegistration Details\n\nISSA Members: $45\nNon-Members: $75\nCapacity: Limited to 25 participants (first-come\, first-served).\n\n\nNote: Registration for the March 28th start date covers the full five-week curriculum. \n\nRequired Materials: Attendees are encouraged to have the ISC2 CISSP Official Study Guide (Latest Edition) available for the duration of the course. \nIf you have any questions regarding the curriculum or registration process\, please reach out to our team at education@lvissa.org. \nWe look forward to seeing you there and supporting your journey toward certification. \n \nREFUNDS: \nThere will be no refunds after March 27th at 5:00 pm \nIf anyone has any questions\, feel free to reach out to our Education Director at education@lvissa.org
URL:https://tech.vegas/event/issa-las-vegas-chapter-isc2-cissp-review-course-75/
LOCATION:Delta Point Building\, 901 South Rancho Lane\, Las Vegas\, NV\, 89106\, United States
CATEGORIES:Technology
ATTACH;FMTTYPE=image/jpeg:https://tech.vegas/wp-content/uploads/2026/03/7ff98cbb5c62ed01a9cfb9b4037daa6b.jpg
END:VEVENT
BEGIN:VEVENT
DTSTART;TZID=America/Los_Angeles:20260121T113000
DTEND;TZID=America/Los_Angeles:20260121T130000
DTSTAMP:20260424T111721
CREATED:20260111T212446Z
LAST-MODIFIED:20260111T212446Z
UID:10006569-1768995000-1769000400@tech.vegas
SUMMARY:ISSA LV Q1/2026 Chapter Meeting @ Sierra Gold
DESCRIPTION:Please join us for our quarterly meeting with Joe Vadakkan on Wednesday\, January 21st\, at Sierra Gold from 11:30 to 1:00 p.m.\n\n\nPresentation by Joe Vadakkan:\nWhen AI Attacks Without Humans – Lessons from the Fully Automated Anthropic Breach \nThe Anthropic incident marked a turning point in cybersecurity\, where an attack lifecycle was executed end-to-end by autonomous systems. Reconnaissance\, demonstrated exploitation\, lateral movement\, and data exfiltration occurred without continuous human control. \nThis session breaks down how agentic artificial intelligence collapses traditional detection timelines\, why human paced security controls fail against machine speed adversaries\, and what enterprises must change in artificial intelligence governance and security to defend against fully automated attacks. \n\nAbout the Speaker:With over 20 years of experience in global infrastructure architecture\, Joe Vadakkan is a seasoned leader specializing in the intersection of cloud\, software-as-a-service\, artificial intelligence\, and cybersecurity. He has dedicated his career to guiding organizations through the complexities of artificial intelligence and cyber defense\, with deep expertise spanning machine learning\, natural language processing\, and secure software development. \nJoe’s background includes C-suite roles and strategic consulting for Fortune 500 companies across aerospace and defense\, finance\, healthcare\, and government. He has designed large-scale portfolio solutions and secure environments for the world’s top five public cloud service providers\, pure-play cyber firms\, and independent software vendors. \nJoe is also the President of the Cloud Security Alliance Arizona Chapter and is heavily involved in community efforts to shape new practitioners in cybersecurity. \n \nEvent Details:📅 Date: Wednesday\, January 21st\, 2026🕒 Time: 11:30 AM – 1 PM📍 Location: Sierra Gold\, 215 & S. Jones\, Las Vegas\, NV \n \nWho Should Attend:Cybersecurity and IT professionals\, risk and compliance leaders\, students\, and anyone interested in real-world insights from an executive security leader.
URL:https://tech.vegas/event/issa-lv-q1-2026-chapter-meeting-sierra-gold/
LOCATION:Sierra Gold\, 6515 S Jones Blvd\, Las Vegas\, Las Vegas\, NV\, 89118\, United States
CATEGORIES:Technology
END:VEVENT
BEGIN:VEVENT
DTSTART;TZID=America/Los_Angeles:20251104T113000
DTEND;TZID=America/Los_Angeles:20251104T130000
DTSTAMP:20260424T111721
CREATED:20251014T071137Z
LAST-MODIFIED:20251014T071137Z
UID:10006315-1762255800-1762261200@tech.vegas
SUMMARY:ISSA LV: Deepfakes\, AI\, and the New Face of Cybercrime
DESCRIPTION:AI-driven threats aren’t the future – they’re here now\, eroding the trust and controls organizations rely on to stay secure.\n\n\nCybercriminals are adopting artificial intelligence to supercharge classic attacks at lightning speed. We’re seeing voice clones of executives authorizing fraudulent payments\, synthetic videos used in extortion attempts\, and phishing emails so well-crafted they bypass filters and fool experienced staff. These AI-driven threats aren’t the future – they’re here now\, eroding the trust and controls organizations rely on to stay secure.\n \nKey takeaways: \n\nReal-world examples of deepfakes\, voice cloning\, and AI-assisted phishing in active attacks\nHow these threats disrupt financial safeguards\, executive trust\, and operational resilience\nPractical steps to strengthen defenses\, from updated policies and training to red teaming and incident response readiness\n\n \nJoin us for a fast-paced session designed for security practitioners\, CISOs\, and IT leaders. Arm yourself against the future of cybercrime with a clear\, realistic view of how attackers are using AI… and what can be done to stay ahead of them. \n \nGuest Speaker\nMatt Durrin is the Director of Training and Research at LMG Security and a Senior Consultant with the organization. He is an instructor at the international Black Hat USA conference\, where he has taught classes on ransomware and data breaches. Matt has conducted cybersecurity seminars\, tabletop exercises and classes for thousands of attendees in all sectors\, including banking\, retail\, healthcare\, government\, and more. He is also the co-author of the book\, Ransomware and Cyber Extortion: Response and Prevention. A seasoned cybersecurity and IT professional\, Matt specializes in ransomware response and research\, as well as deployment of proactive cybersecurity solutions. Matt holds a bachelor’s degree in computer science from the University of Montana\, and his malware research has been featured on NBC Nightly News.
URL:https://tech.vegas/event/issa-lv-deepfakes-ai-and-the-new-face-of-cybercrime/
LOCATION:Sierra Gold\, 6515 S Jones Blvd\, Las Vegas\, Las Vegas\, NV\, 89118\, United States
CATEGORIES:Technology
ATTACH;FMTTYPE=image/jpeg:https://tech.vegas/wp-content/uploads/2025/10/b3ac9030f5690b0e10c5860bd47e8e24.jpg
END:VEVENT
END:VCALENDAR