BEGIN:VCALENDAR
VERSION:2.0
PRODID:-//Tech.Vegas - ECPv6.15.20//NONSGML v1.0//EN
CALSCALE:GREGORIAN
METHOD:PUBLISH
X-WR-CALNAME:Tech.Vegas
X-ORIGINAL-URL:https://tech.vegas
X-WR-CALDESC:Events for Tech.Vegas
REFRESH-INTERVAL;VALUE=DURATION:PT1H
X-Robots-Tag:noindex
X-PUBLISHED-TTL:PT1H
BEGIN:VTIMEZONE
TZID:America/Los_Angeles
BEGIN:DAYLIGHT
TZOFFSETFROM:-0800
TZOFFSETTO:-0700
TZNAME:PDT
DTSTART:20250309T100000
END:DAYLIGHT
BEGIN:STANDARD
TZOFFSETFROM:-0700
TZOFFSETTO:-0800
TZNAME:PST
DTSTART:20251102T090000
END:STANDARD
BEGIN:DAYLIGHT
TZOFFSETFROM:-0800
TZOFFSETTO:-0700
TZNAME:PDT
DTSTART:20260308T100000
END:DAYLIGHT
BEGIN:STANDARD
TZOFFSETFROM:-0700
TZOFFSETTO:-0800
TZNAME:PST
DTSTART:20261101T090000
END:STANDARD
BEGIN:DAYLIGHT
TZOFFSETFROM:-0800
TZOFFSETTO:-0700
TZNAME:PDT
DTSTART:20270314T100000
END:DAYLIGHT
BEGIN:STANDARD
TZOFFSETFROM:-0700
TZOFFSETTO:-0800
TZNAME:PST
DTSTART:20271107T090000
END:STANDARD
END:VTIMEZONE
BEGIN:VEVENT
DTSTART;TZID=America/Los_Angeles:20260423T183000
DTEND;TZID=America/Los_Angeles:20260423T213000
DTSTAMP:20260422T043910
CREATED:20260411T160147Z
LAST-MODIFIED:20260411T160150Z
UID:10007014-1776969000-1776979800@tech.vegas
SUMMARY:FinOps After Dark @ GoogleNext 2026
DESCRIPTION:​Join Finout and nOps for FinOps After Dark — an evening with the FinOps community after a full day at Google Next 2026. \n\n\n\n​We’re taking over Prohibition Bar for drinks\, music\, and relaxed conversations with cloud and FinOps leaders. \n\n\n\n​Whether you’re a seasoned FinOps practitioner or just starting to explore the space\, this is your chance to connect with peers and leaders who speak your language. \n\n\n\n​Spots are limited — RSVP to save yours. \n\n\n\n​Hosted by: Finout × nOps
URL:https://tech.vegas/event/finops-after-dark-googlenext-2026-2/
LOCATION:1923 Prohibition Bar\, 3930 S Las Vegas Blvd\, Las Vegas\, NV\, United States
CATEGORIES:Networking
ATTACH;FMTTYPE=image/png:https://tech.vegas/wp-content/uploads/2026/04/image-2.png
GEO:36.094042;-115.172967
X-APPLE-STRUCTURED-LOCATION;VALUE=URI;X-ADDRESS=1923 Prohibition Bar 3930 S Las Vegas Blvd Las Vegas NV United States;X-APPLE-RADIUS=500;X-TITLE=3930 S Las Vegas Blvd:geo:-115.172967,36.094042
END:VEVENT
END:VCALENDAR