BEGIN:VCALENDAR
VERSION:2.0
PRODID:-//Tech.Vegas - ECPv6.15.20//NONSGML v1.0//EN
CALSCALE:GREGORIAN
METHOD:PUBLISH
X-WR-CALNAME:Tech.Vegas
X-ORIGINAL-URL:https://tech.vegas
X-WR-CALDESC:Events for Tech.Vegas
REFRESH-INTERVAL;VALUE=DURATION:PT1H
X-Robots-Tag:noindex
X-PUBLISHED-TTL:PT1H
BEGIN:VTIMEZONE
TZID:America/Los_Angeles
BEGIN:DAYLIGHT
TZOFFSETFROM:-0800
TZOFFSETTO:-0700
TZNAME:PDT
DTSTART:20250309T100000
END:DAYLIGHT
BEGIN:STANDARD
TZOFFSETFROM:-0700
TZOFFSETTO:-0800
TZNAME:PST
DTSTART:20251102T090000
END:STANDARD
BEGIN:DAYLIGHT
TZOFFSETFROM:-0800
TZOFFSETTO:-0700
TZNAME:PDT
DTSTART:20260308T100000
END:DAYLIGHT
BEGIN:STANDARD
TZOFFSETFROM:-0700
TZOFFSETTO:-0800
TZNAME:PST
DTSTART:20261101T090000
END:STANDARD
BEGIN:DAYLIGHT
TZOFFSETFROM:-0800
TZOFFSETTO:-0700
TZNAME:PDT
DTSTART:20270314T100000
END:DAYLIGHT
BEGIN:STANDARD
TZOFFSETFROM:-0700
TZOFFSETTO:-0800
TZNAME:PST
DTSTART:20271107T090000
END:STANDARD
END:VTIMEZONE
BEGIN:VEVENT
DTSTART;TZID=America/Los_Angeles:20260105T110000
DTEND;TZID=America/Los_Angeles:20260111T110000
DTSTAMP:20260421T204150
CREATED:20251113T234250Z
LAST-MODIFIED:20251113T234250Z
UID:10006380-1767610800-1768129200@tech.vegas
SUMMARY:CES2026 Asia Pacific Delegation
DESCRIPTION:Join the official Asia Pacific Delegation at the worlds largest tech meetup\n\n\nCES 2026 Asia Pacific Delegation\n \nLas Vegas · January 5–11\, 2026 \n \nJoin us in Las Vegas as part of the official Asia Pacific Delegation to CES 2026 — the world’s largest and most influential technology event. \n \nThis is your chance to experience CES alongside founders\, executives\, and investors from across the APAC innovation ecosystem. Together\, we’ll uncover the trends\, technologies\, and partnerships that are shaping the decade ahead. \n \nAt CES 2026\, you’ll be among the first in the world to see breakthroughs in: \n \n\nArtificial Intelligence & Robotics\nMetaverse\, Gaming & Immersive Tech\nDigital Health & Future of Work\nSmart Homes & Consumer Electronics\nVehicle Tech & Future Mobility\n\n \nCES is where the world’s most significant innovations are unveiled. With more than 100\,000 attendees each year\, it stands as the global stage where technology leaders\, startups\, and investors converge to showcase what’s next. \n \nPackage Options \n \n \n1. Delegate Package – $2\,500 AUD \nThe complete CES experience. \nJoin the official Asia Pacific Delegation and gain full CES access\, guided tours\, VIP events\, and networking opportunities designed to connect you with global innovators. \n \nIncludes: \n \nCES Exhibition Show Floor Pass (Tech East\, West & South) \nKeynote Presentations & Great Minds Sessions \nConference Workshops & VIP Industry Expert Tours \nAccess to the G’DAY CES Welcome Reception \nInvitation to the Official CES International Reception \nDelegate Debrief Dinner (hosted by Capgemini) \nGuest List Access to exclusive industry events \n \n2. Pitch Package – $4\,000 AUD \nPitch to the Silicon Valley Investor Summit. \nDesigned for founders and startups ready to connect with global investors and showcase their innovation on the world stage. \n \nIncludes: \n \nAll Delegate Package benefits; plus \nSix-minute pitch slot at the Silicon Valley AI & Tech Funding Summit \nVIP networking lunch with global investors and innovation leaders \nCoaching and presentation preparation session \nG’DAY CES Welcome Reception & Delegate Debrief Dinner \n \n3. Executive Package – $5\,000 AUD \nThe all-inclusive CES experience. \nFor senior executives and investors who want premium access with zero logistics\, combining full delegate benefits with accommodation on the Las Vegas Strip. \n \nIncludes: \n \nAll Delegate Package benefits; plus \nSix nights’ accommodation (5–11 Jan 2026) on the Strip at Planet Hollywood (or similar) \nDedicated concierge support for introductions and meeting facilitation \nG’DAY CES Welcome Reception & Delegate Debrief Dinner \n \n \nWhat’s Not Included \nFlights\, visas\, travel insurance\, local transport\, and meals (outside official events). \n \nReady to Join Us? \nSelect your preferred package from the ticket options above. \nSpaces are limited to ensure a focused and high-value delegation. \n \n \nDETAILED INCLUSIONS (All Packages): \n \nExhibition Show Floor Passes: \nYou will be amongst the first in the world to experience the latest innovations from the world’s biggest brands\, including Google\, Amazon\, Meta\, Samsung and over 3500 exhibitors across AI\, Robotics\, VR/AR/XR\, Vehicle Tech and much more. Your expo passes will include access to the Tech East\, Tech West and Tech South venues. \n \nKeynote Presentations and Great Minds Sessions: \nBeyond the hype of the show floor\, you are invited to join industry thought leaders and global disruptors as they share a vision of the future and explore the technologies that will redefine the way we work\, live and play. \n \nConference Workshops: \nThese workshops will allow you to take a deep dive into emerging trends with the key stakeholders from global brands. Presenters include the people behind the scenes who are building the products that are changing our world. \n \nVIP Industry Expert Tours \nMake the most of every moment of your time at CES® 2026 by taking a show floor tour hosted by your official delegate host. The tours are designed and curated specifically for the delegation as walking interactive sessions that provide detailed overviews of what’s happening on the floors\, guided by subject matter experts. \n \nPre Show Briefing and Emerging Trends Report \nIncludes access to a one-on-one preshow briefing to ensure that you can target specific areas of interest for the expo. In addition to these sessions\, you will also receive a copy of the official 2026 Emerging Trends report. \n \nAccess to International Business Centres \nThe International Business Centres\, located at the LVCC and the Venetian Expo\, offer services exclusively for our delegate attendees. Facilities include access to International Trade Specialists\, Private meeting rooms with internet access and lounge areas with refreshments and snacks. \n \nOfficial CES2026 International Reception \nHosted by CTA\, VIP delegates will receive an exclusive invitation to join the CES2026 International Reception. This event is an opportunity to network with global attendees and explore opportunities for collaboration and partnership. \n \nGDAY CES Cocktail Party \nThis exclusive event will allow you to expand your network across the APAC region and meet with our cohort of executives\, early stage start-ups and industry stakeholders as we kick off a chaotic week in Vegas for the Consumer Electronics Show. \n \nDelegate Debrief Dinner \nAn award winning hosted dinner with special guest\, Dheeren Velu from Capgemini\, where we will unpack some of the highlights from CES2026 and discuss how you can leverage these new technologies in your business and projects. \n \nGuest List Access to Industry Parties \nYour delegate host will arrange for guest list access to some of the hottest industry pop-ups and parties being held during CES week.​​ \n \n\n\n\nConference Passes\nIncludes access to the CES exhibition\, keynote addresses\, great minds sessions and a range of industry workshops and conference events* \n\n\n\nIndustry Events\nGet exclusive access to industry networking events and after parties\, including the official 2025 International Delegate Reception and G’DAY CES cocktail party.* \n\n\n\nVIP Concierge Service\nTo ensure that you get the most from your Las Vegas experience\, each delegate will receive a dedicated CES ambassador to tailor a conference schedule to suit your interests and needs. And when its time to hit the strip\, your conceirge can arrange everything from show tickets\, to nightclubs and anything in between. \n \n \n \n\n\nPackages do not include flights\, accomodation (except Executive Packageoption)\, visas\, local transport and additional food/entertainment during your stay.
URL:https://tech.vegas/event/ces2026-asia-pacific-delegation/
LOCATION:Las Vegas Convention Center\, 3150 Paradise Rd\, Las Vegas\, NV 89109\, United States
ATTACH;FMTTYPE=image/jpeg:https://tech.vegas/wp-content/uploads/2025/11/574e78ac7889168b85fe83a3e9fc78e6.jpg
END:VEVENT
END:VCALENDAR