BEGIN:VCALENDAR
VERSION:2.0
PRODID:-//Tech.Vegas - ECPv6.15.20//NONSGML v1.0//EN
CALSCALE:GREGORIAN
METHOD:PUBLISH
X-ORIGINAL-URL:https://tech.vegas
X-WR-CALDESC:Events for Tech.Vegas
REFRESH-INTERVAL;VALUE=DURATION:PT1H
X-Robots-Tag:noindex
X-PUBLISHED-TTL:PT1H
BEGIN:VTIMEZONE
TZID:America/Los_Angeles
BEGIN:DAYLIGHT
TZOFFSETFROM:-0800
TZOFFSETTO:-0700
TZNAME:PDT
DTSTART:20240310T100000
END:DAYLIGHT
BEGIN:STANDARD
TZOFFSETFROM:-0700
TZOFFSETTO:-0800
TZNAME:PST
DTSTART:20241103T090000
END:STANDARD
BEGIN:DAYLIGHT
TZOFFSETFROM:-0800
TZOFFSETTO:-0700
TZNAME:PDT
DTSTART:20250309T100000
END:DAYLIGHT
BEGIN:STANDARD
TZOFFSETFROM:-0700
TZOFFSETTO:-0800
TZNAME:PST
DTSTART:20251102T090000
END:STANDARD
BEGIN:DAYLIGHT
TZOFFSETFROM:-0800
TZOFFSETTO:-0700
TZNAME:PDT
DTSTART:20260308T100000
END:DAYLIGHT
BEGIN:STANDARD
TZOFFSETFROM:-0700
TZOFFSETTO:-0800
TZNAME:PST
DTSTART:20261101T090000
END:STANDARD
END:VTIMEZONE
BEGIN:VEVENT
DTSTART;TZID=America/Los_Angeles:20251120T110000
DTEND;TZID=America/Los_Angeles:20251120T140000
DTSTAMP:20260422T032722
CREATED:20251113T231444Z
LAST-MODIFIED:20251113T231444Z
UID:10006377-1763636400-1763647200@tech.vegas
SUMMARY:Las Vegas Career Fair - November 20\, 2025
DESCRIPTION:You’ll meet face-to-face with hiring decision-makers from some of the areas top employers. Dress professionally and bring plenty of resumes\,\n\n\nJoin us at our upcoming career fair\nAre you ready to take your career to the next level? Join us at our upcoming career fair and connect with top employers in your area! \nAt our career fair\, you’ll have the chance to: \n\nMeet face-to-face with recruiters and hiring managers\nExplore open job opportunities and learn about what it’s like to work at different companies\nNetwork\n\nThis is your opportunity to discover new career paths\, learn about job openings\, and make connections that can help you advance in your career. \nDon’t miss out on this exciting event. Register Now. We can’t wait to see you there!
URL:https://tech.vegas/event/las-vegas-career-fair-november-20-2025/
LOCATION:Santa Fe Station Hotel\, 4949 North Rancho Drive\, Las Vegas\, NV\, 89130\, United States
ATTACH;FMTTYPE=image/jpeg:https://tech.vegas/wp-content/uploads/2025/11/4b5e36e29f221a6a4b0c4e9ed7fbf7da.jpg
END:VEVENT
END:VCALENDAR