BEGIN:VCALENDAR
VERSION:2.0
PRODID:-//Tech.Vegas - ECPv6.15.20//NONSGML v1.0//EN
CALSCALE:GREGORIAN
METHOD:PUBLISH
X-WR-CALNAME:Tech.Vegas
X-ORIGINAL-URL:https://tech.vegas
X-WR-CALDESC:Events for Tech.Vegas
REFRESH-INTERVAL;VALUE=DURATION:PT1H
X-Robots-Tag:noindex
X-PUBLISHED-TTL:PT1H
BEGIN:VTIMEZONE
TZID:America/Los_Angeles
BEGIN:DAYLIGHT
TZOFFSETFROM:-0800
TZOFFSETTO:-0700
TZNAME:PDT
DTSTART:20250309T100000
END:DAYLIGHT
BEGIN:STANDARD
TZOFFSETFROM:-0700
TZOFFSETTO:-0800
TZNAME:PST
DTSTART:20251102T090000
END:STANDARD
BEGIN:DAYLIGHT
TZOFFSETFROM:-0800
TZOFFSETTO:-0700
TZNAME:PDT
DTSTART:20260308T100000
END:DAYLIGHT
BEGIN:STANDARD
TZOFFSETFROM:-0700
TZOFFSETTO:-0800
TZNAME:PST
DTSTART:20261101T090000
END:STANDARD
BEGIN:DAYLIGHT
TZOFFSETFROM:-0800
TZOFFSETTO:-0700
TZNAME:PDT
DTSTART:20270314T100000
END:DAYLIGHT
BEGIN:STANDARD
TZOFFSETFROM:-0700
TZOFFSETTO:-0800
TZNAME:PST
DTSTART:20271107T090000
END:STANDARD
END:VTIMEZONE
BEGIN:VEVENT
DTSTART;TZID=America/Los_Angeles:20260428T173000
DTEND;TZID=America/Los_Angeles:20260428T190000
DTSTAMP:20260423T163558
CREATED:20260404T005318Z
LAST-MODIFIED:20260404T005318Z
UID:10006988-1777397400-1777402800@tech.vegas
SUMMARY:VIE: Mentorship & Coaching: Building Leadership Excellence in Healthcare
DESCRIPTION:Join Adam Haas as he moderates a discussion on how mentorship plays a critical role in developing a next generation of healthcare leaders.\n\n\nData has shown that mentoring programs are an effective way to offer guidance and support for healthcare executives who are entering the field or who are seeking career advancement. A mentoring relationship provides a safe environment in which those with less experience may learn from experienced executives. Join ACHE Nevada as we discussion mentorship and coaching and how it leads to leadership excellence in healthcare.
URL:https://tech.vegas/event/vie-mentorship-coaching-building-leadership-excellence-in-healthcare/
CATEGORIES:Health & Wellness
ATTACH;FMTTYPE=image/jpeg:https://tech.vegas/wp-content/uploads/2026/04/6badd90b1ac2ae3324dee2cefa0e86fc.jpg
END:VEVENT
BEGIN:VEVENT
DTSTART;TZID=America/Los_Angeles:20260713T173000
DTEND;TZID=America/Los_Angeles:20260713T190000
DTSTAMP:20260423T163558
CREATED:20260404T005319Z
LAST-MODIFIED:20260404T005319Z
UID:10006989-1783963800-1783969200@tech.vegas
SUMMARY:VIE: Leading with Intention: Building Your Path to Healthcare Executive
DESCRIPTION:Learn how to strategically map out your early Career Development\n\n\nIn today’s changing healthcare environment\, early careerists need skills and strategies to position themselves for the future. You have the freedom to create the career paths that link your talents and interests with the right job. No job comes with a lifetime guarantee\, and flexibility is important. To achieve upward mobility in your career\, you must constantly reinvent your brand. Learn from your peers the necessary steps to take your career path to the next level. Join ACHE Nevada as we focus on the nuts-and-bolts of career planning for early careerists in the healthcare sector.
URL:https://tech.vegas/event/vie-leading-with-intention-building-your-path-to-healthcare-executive/
CATEGORIES:Health & Wellness
ATTACH;FMTTYPE=image/jpeg:https://tech.vegas/wp-content/uploads/2026/04/ed779d3442468ade3fccb63614315305.jpg
END:VEVENT
END:VCALENDAR