BEGIN:VCALENDAR
VERSION:2.0
PRODID:-//Tech.Vegas - ECPv6.15.20//NONSGML v1.0//EN
CALSCALE:GREGORIAN
METHOD:PUBLISH
X-ORIGINAL-URL:https://tech.vegas
X-WR-CALDESC:Events for Tech.Vegas
REFRESH-INTERVAL;VALUE=DURATION:PT1H
X-Robots-Tag:noindex
X-PUBLISHED-TTL:PT1H
BEGIN:VTIMEZONE
TZID:America/Los_Angeles
BEGIN:DAYLIGHT
TZOFFSETFROM:-0800
TZOFFSETTO:-0700
TZNAME:PDT
DTSTART:20240310T100000
END:DAYLIGHT
BEGIN:STANDARD
TZOFFSETFROM:-0700
TZOFFSETTO:-0800
TZNAME:PST
DTSTART:20241103T090000
END:STANDARD
BEGIN:DAYLIGHT
TZOFFSETFROM:-0800
TZOFFSETTO:-0700
TZNAME:PDT
DTSTART:20250309T100000
END:DAYLIGHT
BEGIN:STANDARD
TZOFFSETFROM:-0700
TZOFFSETTO:-0800
TZNAME:PST
DTSTART:20251102T090000
END:STANDARD
BEGIN:DAYLIGHT
TZOFFSETFROM:-0800
TZOFFSETTO:-0700
TZNAME:PDT
DTSTART:20260308T100000
END:DAYLIGHT
BEGIN:STANDARD
TZOFFSETFROM:-0700
TZOFFSETTO:-0800
TZNAME:PST
DTSTART:20261101T090000
END:STANDARD
END:VTIMEZONE
BEGIN:VEVENT
DTSTART;TZID=America/Los_Angeles:20251108T170000
DTEND;TZID=America/Los_Angeles:20251108T210000
DTSTAMP:20260420T234958
CREATED:20251024T164600Z
LAST-MODIFIED:20251024T164601Z
UID:10006339-1762621200-1762635600@tech.vegas
SUMMARY:Momentum Office Party (Networking) "Veteran's Night"
DESCRIPTION:Welcome back to our second-ever Momentum Office Party! The professional-meets-social networking experience is built for ambitious professionals who want more than business cards. This time we’re taking over Muze Office\, a BRAND NEW coworking community space that just launched in October of this year in Las Vegas. To expand the concept\, we are bringing bigger energy\, connecting even more professionals who are looking for genuine\, intentional connections\, conversation\, and collaboration.\n\nHosted by PROJXON\, this evening blends intentional networking\, curated experiences\, and a relaxed but elevated vibe. Think business casual cocktail party meets startup office culture.\n\nWho You’ll Meet:\n\n 	Entrepreneurs & Owners — launching\, scaling\, looking for collaboration\n 	Executives & Decision Makers — ready to mentor\, invest\, and open doors\n 	Ambitious Professionals & Creatives — building networks and new opportunities\n 	Coworking space Members & Local Leaders — sharing insight\, ideas\, and resources\n 	Reconnect with attendees from the first-ever event!\n\nThis is where small business meets enterprise\, where innovation meets experience\, and where conversations lead to partnerships.\n\nWhat to Expect:\n\n🎯 Intentional Networking — structured “Momentum Moments” with connection prompts\, shoutouts\, and a Connection Challenge Award\n\n🥂 Social Vibe — cocktails\, conversation\, and curated introductions (no stiff suits\, just high ambition)\n\n📸 Photo Worthy — red carpet photo op\, grass wall + neon signs (it may feel influencer-esque\, so have fun with it!\n\n🛋️ Workspace Tours — choreographed tours of the WeWork space to spark organic conversations and create a unique connection.\n\n🧀 Charcuterie Grazing Table — by Simply Charcuterie LV\n\n🎁 Giveaways & Prizes — raffles\, swag\, and curated perks\n\n🎥 Live Stream — know someone who can’t make it in person? Have them join our LinkedIn Live broadcast to experience the energy!\n\n📸 Professional Photographer — so you share the memories with high-quality shots.\n\nLogistics\n\n📅 Date & Time: 8 NOV\, 2025\, 5p-9p (PST)\n\n🕔 Doors open at 5:00 PM — Live Stream 5:30 PM – 8:30 PM — Last Call & Doors Close at 9:00 PM.\n\n📍 Location: Muze Office – 6860 Bermuda Rd Suite 200\, Las Vegas\, NV 89119\n\n🎟️ Early Bird Perk: Register on Eventbrite\n\nPS Discount code for repeat-attendee pricing (Contact the Event Coordinator)\n\nStay Connected & Follow Momentum Office Party on LinkedIn to:\n\nSee who’s attending\n\nAccess post-event photos & recaps\n\nGet early invites to the next MOP events\n\n💌 Interested in sponsoring or partnering? Contact us at events@projxon.com.\n\n“Hope to see you all there!”\n\n– PROJXON Team
URL:https://tech.vegas/event/momentum-office-party-networking-veterans-night/
LOCATION:Muze Office\, 6860 Bermuda Road #suite 200\, Las Vegas\, NV\, 89119\, United States
CATEGORIES:Business,Business to Business,Community,Las Vegas Business,Mixer,Networking,Professional Association,Startups
ATTACH;FMTTYPE=image/png:https://tech.vegas/wp-content/uploads/2025/10/Veterans-Night.png
END:VEVENT
END:VCALENDAR