BEGIN:VCALENDAR
VERSION:2.0
PRODID:-//Tech.Vegas - ECPv6.15.20//NONSGML v1.0//EN
CALSCALE:GREGORIAN
METHOD:PUBLISH
X-WR-CALNAME:Tech.Vegas
X-ORIGINAL-URL:https://tech.vegas
X-WR-CALDESC:Events for Tech.Vegas
REFRESH-INTERVAL;VALUE=DURATION:PT1H
X-Robots-Tag:noindex
X-PUBLISHED-TTL:PT1H
BEGIN:VTIMEZONE
TZID:America/Los_Angeles
BEGIN:DAYLIGHT
TZOFFSETFROM:-0800
TZOFFSETTO:-0700
TZNAME:PDT
DTSTART:20250309T100000
END:DAYLIGHT
BEGIN:STANDARD
TZOFFSETFROM:-0700
TZOFFSETTO:-0800
TZNAME:PST
DTSTART:20251102T090000
END:STANDARD
BEGIN:DAYLIGHT
TZOFFSETFROM:-0800
TZOFFSETTO:-0700
TZNAME:PDT
DTSTART:20260308T100000
END:DAYLIGHT
BEGIN:STANDARD
TZOFFSETFROM:-0700
TZOFFSETTO:-0800
TZNAME:PST
DTSTART:20261101T090000
END:STANDARD
BEGIN:DAYLIGHT
TZOFFSETFROM:-0800
TZOFFSETTO:-0700
TZNAME:PDT
DTSTART:20270314T100000
END:DAYLIGHT
BEGIN:STANDARD
TZOFFSETFROM:-0700
TZOFFSETTO:-0800
TZNAME:PST
DTSTART:20271107T090000
END:STANDARD
END:VTIMEZONE
BEGIN:VEVENT
DTSTART;TZID=America/Los_Angeles:20260423T100000
DTEND;TZID=America/Los_Angeles:20260423T183000
DTSTAMP:20260421T000853
CREATED:20260325T202245Z
LAST-MODIFIED:20260325T202630Z
UID:10006962-1776938400-1776969000@tech.vegas
SUMMARY:UNLV Innovation Day 2026
DESCRIPTION:Welcome to Innovation Day!Thursday\, April 23rd\, 2026Main Event: 10:00am – 5:00pm (PST) Reception: 5:00pm – 6:30pm  (PST) optionalLocation: UNLV Main Campus – Richard Tam Alumni CenterHosted By: UNLV Chambers-Grundy Center for Transformative Neuroscience | Department of Brain Health | Kirk Kerkorian School of Medicine. \n\n\n\nInnovation Day is a free campus-wide event showcasing innovative research\, startup companies\, and translational projects that connect academia\, industry\, and community partners. It highlights how scientific and technological ideas move beyond the lab into real-world impact and commercialization. \n\n\n\nInnovation Day\, hosted by the Chambers-Grundy Center for Transformative Neuroscience\, brings together students\, researchers\, startups\, and industry leaders to showcase emerging technologies and real-world innovation. \n\n\n\nThe program will feature speakers – including keynote – from the UFC Performance Institute\, UC Berkeley Neurotech Collider Lab\, and StartUp Health\, along with a Deans Panel from UNLV and many others.  The event will also have exhibitors who showcase their product /services and platforms. Additionally\, we will host “High Five: Five Slides\, Five Minutes\,” where selected companies deliver rapid presentations to highlight their ideas and innovations.
URL:https://tech.vegas/event/unlv-innovation-day-2026/
LOCATION:Richard Tam Alumni Center\, South Maryland Parkway\, Las Vegas\, NV\, USA\, 4505 South Maryland Parkway\, Las Vegas\, NV\, 89154\, United States
CATEGORIES:Educational,Featured,Government & Education,Southern Nevada,Technology
ATTACH;FMTTYPE=image/jpeg:https://tech.vegas/wp-content/uploads/2022/12/unlv-banner.jpg
END:VEVENT
END:VCALENDAR