BEGIN:VCALENDAR
VERSION:2.0
PRODID:-//Tech.Vegas - ECPv6.15.20//NONSGML v1.0//EN
CALSCALE:GREGORIAN
METHOD:PUBLISH
X-WR-CALNAME:Tech.Vegas
X-ORIGINAL-URL:https://tech.vegas
X-WR-CALDESC:Events for Tech.Vegas
REFRESH-INTERVAL;VALUE=DURATION:PT1H
X-Robots-Tag:noindex
X-PUBLISHED-TTL:PT1H
BEGIN:VTIMEZONE
TZID:America/Los_Angeles
BEGIN:DAYLIGHT
TZOFFSETFROM:-0800
TZOFFSETTO:-0700
TZNAME:PDT
DTSTART:20250309T100000
END:DAYLIGHT
BEGIN:STANDARD
TZOFFSETFROM:-0700
TZOFFSETTO:-0800
TZNAME:PST
DTSTART:20251102T090000
END:STANDARD
BEGIN:DAYLIGHT
TZOFFSETFROM:-0800
TZOFFSETTO:-0700
TZNAME:PDT
DTSTART:20260308T100000
END:DAYLIGHT
BEGIN:STANDARD
TZOFFSETFROM:-0700
TZOFFSETTO:-0800
TZNAME:PST
DTSTART:20261101T090000
END:STANDARD
BEGIN:DAYLIGHT
TZOFFSETFROM:-0800
TZOFFSETTO:-0700
TZNAME:PDT
DTSTART:20270314T100000
END:DAYLIGHT
BEGIN:STANDARD
TZOFFSETFROM:-0700
TZOFFSETTO:-0800
TZNAME:PST
DTSTART:20271107T090000
END:STANDARD
END:VTIMEZONE
BEGIN:VEVENT
DTSTART;TZID=America/Los_Angeles:20260120T113000
DTEND;TZID=America/Los_Angeles:20260120T133000
DTSTAMP:20260425T085822
CREATED:20260107T004540Z
LAST-MODIFIED:20260107T004540Z
UID:10006558-1768908600-1768915800@tech.vegas
SUMMARY:SMPS 17th Annual Public Works Roundtable
DESCRIPTION:@ 			\n			\n							 \n\n\nMingle with Southern Nevada’s  public works officials at one of our most anticipated events of the year! \nEach year\, SMPS Las Vegas invites leaders from public agencies across Southern Nevada to share a brief 3- to 4-minute update on their jurisdiction. Attendees gain valuable insight into current projects\, upcoming initiatives\, and opportunities where A/E/C professionals can contribute. \nThis annual luncheon is a favorite and consistently sells out. Kick-off the New Year with meaningful connections and insightful updates. Don’t miss your chance to hear what’s in the pipeline for 2026 and beyond—and to network with the decision-makers shaping our region’s future. \nSeating is first come\, first served\, so be sure to arrive early.  No refunds available for this event\, transfers okay.  \n\n		\n\n\nSMPS\n \nView Organizer Website \n \n\n\n\n\n\n \n\n\n\n\n\n						\n	\n	\n\n						\n							Add to calendar						\n						\n	\n\n					\n\n\n\n									\n										Google Calendar									\n								\n\n									\n										iCalendar									\n								\n\n									\n										Outlook 365									\n								\n\n									\n										Outlook Live
URL:https://tech.vegas/event/smps-17th-annual-public-works-roundtable/
LOCATION:WSKY Stadium\, 5625 Polaris Ave Suite 100 Las Vegas\, NV 89118
CATEGORIES:Featured,Las Vegas Business,Networking,Professional Association,Real Estate & Construction
ATTACH;FMTTYPE=image/png:https://tech.vegas/wp-content/uploads/2026/01/image-1-nTFYXO.png
END:VEVENT
END:VCALENDAR