BEGIN:VCALENDAR
VERSION:2.0
PRODID:-//Tech.Vegas - ECPv6.15.20//NONSGML v1.0//EN
CALSCALE:GREGORIAN
METHOD:PUBLISH
X-WR-CALNAME:Tech.Vegas
X-ORIGINAL-URL:https://tech.vegas
X-WR-CALDESC:Events for Tech.Vegas
REFRESH-INTERVAL;VALUE=DURATION:PT1H
X-Robots-Tag:noindex
X-PUBLISHED-TTL:PT1H
BEGIN:VTIMEZONE
TZID:America/Los_Angeles
BEGIN:DAYLIGHT
TZOFFSETFROM:-0800
TZOFFSETTO:-0700
TZNAME:PDT
DTSTART:20240310T100000
END:DAYLIGHT
BEGIN:STANDARD
TZOFFSETFROM:-0700
TZOFFSETTO:-0800
TZNAME:PST
DTSTART:20241103T090000
END:STANDARD
BEGIN:DAYLIGHT
TZOFFSETFROM:-0800
TZOFFSETTO:-0700
TZNAME:PDT
DTSTART:20250309T100000
END:DAYLIGHT
BEGIN:STANDARD
TZOFFSETFROM:-0700
TZOFFSETTO:-0800
TZNAME:PST
DTSTART:20251102T090000
END:STANDARD
BEGIN:DAYLIGHT
TZOFFSETFROM:-0800
TZOFFSETTO:-0700
TZNAME:PDT
DTSTART:20260308T100000
END:DAYLIGHT
BEGIN:STANDARD
TZOFFSETFROM:-0700
TZOFFSETTO:-0800
TZNAME:PST
DTSTART:20261101T090000
END:STANDARD
BEGIN:DAYLIGHT
TZOFFSETFROM:-0800
TZOFFSETTO:-0700
TZNAME:PDT
DTSTART:20270314T100000
END:DAYLIGHT
BEGIN:STANDARD
TZOFFSETFROM:-0700
TZOFFSETTO:-0800
TZNAME:PST
DTSTART:20271107T090000
END:STANDARD
END:VTIMEZONE
BEGIN:VEVENT
DTSTART;TZID=America/Los_Angeles:20260218T150000
DTEND;TZID=America/Los_Angeles:20260218T163000
DTSTAMP:20260425T061517
CREATED:20260120T193559Z
LAST-MODIFIED:20260120T193559Z
UID:10006763-1771426800-1771432200@tech.vegas
SUMMARY:2026 Guinn Center Policy Forums
DESCRIPTION:@ 			\n			\n							 \n\n\nAbout This Event \nThe 2026 Guinn Center Policy Priorities Forums in Reno and Las Vegas bring together community leaders\, policymakers\, and partners for interactive discussions on Nevada’s most pressing policy issues.\nThese events will highlight the Guinn Center’s latest nonpartisan research across key topic areas\, while inviting attendees to share their perspectives on the challenges and opportunities shaping the state’s future. Through a guided\, real-time survey\, participants will help identify the policy priorities that matter most in 2026. Insights gathered during the forum will directly inform the Guinn Center’s future research\, ensuring our work remains responsive\, data-driven\, and grounded in the needs of Nevada communities. \nReno Forum:\n\nFebruary 4\, 2026\n3-4:30 p.m.\nInnevation Center\, 450 Sinclair Street in Reno\n\nLas Vegas Forum:\n\nFebruary 18\, 2024\n3-4:30 p.m.\nUNR Extension\, 8050 Paradise Road in Las Vegas\n\nTo RSVP\, click here. \n\n		\n\n\nGuinn Center\n \nView Organizer Website \n \n\n\n\n\n\n\n						\n	\n	\n\n						\n							Add to calendar						\n						\n	\n\n					\n\n\n\n									\n										Google Calendar									\n								\n\n									\n										iCalendar									\n								\n\n									\n										Outlook 365									\n								\n\n									\n										Outlook Live
URL:https://tech.vegas/event/2026-guinn-center-policy-forums/
LOCATION:University of Nevada\, Reno Extension\, 8050 Paradise Road\, #Suite 100 #105\, Las Vegas\, NV\, 89123\, United States
CATEGORIES:Community,Featured,Las Vegas Business,Legal, Financial & Government
ATTACH;FMTTYPE=image/png:https://tech.vegas/wp-content/uploads/2026/01/image-10-oK3M0x.png
END:VEVENT
BEGIN:VEVENT
DTSTART;TZID=America/Los_Angeles:20260218T110000
DTEND;TZID=America/Los_Angeles:20260218T130000
DTSTAMP:20260425T061517
CREATED:20260122T184741Z
LAST-MODIFIED:20260122T184741Z
UID:10006765-1771412400-1771419600@tech.vegas
SUMMARY:AI In Banking
DESCRIPTION:@ 			\n			\n							 \n\n\n \n\n		\n\n\nThe Risk Management Association\n \nView Organizer Website \n \n\n\n\n\n\n \n\n\n\n\n\n						\n	\n	\n\n						\n							Add to calendar						\n						\n	\n\n					\n\n\n\n									\n										Google Calendar									\n								\n\n									\n										iCalendar									\n								\n\n									\n										Outlook 365									\n								\n\n									\n										Outlook Live
URL:https://tech.vegas/event/ai-in-banking/
LOCATION:Fleming’s Prime Steakhouse\, 6515 S. Las Vegas Blvd\, Las Vegas\, NV\, 89119\, United States
CATEGORIES:Las Vegas Business,Legal, Financial & Government,Networking,Professional Association,Technology
ATTACH;FMTTYPE=image/png:https://tech.vegas/wp-content/uploads/2026/01/image-11-DI2FCg.png
END:VEVENT
BEGIN:VEVENT
DTSTART;TZID=America/Los_Angeles:20251210T083000
DTEND;TZID=America/Los_Angeles:20251210T120000
DTSTAMP:20260425T061517
CREATED:20251124T093957Z
LAST-MODIFIED:20251124T093959Z
UID:10006398-1765355400-1765368000@tech.vegas
SUMMARY:APEX: Department of Defense Government Contracting and Cybersecurity
DESCRIPTION:Nevada-based businesses that have or plan to pursue federal government contracts with theDepartment of Defense (DoD) are encouraged to attend and learn about the DoD-developedCybersecurity Maturity Model Certification (CMMC) Program. As seen on the agency’s ChiefInformation Officer’s website\, cybersecurity is a top priority as the defense industrial base (DIB) facesincreasingly frequent and complex cyberattacks. To strengthen DIB cybersecurity and better protectagency information\, the agency developed the CMMC Program.The leader from the National Defense Industrial Association (NDIA)-Southern Nevada (SNV) Chapterwill be teaching event attendees about the agency’s CMMC Program. The State of Nevada plans torecord his presentation\, in order to provide a link to the recording to attendees post-event and tothose who are unable to attend.
URL:https://tech.vegas/event/apex-department-of-defense-government-contracting-and-cybersecurity/
LOCATION:Nevada State Legislature\, Hearing Room 5\, 7120 Amigo St.\, Las Vegas\, NV 89119
CATEGORIES:Economic Development,Educational,Government & Education,Legal, Financial & Government,Networking
END:VEVENT
BEGIN:VEVENT
DTSTART;TZID=America/Los_Angeles:20251201T100000
DTEND;TZID=America/Los_Angeles:20251201T154000
DTSTAMP:20260425T061517
CREATED:20251124T095415Z
LAST-MODIFIED:20251124T095417Z
UID:10006399-1764583200-1764603600@tech.vegas
SUMMARY:Strengthening the Defense Industrial Base (DIB) via American Ingenuity
DESCRIPTION:With the international Consumer Electronics Show (CES) taking place in Las Vegas\, NV and ending theprevious Friday\, the themes of technology\, innovation\, and inventions will continue with thoughtleaders at this Nevada APEX Accelerator-led event\, especially as it relates to ensuring our nation’ssecurity. Those businesses involved in science\, technology\, engineering\, and/or mathematics (STEM)and data analytics and/or businesses that support or want to support such businesses are highlyencouraged to attend.
URL:https://tech.vegas/event/strengthening-the-defense-industrial-base-dib-via-american-ingenuity/
LOCATION:Clark County Theater\, 1401 E. Flamingo Rd.\, Las Vegas\, NV 89119
CATEGORIES:Economic Development,Education,Government & Education,Legal, Financial & Government,Networking
END:VEVENT
BEGIN:VEVENT
DTSTART;TZID=America/Los_Angeles:20251026T000000
DTEND;TZID=America/Los_Angeles:20251029T235959
DTSTAMP:20260425T061517
CREATED:20250727T112059Z
LAST-MODIFIED:20250727T112120Z
UID:10005999-1761436800-1761782399@tech.vegas
SUMMARY:Money 20/20
DESCRIPTION:Money20/20 is the world’s leading fintech\, payments\, and financial services event\, uniting global innovators\, decision-makers\, and disruptors to shape the future of money. Since its launch in 2012\, it has become the go-to platform for major industry announcements\, networking\, and thought leadership. \n\n\n\nThe event features high-level keynotes\, panels\, and workshops covering critical topics such as digital banking\, payments innovation\, blockchain\, open finance\, and AI-driven solutions. Attendees include executives from leading banks\, tech companies\, startups\, investors\, and regulators\, making it a hub for partnerships and deal-making. \n\n\n\nThe flagship edition\, Money20/20 USA\, takes place annually in Las Vegas\, while other editions are held in Europe\, Asia\, and the Middle East\, providing a global stage for collaboration and innovation.
URL:https://tech.vegas/event/money-20-20/
LOCATION:NV
CATEGORIES:Featured,Legal, Financial & Government,Startups
ATTACH;FMTTYPE=image/png:https://tech.vegas/wp-content/uploads/2025/07/image-17.png
END:VEVENT
END:VCALENDAR