BEGIN:VCALENDAR
VERSION:2.0
PRODID:-//Tech.Vegas - ECPv6.15.20//NONSGML v1.0//EN
CALSCALE:GREGORIAN
METHOD:PUBLISH
X-ORIGINAL-URL:https://tech.vegas
X-WR-CALDESC:Events for Tech.Vegas
REFRESH-INTERVAL;VALUE=DURATION:PT1H
X-Robots-Tag:noindex
X-PUBLISHED-TTL:PT1H
BEGIN:VTIMEZONE
TZID:America/Los_Angeles
BEGIN:DAYLIGHT
TZOFFSETFROM:-0800
TZOFFSETTO:-0700
TZNAME:PDT
DTSTART:20240310T100000
END:DAYLIGHT
BEGIN:STANDARD
TZOFFSETFROM:-0700
TZOFFSETTO:-0800
TZNAME:PST
DTSTART:20241103T090000
END:STANDARD
BEGIN:DAYLIGHT
TZOFFSETFROM:-0800
TZOFFSETTO:-0700
TZNAME:PDT
DTSTART:20250309T100000
END:DAYLIGHT
BEGIN:STANDARD
TZOFFSETFROM:-0700
TZOFFSETTO:-0800
TZNAME:PST
DTSTART:20251102T090000
END:STANDARD
BEGIN:DAYLIGHT
TZOFFSETFROM:-0800
TZOFFSETTO:-0700
TZNAME:PDT
DTSTART:20260308T100000
END:DAYLIGHT
BEGIN:STANDARD
TZOFFSETFROM:-0700
TZOFFSETTO:-0800
TZNAME:PST
DTSTART:20261101T090000
END:STANDARD
BEGIN:DAYLIGHT
TZOFFSETFROM:-0800
TZOFFSETTO:-0700
TZNAME:PDT
DTSTART:20270314T100000
END:DAYLIGHT
BEGIN:STANDARD
TZOFFSETFROM:-0700
TZOFFSETTO:-0800
TZNAME:PST
DTSTART:20271107T090000
END:STANDARD
END:VTIMEZONE
BEGIN:VEVENT
DTSTART;TZID=America/Los_Angeles:20260418T100000
DTEND;TZID=America/Los_Angeles:20260418T150000
DTSTAMP:20260423T151539
CREATED:20260105T205159Z
LAST-MODIFIED:20260105T205159Z
UID:10006557-1776506400-1776524400@tech.vegas
SUMMARY:Las Vegas 26th Annual Health and Wellness Expo
DESCRIPTION:Get ready for the ultimate health and wellness extravaganza at the Las Vegas 26th Annual Health and Wellness Expo\n\n\nWelcome to the Las Vegas 26th Annual Health and Wellness Expo! Join us for a day of fun and education at the Santa Fe Station Hotel & Casino. This event is all about promoting a healthy lifestyle and discovering new ways to take care of yourself. Whether you’re interested in fitness\, nutrition\, or mental well-being\, we’ve got you covered. Explore our diverse range of exhibitors and participate in interactive activities. Don’t miss out on this exciting opportunity to learn\, connect\, and improve your overall well-being. See you there! \nExhibitor Line: 602-625-3000 info@HealthAndWellnessExpo.Com
URL:https://tech.vegas/event/las-vegas-26th-annual-health-and-wellness-expo/
LOCATION:Santa Fe Station Hotel & Casino\, 4949 North Rancho Drive\, Las Vegas\, NV\, 89130\, United States
CATEGORIES:Health & Wellness
ATTACH;FMTTYPE=image/jpeg:https://tech.vegas/wp-content/uploads/2026/01/4a9f6382f0c71e6fbfea2dfce8304449.jpg
END:VEVENT
BEGIN:VEVENT
DTSTART;TZID=America/Los_Angeles:20260409T160000
DTEND;TZID=America/Los_Angeles:20260409T173000
DTSTAMP:20260423T151539
CREATED:20260313T101456Z
LAST-MODIFIED:20260313T101456Z
UID:10006935-1775750400-1775755800@tech.vegas
SUMMARY:ACHE/HIMSS AI Roundtable: AI for Patient Flow from the Acute to Home
DESCRIPTION:Join Mitchell Fong\, FACHE\, MPH\, CEO of Innovise Consulting\, & Brian Rosenberg to discuss AI in Healthcare. Sponsored by Prominence Health
URL:https://tech.vegas/event/ache-himss-ai-roundtable-ai-for-patient-flow-from-the-acute-to-home/
LOCATION:The Club at Rancharrah\, 6100 Rancharrah Parkway\, Reno\, NV\, 89511\, United States
CATEGORIES:Health & Wellness
ATTACH;FMTTYPE=image/jpeg:https://tech.vegas/wp-content/uploads/2026/03/58c9b0b0ca49344c6c37cecf70ed2a59.jpg
END:VEVENT
BEGIN:VEVENT
DTSTART;TZID=America/Los_Angeles:20260409T110000
DTEND;TZID=America/Los_Angeles:20260409T130000
DTSTAMP:20260423T151539
CREATED:20260313T101455Z
LAST-MODIFIED:20260313T101455Z
UID:10006934-1775732400-1775739600@tech.vegas
SUMMARY:Meet the Chief: Sierra Medical Center & Northern NV Medical Center
DESCRIPTION:Join ACHE Nevada in meeting the CEO of the Sierra Medical Center\, Jordan Herget and CEO of Northern NV Medical Center\, Erin Little.\n\n\nWe have an exciting opportunity to meet Jordan Herget\, FACHE\, the CEO of Sierra Medical Center\, and Erin Little\, MPH\, the CEO of Northern NV Medical Center. We will learn about Northern Nevada’s capabilities and how they will meet the needs of the surrounding community. Light bites and facility tours will be provided.
URL:https://tech.vegas/event/meet-the-chief-sierra-medical-center-northern-nv-medical-center/
LOCATION:Sierra Medical Center\, 6500 Longley Lane\, Reno\, NV\, 89511\, United States
CATEGORIES:Health & Wellness
ATTACH;FMTTYPE=image/jpeg:https://tech.vegas/wp-content/uploads/2026/03/505a51b2eaaf73cb860d2df1214b5783.jpg
END:VEVENT
BEGIN:VEVENT
DTSTART;TZID=America/Los_Angeles:20260325T183000
DTEND;TZID=America/Los_Angeles:20260325T203000
DTSTAMP:20260423T151539
CREATED:20260323T175626Z
LAST-MODIFIED:20260323T175626Z
UID:10006953-1774463400-1774470600@tech.vegas
SUMMARY:Exclusive Peptide Education & Networking Event
DESCRIPTION:Join us in person for exclusive peptide insights\, fun networking\, and cool industry tips!\n\n\nJoin Us for the Exclusive Peptide Education & Networking Event!\nGet ready to dive deep into the world of peptides with fellow enthusiasts and experts. This in-person event is your chance to learn\, share\, and connect in a relaxed\, friendly atmosphere. Whether you’re a newbie or a pro\, there’s something here for everyone! Don’t miss out on making new connections and boosting your peptide knowledge. See you there!
URL:https://tech.vegas/event/exclusive-peptide-education-networking-event/
LOCATION:2835 S Jones Blvd suite 3\, 2835 South Jones Boulevard\, #suite 3\, Las Vegas\, NV\, 89146\, United States
CATEGORIES:Health & Wellness
ATTACH;FMTTYPE=image/jpeg:https://tech.vegas/wp-content/uploads/2026/03/8a1d4cc44f10fadb438d8e11406894b7.jpg
END:VEVENT
BEGIN:VEVENT
DTSTART;TZID=America/Los_Angeles:20260319T163000
DTEND;TZID=America/Los_Angeles:20260319T193000
DTSTAMP:20260423T151539
CREATED:20260307T060512Z
LAST-MODIFIED:20260307T060512Z
UID:10006898-1773937800-1773948600@tech.vegas
SUMMARY:Spring Forward with Health: Las Vegas Biohacking Meetup
DESCRIPTION:Last month’s Biohacking Las Vegas meetup was a treasure trove of knowledge\, especially with our deep dive into HRV.\nIf you missed Roland’s presentation\, it’s all on our YouTube channel \nThis Month\, we’re keeping the momentum going! Join us on Thursday March 19th at Osteostrong\, from 5:30 PM to approximately 8:30 PM\, for another enlightening evening. \nAgain\, we’ll be serving up delicious meats from Featherblade\, a local Las Vegas butcher\, to keep your taste buds happy while you learn. \nGuest Speaker will be Sonny from Touchstone Essentials with Dr. Bill Andrews joining virtually to talk about Telomeres and how to support them. Dr. Andrews is a pioneer on telomeres research. He has been studying telomeres for over 30 years. \nDon’t miss out on this opportunity to connect\, learn\, and grow with your fellow biohackers. \nRSVP to reserve a spot\, this meeting will fill up fast. \nTickets at the door just $10
URL:https://tech.vegas/event/spring-forward-with-health-las-vegas-biohacking-meetup/
LOCATION:Osteostrong\, 5752 S. Ft. Apache Suite 145\, Las Vegas\, NV\, 89148\, US
CATEGORIES:Health & Wellness
ATTACH;FMTTYPE=image/jpeg:https://tech.vegas/wp-content/uploads/2026/03/30923_image_highres_533057277.jpeg
ORGANIZER;CN="BioHacking Las Vegas":MAILTO:meetup-group-nlaubyap-announce@messages.meetup.com
END:VEVENT
BEGIN:VEVENT
DTSTART;TZID=America/Los_Angeles:20260219T173000
DTEND;TZID=America/Los_Angeles:20260219T203000
DTSTAMP:20260423T151539
CREATED:20260202T184526Z
LAST-MODIFIED:20260202T184526Z
UID:10006791-1771522200-1771533000@tech.vegas
SUMMARY:Connect\, Learn\, Thrive: February's Gathering of Biohacking Minds
DESCRIPTION:February’s Biohacking Las Vegas meetup is set to eclipse our packed January session\, promising an even more dynamic and engaging experience. \nAfter last month’s overwhelming turnout\, we’re gearing up for another incredible event filled with insightful guest speakers\, exciting raffles\, and the invaluable opportunity for our community to come together. \nPrepare to dive deep into the world of biohacking with presentations from leading experts\, discover the latest in health optimization\, and connect with fellow biohacking enthusiasts. \nWhether you’re a seasoned pro or new to the scene\, this meetup is your gateway to a community dedicated to pushing the boundaries of what’s possible in health and longevity. \nDon’t miss out on the chance to be part of the movement that’s setting the pace for the future of wellness. \nOur meetings continue to grow\, sign up early to reserve your spot\nGet Tickets \nTo learn more\, check out our website\nBiohackingLasVegas.com \nCheck out some of our past speakers on our Biohacking Las Vegas YouTube Channel\nBiohackingLVYouTube
URL:https://tech.vegas/event/connect-learn-thrive-februarys-gathering-of-biohacking-minds/
LOCATION:Osteostrong\, 5752 S. Ft. Apache Suite 145\, Las Vegas\, NV\, 89148\, US
CATEGORIES:Health & Wellness
ATTACH;FMTTYPE=image/jpeg:https://tech.vegas/wp-content/uploads/2026/02/28439_image_highres_532543336.jpeg
ORGANIZER;CN="BioHacking Las Vegas":MAILTO:meetup-group-nlaubyap-announce@messages.meetup.com
END:VEVENT
BEGIN:VEVENT
DTSTART;TZID=America/Los_Angeles:20260122T173000
DTEND;TZID=America/Los_Angeles:20260122T203000
DTSTAMP:20260423T151539
CREATED:20260105T204848Z
LAST-MODIFIED:20260105T204848Z
UID:10006556-1769103000-1769113800@tech.vegas
SUMMARY:ACHE-101 & Meet the Nevada Chapter Board
DESCRIPTION:Meet your 2026 Nevada Chapter Board and Committee Chairs! Learn more about ACHE and how you can get involved!\n\n\nMeet the 2026 Nevada Chapter Board and Committee Chairs! Learn about ACHE and how you can get involved in your local chapter! Limited seating\, register now! \nZOOM link will be provided for those that register for virtual: \nRefreshments will be provided. \nFor over 85 years\, the American College of Healthcare Executives (ACHE) has focused on one mission—advancing leaders and the field of healthcare leadership excellence. We are the professional home to more than 48\,000 healthcare executives who are committed to integrity\, lifelong learning\, leadership and diversity and inclusion. \nConnect with your peers at the local level by joining ACHE-Nevada Chapter. Our chapter provides education programs\, networking opportunities\, leadership development and more!
URL:https://tech.vegas/event/ache-101-meet-the-nevada-chapter-board/
LOCATION:Servehzah Bottle Shop & Tap Room\, 640 East Deer Springs Way\, #110\, North Las Vegas\, NV\, 89086\, United States
CATEGORIES:Health & Wellness
ATTACH;FMTTYPE=image/jpeg:https://tech.vegas/wp-content/uploads/2026/01/82e4be2dc2903c12da8b32c5dd653f95.jpg
END:VEVENT
BEGIN:VEVENT
DTSTART;TZID=America/Los_Angeles:20260122T173000
DTEND;TZID=America/Los_Angeles:20260122T193000
DTSTAMP:20260423T151539
CREATED:20260105T184513Z
LAST-MODIFIED:20260105T184513Z
UID:10006554-1769103000-1769110200@tech.vegas
SUMMARY:Biohacking Las Vegas January Meetup: Kick Off 2026 with Community & Connection
DESCRIPTION:Join the vibrant Biohacking Las Vegas community for our first meetup of 2026 on Wednesday\, January 22\, at 5:30 PM! \nThis is your chance to start the new year strong by connecting with like-minded biohackers\, sharing experiences\, swapping tips on longevity\, performance optimization\, and cutting-edge health strategies\, and building lasting relationships within our growing local community. \nWhether you’re a veteran biohacker or just curious and getting started\, everyone is welcome. Come ready to network\, learn from each other\, and get inspired for an epic year of health and human potential. \nLet’s make 2026 our best year yet! \nLocation: OsteoStrong Gramercy Commons\, 5752 South Fort Apache Road\, Las Vegas. See you there!
URL:https://tech.vegas/event/biohacking-las-vegas-january-meetup-kick-off-2026-with-community-connection/
LOCATION:Osteostrong\, 5752 S. Ft. Apache Suite 145\, Las Vegas\, NV\, 89148\, US
CATEGORIES:Health & Wellness
ATTACH;FMTTYPE=image/jpeg:https://tech.vegas/wp-content/uploads/2026/01/27688_image_highres_531985708-scaled.jpeg
ORGANIZER;CN="BioHacking Las Vegas":MAILTO:meetup-group-nlaubyap-announce@messages.meetup.com
END:VEVENT
BEGIN:VEVENT
DTSTART;TZID=America/Los_Angeles:20260114T120000
DTEND;TZID=America/Los_Angeles:20260114T140000
DTSTAMP:20260423T151539
CREATED:20260105T204847Z
LAST-MODIFIED:20260105T204847Z
UID:10006555-1768392000-1768399200@tech.vegas
SUMMARY:Meet the Chiefs: Dignity Health
DESCRIPTION:Join ACHE Nevada in meeting the Market CEO of Dignity Health\, Katherine Vergos\, and her leadership team.\n\n\nWe have an exciting opportunity to meet Katherine Vergos the Market CEO of the Dignity Health System in Las Vegas and her leadership team throughout different areas of the hospital. We will learn about Dignity Health’s capabilities and how they will meet the needs of the surrounding community. Light bites and facility tours will be provided.
URL:https://tech.vegas/event/meet-the-chiefs-dignity-health/
LOCATION:Dignity Health – St. Rose Dominican Hospital\, San Martin Campus – Las Vegas\, NV\, 8280 West Warm Springs Road\, Las Vegas\, NV\, 89113\, United States
CATEGORIES:Health & Wellness
ATTACH;FMTTYPE=image/jpeg:https://tech.vegas/wp-content/uploads/2026/01/b56039f9cca6d0835c07bcf6c3487022.jpg
END:VEVENT
BEGIN:VEVENT
DTSTART;TZID=America/Los_Angeles:20251023T070000
DTEND;TZID=America/Los_Angeles:20251023T190000
DTSTAMP:20260423T151539
CREATED:20251002T082206Z
LAST-MODIFIED:20251002T082208Z
UID:10006276-1761202800-1761246000@tech.vegas
SUMMARY:18th Annual Nevada Health Care Forum
DESCRIPTION:The Nevada Healthcare Forum is a premier educational event for healthcare professionals in Nevada. It brings together a diverse group of industry leaders\, including providers\, executives\, government officials\, and academics\, to discuss the latest trends and challenges in the healthcare sector. The forum features presentations from nationally recognized experts who cover a wide range of topics\, such as healthcare reform\, technology\, and patient engagement. The next event will be held on October 23\, 2025\, at the Westgate Las Vegas Resort & Casino.
URL:https://tech.vegas/event/18th-annual-nevada-health-care-forum/
LOCATION:Westgate Las Vegas Resort & Casino\, 3000 Paradise Rd Las Vegas\, NV 89109 United States Las Vegas\,
CATEGORIES:Health & Wellness,Networking
ATTACH;FMTTYPE=image/png:https://tech.vegas/wp-content/uploads/2025/10/image-1.png
END:VEVENT
END:VCALENDAR