BEGIN:VCALENDAR
VERSION:2.0
PRODID:-//Tech.Vegas - ECPv6.15.20//NONSGML v1.0//EN
CALSCALE:GREGORIAN
METHOD:PUBLISH
X-WR-CALNAME:Tech.Vegas
X-ORIGINAL-URL:https://tech.vegas
X-WR-CALDESC:Events for Tech.Vegas
REFRESH-INTERVAL;VALUE=DURATION:PT1H
X-Robots-Tag:noindex
X-PUBLISHED-TTL:PT1H
BEGIN:VTIMEZONE
TZID:America/Los_Angeles
BEGIN:DAYLIGHT
TZOFFSETFROM:-0800
TZOFFSETTO:-0700
TZNAME:PDT
DTSTART:20250309T100000
END:DAYLIGHT
BEGIN:STANDARD
TZOFFSETFROM:-0700
TZOFFSETTO:-0800
TZNAME:PST
DTSTART:20251102T090000
END:STANDARD
BEGIN:DAYLIGHT
TZOFFSETFROM:-0800
TZOFFSETTO:-0700
TZNAME:PDT
DTSTART:20260308T100000
END:DAYLIGHT
BEGIN:STANDARD
TZOFFSETFROM:-0700
TZOFFSETTO:-0800
TZNAME:PST
DTSTART:20261101T090000
END:STANDARD
BEGIN:DAYLIGHT
TZOFFSETFROM:-0800
TZOFFSETTO:-0700
TZNAME:PDT
DTSTART:20270314T100000
END:DAYLIGHT
BEGIN:STANDARD
TZOFFSETFROM:-0700
TZOFFSETTO:-0800
TZNAME:PST
DTSTART:20271107T090000
END:STANDARD
END:VTIMEZONE
BEGIN:VEVENT
DTSTART;TZID=America/Los_Angeles:20260418T000000
DTEND;TZID=America/Los_Angeles:20260422T235959
DTSTAMP:20260420T095558
CREATED:20260114T105850Z
LAST-MODIFIED:20260114T105853Z
UID:10006578-1776470400-1776902399@tech.vegas
SUMMARY:NAB Show
DESCRIPTION:NAB Show \n\n\n\nApril 18–22\, 2026 | Las Vegas Convention CenterThe Global Stage for Media\, Entertainment and Storytelling \n\n\n\nFrom next-gen workflows and AI to monetization and global reach\, this is media and entertainment’s flagship event for breakthrough tech\, major deals and global visibility.Why Attend? \n\n\n\nBuild meaningful connections with a global community of content creators. \n\n\n\nDiscover how emerging tools are shaping media and entertainment \n\n\n\nExperience the latest in AI\, XR\, cloud and live production \n\n\n\nGet hands-on with solutions spanning content creation to monetization \n\n\n\nLearn from industry leaders across film\, TV\, streaming and sportsWhy Exhibit? \n\n\n\nClose high-value deals with a cross-sector buyer base \n\n\n\nMeet decision-makers from top media brands and content platforms \n\n\n\nLaunch products and showcase solutions on the biggest stage in media tech \n\n\n\nAccess premium placement\, turnkey packages and lead gen tools
URL:https://tech.vegas/event/nab-show/
CATEGORIES:Featured,Networking
ATTACH;FMTTYPE=image/png:https://tech.vegas/wp-content/uploads/2026/01/image-12.png
END:VEVENT
END:VCALENDAR