BEGIN:VCALENDAR
VERSION:2.0
PRODID:-//Tech.Vegas - ECPv6.15.20//NONSGML v1.0//EN
CALSCALE:GREGORIAN
METHOD:PUBLISH
X-WR-CALNAME:Tech.Vegas
X-ORIGINAL-URL:https://tech.vegas
X-WR-CALDESC:Events for Tech.Vegas
REFRESH-INTERVAL;VALUE=DURATION:PT1H
X-Robots-Tag:noindex
X-PUBLISHED-TTL:PT1H
BEGIN:VTIMEZONE
TZID:America/Los_Angeles
BEGIN:DAYLIGHT
TZOFFSETFROM:-0800
TZOFFSETTO:-0700
TZNAME:PDT
DTSTART:20250309T100000
END:DAYLIGHT
BEGIN:STANDARD
TZOFFSETFROM:-0700
TZOFFSETTO:-0800
TZNAME:PST
DTSTART:20251102T090000
END:STANDARD
BEGIN:DAYLIGHT
TZOFFSETFROM:-0800
TZOFFSETTO:-0700
TZNAME:PDT
DTSTART:20260308T100000
END:DAYLIGHT
BEGIN:STANDARD
TZOFFSETFROM:-0700
TZOFFSETTO:-0800
TZNAME:PST
DTSTART:20261101T090000
END:STANDARD
BEGIN:DAYLIGHT
TZOFFSETFROM:-0800
TZOFFSETTO:-0700
TZNAME:PDT
DTSTART:20270314T100000
END:DAYLIGHT
BEGIN:STANDARD
TZOFFSETFROM:-0700
TZOFFSETTO:-0800
TZNAME:PST
DTSTART:20271107T090000
END:STANDARD
END:VTIMEZONE
BEGIN:VEVENT
DTSTART;TZID=America/Los_Angeles:20260416T170000
DTEND;TZID=America/Los_Angeles:20260416T193000
DTSTAMP:20260420T095558
CREATED:20260408T155720Z
LAST-MODIFIED:20260408T155720Z
UID:10007001-1776358800-1776367800@tech.vegas
SUMMARY:Entrepreneurship & Small Business Creation
DESCRIPTION:in Southern Nevada \n\n\n		\n					 \n					\n				 @ 			\n			\n							 \n\n\nHe’ll join experts from a variety of industries for a conversation on the region’s startup economy: \n🔹Len Jessup\, Managing Partner\, Desert Forge Ventures and Fellow\, The Lincy Institute at UNLV🔹Zachary Miles\, Esq.\, Interim Vice President for UNLV Office of Economic Development & Executive Director\, UNLV Research Foundation🔹Eric Sanchez\, CEO & Co-Founder\, X2L Bio – Las Vegas🔹Lorraine Yarde\, Founder\, Innovation Henderson \nJoin us at Bad Beat Brewing in the Arts District starting at 5 p.m. – reserve your ticket today: https://lnkd.in/ga-nhu9T \n\n		\n\n\nUNLV Center for Business and Economic Research\n \nView Organizer Website \n \n\n\n\n\n\n \n\n\n\n\n\n						\n	\n	\n\n						\n							Add to calendar						\n						\n	\n\n					\n\n\n\n									\n										Google Calendar									\n								\n\n									\n										iCalendar									\n								\n\n									\n										Outlook 365									\n								\n\n									\n										Outlook Live
URL:https://tech.vegas/event/entrepreneurship-small-business-creation/
LOCATION:TBD\, Las Vegas
CATEGORIES:Featured,Government & Education,Las Vegas Business,Networking
ATTACH;FMTTYPE=image/png:https://tech.vegas/wp-content/uploads/2026/04/image-19-3XfwFp.png
END:VEVENT
END:VCALENDAR