BEGIN:VCALENDAR
VERSION:2.0
PRODID:-//Tech.Vegas - ECPv6.15.20//NONSGML v1.0//EN
CALSCALE:GREGORIAN
METHOD:PUBLISH
X-WR-CALNAME:Tech.Vegas
X-ORIGINAL-URL:https://tech.vegas
X-WR-CALDESC:Events for Tech.Vegas
REFRESH-INTERVAL;VALUE=DURATION:PT1H
X-Robots-Tag:noindex
X-PUBLISHED-TTL:PT1H
BEGIN:VTIMEZONE
TZID:America/Los_Angeles
BEGIN:DAYLIGHT
TZOFFSETFROM:-0800
TZOFFSETTO:-0700
TZNAME:PDT
DTSTART:20250309T100000
END:DAYLIGHT
BEGIN:STANDARD
TZOFFSETFROM:-0700
TZOFFSETTO:-0800
TZNAME:PST
DTSTART:20251102T090000
END:STANDARD
BEGIN:DAYLIGHT
TZOFFSETFROM:-0800
TZOFFSETTO:-0700
TZNAME:PDT
DTSTART:20260308T100000
END:DAYLIGHT
BEGIN:STANDARD
TZOFFSETFROM:-0700
TZOFFSETTO:-0800
TZNAME:PST
DTSTART:20261101T090000
END:STANDARD
BEGIN:DAYLIGHT
TZOFFSETFROM:-0800
TZOFFSETTO:-0700
TZNAME:PDT
DTSTART:20270314T100000
END:DAYLIGHT
BEGIN:STANDARD
TZOFFSETFROM:-0700
TZOFFSETTO:-0800
TZNAME:PST
DTSTART:20271107T090000
END:STANDARD
END:VTIMEZONE
BEGIN:VEVENT
DTSTART;TZID=America/Los_Angeles:20260319T073000
DTEND;TZID=America/Los_Angeles:20260319T210000
DTSTAMP:20260420T113118
CREATED:20260305T182446Z
LAST-MODIFIED:20260305T182446Z
UID:10006889-1773905400-1773954000@tech.vegas
SUMMARY:AI Meets Development: Shaping the Future of Southern Nevada
DESCRIPTION:@ 			\n			\n							 \n\n\nBreakfast ProgramThursday\, March 19\, 2026 \nAI Meets Development: Shaping the Future of Southern Nevada \nIndustry leaders discuss how artificial intelligence is shaping planning\, infrastructure\, gaming regulation\, and the next phase of regional growth. \n Program Speakers \n\n\n\n\nEarle Hall Chairman & CEOAxes AI\nMichael Lee SherwoodSenior Business ManagerState and Local GovernmentNVIDIA\n\n\n\n\nModeratorLen JessupManaging PartnerDesert Forge Ventures \n The Orleans Hotel & Casino4500 W Tropicana Road – 2nd Floor Convention AreaFrench Quarter BallroomLas Vegas\, NV 89103 \n7:30 am – Registration\, Networking & Breakfast8:00-9:15 Program with Q&A \nMember: $40 Advance Registration – $45 At the Door Non Member: $60 Advance Registration – $65 At the Door \n\n		\n\n\nNAIOP Southern Nevada Chapter\n \n 702.798.7194 \nView Organizer Website \ninfo@naiopnv.org \n \n\n\n\n\n\n \n\n\n\n\n\n						\n	\n	\n\n						\n							Add to calendar						\n						\n	\n\n					\n\n\n\n									\n										Google Calendar									\n								\n\n									\n										iCalendar									\n								\n\n									\n										Outlook 365									\n								\n\n									\n										Outlook Live
URL:https://tech.vegas/event/ai-meets-development-shaping-the-future-of-southern-nevada/
LOCATION:Orleans Hotel & Casino\, 4500 W Tropicana Road 2nd Floor Convention Area\, Las Vegas\, NV\, 89103\, United States
CATEGORIES:Featured,Professional Association,Real Estate & Construction,Technology
ATTACH;FMTTYPE=image/png:https://tech.vegas/wp-content/uploads/2026/03/image-1-ttOfNJ.png
ORGANIZER;CN="NAIOP Southern Nevada Chapter":MAILTO:info@naiopnv.org
END:VEVENT
END:VCALENDAR