BEGIN:VCALENDAR
VERSION:2.0
PRODID:-//Tech.Vegas - ECPv6.15.20//NONSGML v1.0//EN
CALSCALE:GREGORIAN
METHOD:PUBLISH
X-WR-CALNAME:Tech.Vegas
X-ORIGINAL-URL:https://tech.vegas
X-WR-CALDESC:Events for Tech.Vegas
REFRESH-INTERVAL;VALUE=DURATION:PT1H
X-Robots-Tag:noindex
X-PUBLISHED-TTL:PT1H
BEGIN:VTIMEZONE
TZID:America/Los_Angeles
BEGIN:DAYLIGHT
TZOFFSETFROM:-0800
TZOFFSETTO:-0700
TZNAME:PDT
DTSTART:20250309T100000
END:DAYLIGHT
BEGIN:STANDARD
TZOFFSETFROM:-0700
TZOFFSETTO:-0800
TZNAME:PST
DTSTART:20251102T090000
END:STANDARD
BEGIN:DAYLIGHT
TZOFFSETFROM:-0800
TZOFFSETTO:-0700
TZNAME:PDT
DTSTART:20260308T100000
END:DAYLIGHT
BEGIN:STANDARD
TZOFFSETFROM:-0700
TZOFFSETTO:-0800
TZNAME:PST
DTSTART:20261101T090000
END:STANDARD
BEGIN:DAYLIGHT
TZOFFSETFROM:-0800
TZOFFSETTO:-0700
TZNAME:PDT
DTSTART:20270314T100000
END:DAYLIGHT
BEGIN:STANDARD
TZOFFSETFROM:-0700
TZOFFSETTO:-0800
TZNAME:PST
DTSTART:20271107T090000
END:STANDARD
END:VTIMEZONE
BEGIN:VEVENT
DTSTART;TZID=America/Los_Angeles:20260221T080000
DTEND;TZID=America/Los_Angeles:20260221T170000
DTSTAMP:20260420T125756
CREATED:20250515T194733Z
LAST-MODIFIED:20251031T202742Z
UID:10005583-1771660800-1771693200@tech.vegas
SUMMARY:Tech Alley
DESCRIPTION:Tech Alley is a dynamic\, community-driven initiative based in Las Vegas\, dedicated to nurturing the local technology and startup ecosystem. It serves as a vibrant hub where entrepreneurs\, technologists\, and innovators converge to share knowledge\, collaborate\, and bring ideas to fruition. Through a variety of events\, educational workshops\, and mentorship programs\, Tech Alley fosters an inclusive and diverse environment that promotes growth and success in the tech and startup community. Regular meetups Downtown Las Vegas are on the third Saturday of each month. \n\n\n\nBeyond events\, Tech Alley offers avenues for continuous engagement and learning. It features groups focused on various aspects of entrepreneurship and technology\, including design and fundraising\, led by community leaders. Additionally\, Tech Alley provides access to resident experts in fields like cybersecurity\, fundraising\, business law\, SEO\, and blockchain\, offering valuable insights to help navigate the complexities of business and technology. By uniting people and fostering a creative class\, Tech Alley plays a pivotal role in strengthening communities and promoting an innovative technology and startup culture in Las Vegas.
URL:https://tech.vegas/event/tech-alley/2026-02-21/
LOCATION:Taverna Costera\, 1031 S Main St\, Las Vegas\, NV\, 89101\, us
CATEGORIES:Economic Development,Educational,Featured,Networking,Pitch/ Competition,Startups,Technology
ATTACH;FMTTYPE=image/jpeg:https://tech.vegas/wp-content/uploads/2025/05/tech-alley-banner.jpg
GEO:36.159767;-115.15288
X-APPLE-STRUCTURED-LOCATION;VALUE=URI;X-ADDRESS=Taverna Costera 1031 S Main St Las Vegas NV 89101 us;X-APPLE-RADIUS=500;X-TITLE=1031 S Main St:geo:-115.15288,36.159767
END:VEVENT
END:VCALENDAR