BEGIN:VCALENDAR
VERSION:2.0
PRODID:-//Tech.Vegas - ECPv6.15.20//NONSGML v1.0//EN
CALSCALE:GREGORIAN
METHOD:PUBLISH
X-ORIGINAL-URL:https://tech.vegas
X-WR-CALDESC:Events for Tech.Vegas
REFRESH-INTERVAL;VALUE=DURATION:PT1H
X-Robots-Tag:noindex
X-PUBLISHED-TTL:PT1H
BEGIN:VTIMEZONE
TZID:America/Los_Angeles
BEGIN:DAYLIGHT
TZOFFSETFROM:-0800
TZOFFSETTO:-0700
TZNAME:PDT
DTSTART:20250309T100000
END:DAYLIGHT
BEGIN:STANDARD
TZOFFSETFROM:-0700
TZOFFSETTO:-0800
TZNAME:PST
DTSTART:20251102T090000
END:STANDARD
BEGIN:DAYLIGHT
TZOFFSETFROM:-0800
TZOFFSETTO:-0700
TZNAME:PDT
DTSTART:20260308T100000
END:DAYLIGHT
BEGIN:STANDARD
TZOFFSETFROM:-0700
TZOFFSETTO:-0800
TZNAME:PST
DTSTART:20261101T090000
END:STANDARD
BEGIN:DAYLIGHT
TZOFFSETFROM:-0800
TZOFFSETTO:-0700
TZNAME:PDT
DTSTART:20270314T100000
END:DAYLIGHT
BEGIN:STANDARD
TZOFFSETFROM:-0700
TZOFFSETTO:-0800
TZNAME:PST
DTSTART:20271107T090000
END:STANDARD
END:VTIMEZONE
BEGIN:VEVENT
DTSTART;TZID=America/Los_Angeles:20260128T110000
DTEND;TZID=America/Los_Angeles:20260128T130000
DTSTAMP:20260420T125920
CREATED:20251229T185424Z
LAST-MODIFIED:20251229T185424Z
UID:10006531-1769598000-1769605200@tech.vegas
SUMMARY:2026 Economic Outlook:  Mapping the Market’s Next Move
DESCRIPTION:@ 			\n			\n							 \n\n\n2026 Economic Outlook: Mapping the Market’s Next Move \nWednesday\, January 28\, 2026 |  11:15 AM – 1:00 PM \nNOTE: New Start Times11:15 AM – Registration/Check-in11:45 AM – Program \nNew Year means New Coupon Code for Chapter Sponsors \nRegistration Deadline – 5:00 p.m.\, Friday\, January 23\, 2026 \n$65 – All payments made after the Registration Deadline or the day of the luncheon with or without Advance Registration. \n\n		\n\n\nSNCCIM\n \nView Organizer Website \n \n\n\n\n\n\n \n\n\n\n\n\n						\n	\n	\n\n						\n							Add to calendar						\n						\n	\n\n					\n\n\n\n									\n										Google Calendar									\n								\n\n									\n										iCalendar									\n								\n\n									\n										Outlook 365									\n								\n\n									\n										Outlook Live
URL:https://tech.vegas/event/2026-economic-outlook-mapping-the-markets-next-move/
LOCATION:Orleans Hotel & Casino\, 4500 W Tropicana Road 2nd Floor Convention Area\, Las Vegas\, NV\, 89103\, United States
CATEGORIES:Featured,Networking,Professional Association,Real Estate & Construction
ATTACH;FMTTYPE=image/png:https://tech.vegas/wp-content/uploads/2025/12/image-18-dAXMpy.png
END:VEVENT
END:VCALENDAR